Workbook
Name A_Obj1: OFFSET(#REF!,0,0,COUNTA(#REF!)-1,1)
Name A_Obj1: OFFSET(#REF!,0,0,COUNTA(#REF!)-1,1)
Name A_Obj1: OFFSET(#REF!,0,0,COUNTA(#REF!)-1,1)
Name A_Obj2: OFFSET(#REF!,0,0,COUNTA(#REF!)-1,1)
Name A_Obj2: OFFSET(#REF!,0,0,COUNTA(#REF!)-1,1)
Name A_Obj2: OFFSET(#REF!,0,0,COUNTA(#REF!)-1,1)
Name A_Obj3: OFFSET(#REF!,0,0,COUNTA(#REF!)-1,1)
Name A_Obj3: OFFSET(#REF!,0,0,COUNTA(#REF!)-1,1)
Name A_Obj3: OFFSET(#REF!,0,0,COUNTA(#REF!)-1,1)
Name A_Obj4: OFFSET(#REF!,0,0,COUNTA(#REF!)-1,1)
Name A_Obj4: OFFSET(#REF!,0,0,COUNTA(#REF!)-1,1)
Name A_Obj4: OFFSET(#REF!,0,0,COUNTA(#REF!)-1,1)
Name Acc_1: #REF!
Name Acc_1: #REF!
Name Acc_1: #REF!
Name Acc_2: #REF!
Name Acc_2: #REF!
Name Acc_2: #REF!
Name Acc_3: #REF!
Name Acc_3: #REF!
Name Acc_3: #REF!
Name Acc_4: #REF!
Name Acc_4: #REF!
Name Acc_4: #REF!
Name Acc_5: #REF!
Name Acc_5: #REF!
Name Acc_5: #REF!
Name Acc_6: #REF!
Name Acc_6: #REF!
Name Acc_6: #REF!
Name Acc_7: #REF!
Name Acc_7: #REF!
Name Acc_7: #REF!
Name Acc_8: #REF!
Name Acc_8: #REF!
Name Acc_8: #REF!
Name Acc_9: #REF!
Name Acc_9: #REF!
Name Acc_9: #REF!
Name Causafactor3: #REF!
Name ControlTipo: #REF!
Name Criterios_Impacto: Criterios[Criterios_Impacto]
Name Departamentos: #REF!
Name Departamentos: #REF!
Name Departamentos: #REF!
Name Fuentes: #REF!
Name Fuentes: #REF!
Name Fuentes: #REF!
Name Indicadores: #REF!
Name Indicadores: #REF!
Name Indicadores: #REF!
Name No_aplica: #REF!
Name No_aplica: #REF!
Name Objetivos: OFFSET(#REF!,0,0,COUNTA(#REF!)-1,1)
Name Objetivos: OFFSET(#REF!,0,0,COUNTA(#REF!)-1,1)
Name Objetivos: OFFSET(#REF!,0,0,COUNTA(#REF!)-1,1)
Name OLE_LINK2: 'CAMBIOS REGISTRO'!$A$1
Name Posibilidad: #REF!
Name RiesgoClase3: #REF!
Name SiNo: #REF!

Sheet PORTADA 
B2: Escuela Tecnológica Instituto Técnico Central Establecimiento Público de Educación Superior | D2: MAPA Y PLAN DE TRATAMIENTO DE RIESGOS | M2: CÓDIGO: GSI- CA-FO-09
M3: VERSIÓN: 9
M4: VIGENCIA: 2026-04-28
M5: PÁGINA: 1 de 1
D31: PREGUNTAR RIESGOS DE CORRUPCIÓN

Sheet CRITERIOS R CORRUPCION
B2: Escuela Tecnológica Instituto Técnico Central Establecimiento Público de Educación Superior | D2: CRITERIOS PARA CALIFICAR EL IMPACTO EN RIESGOS DE CORRUPCIÓN | E2: CÓDIGO:GSI- CA-FO-09
E3: VERSIÓN: 9
E4: VIGENCIA: 2026-04-28
A5: REGRESAR | E5: PÁGINA: 1 de 1
B7: ITEM | C7: Criterios para calificar el impacto en riesgos de corrupción | E7: MARACAR CON X
C9: Pregunta: ¿Si el riesgo de corrupción se materializa podría: | E9: SI | F9: NO
B10: 1 | C10: ¿Afectar al grupo de funcionarios del proceso? | E10: X
B11: 2 | C11: ¿Afectar el cumplimiento de metas y objetivos de la dependencia? | D11: ¿Afectar el cumplimiento de metas y objetivos de la dependencia? | E11: X
B12: 3 | C12: ¿Afectar el cumplimiento de misión de la entidad? | D12: ¿Afectar el cumplimiento de misión de la entidad? | E12: X
B13: 4 | C13: ¿Afectar el cumplimiento de la misión del sector al que pertenece la entidad? | D13: ¿Afectar el cumplimiento de misión del sector al que pertenece la entidad? | E13: X
B14: 5 | C14: ¿Generar perdida de confianza de la entidad , afectando su reputación? | D14: ¿Generar perdida de confianza de la entidad , afectando su reputación? | E14: X
B15: 6 | C15: ¿Generar perdida de recursos económicos? | D15: ¿Generar perdida de recursos económicos? | E15: X
B16: 7 | C16: ¿Afectar la generación de los productos o la prestación de los servicios? | D16: ¿Afectar la generación de los productos o la prestación de los servicios? | E16: X
B17: 8 | C17: ¿Dar lugar al detrimento de la calidad de vida de la comunidad por la perdida del bien, servicio o recursos públicos? | D17: ¿Dar lugar al detrimento de la calidad de vida de la comunidad por la perdida del bien, servicio o recursos públicos? | E17: X
B18: 9 | C18: ¿Generar pérdida de información de la entidad? | D18: ¿Generar pérdida de información de la entidad? | F18: X
B19: 10 | C19: ¿Generar intervención de los órganos de control, de la Fiscalia u otro ente? | D19: ¿Generar intervención de los órganos de control, de la Fiscalia u otro ente? | E19: X
B20: 11 | C20: ¿Dar lugar a procesos sancionatorios? | D20: ¿Dar lugar a procesos sancionatorios? | E20: X
B21: 12 | C21: ¿Dar lugar a procesos disciplinarios? | D21: ¿Dar lugar a procesos disciplinarios? | E21: X
B22: 13 | C22: ¿Dar lugar a procesos fiscales? | D22: ¿Dar lugar a procesos fiscales? | E22: X
B23: 14 | C23: ¿Dar lugar a procesos penales? | D23: ¿Dar lugar a procesos penales? | E23: X
B24: 15 | C24: ¿Generar pérdida de credibilidad del sector? | D24: ¿Generar pérdida de credibilidad del sector? | E24: X
B25: 16 | C25: ¿Ocasionar lesiones físicas o pérdida de vidas humanas? | D25: ¿Ocasionar lesiones físicas o pérdida de vidas humanas? | E25: X
B26: 17 | C26: ¿Afectar la imagen regional? | D26: ¿Afectar la imagen regional? | E26: X
B27: 18 | C27: ¿Afectar la imagen nacional? | D27: ¿Afectar la imagen nacional? | E27: X
B28: 19 | C28: ¿Generar daño ambiental? | D28: ¿Generar daño ambiental? | E28: X
E29: =COUNTIF(E10:E28,"x") -> 18 | F29: =COUNTIF(F10:F28,"x") -> 1 | G29: =IF(E29=0,"",IF(E29<=5,"Moderado",IF(E29<=11,"Mayor",IF(E29<=19,"Catastrófico","")))) -> Catastrófico
A31: Para la calificación del impacto de los riesgos clasificados con tipología de corrupción, se deberá responder las siguientes preguntas, con el fin de determinar el nivel de impacto del riesgo en caso de llegarse a materializar. Una vez responda las diecinueve (19) preguntas para cada uno de los riesgos de corrupción, automáticamente la presente hoja se establecerá el nivel de impacto del riesgo que se encuentra valorando, segun los rangos descritos a continuación:

Sheet Mapa final
D2: Escuela Tecnológica Instituto Técnico Central Establecimiento Público de Educación Superior | I2: MAPA DE RIESGOS | BD2: CÓDIGO:GSI- CA-FO-09
BD3: VERSIÓN: 9
BD4: VIGENCIA: 2026-04-28
BD5: PÁGINA: 1 de 1
D7: Proceso: | H7: GESTIÓN DE ADQUISICIONES
D8: Objetivo: | H8: Apoyar la adquisición de bienes y servicios requeridos por la Escuela Tecnológica Instituto Técnico Central.
D9: Alcance: | H9: Apoyo a las áreas de la Escuela Tecnológica Instituto Técnico Central para la selección objetiva, para la adquisición de bienes y/o servicios con el uso de las herramientas públicas de contratación.
A11: REGRESAR | D11: PRIMERA LÍNEA DE DEFENSA (Líder del Proceso) | AS11: PRIMERA LÍNEA DE DEFENSA MONITOREO | AZ11: SEGUNDA LÍNEA DE DEFENSA (Oficina asesora de Planeación) | BC11: TERCERA LÍNEA DE DEFENSA (Control Interno)
D12: Identificación del riesgo | P12: Análisis del riesgo inherente | V12: Evaluación del riesgo - Valoración de los controles | AF12: Documentación | AG12: Evaluación del riesgo - Nivel del riesgo residual | AO12: Plan de Tratamiento
D13: Referencia | E13: Tipo de Riesgo (Clasificación) | F13: Impacto | G13: Efecto Dañoso (Riesgo Fiscal) | H13: Factor | I13: Causa Inmediata | J13: Causa Raíz-Amenazas | K13: Descripción del Riesgo | L13: Clasificación del Riesgo | M13: Seguridad de la Información | O13: Frecuencia con la cual se realiza la actividad | P13: Probabilidad Inherente | Q13: % | R13: Criterios de impacto | S13: Impacto Inherente | T13: % | U13: Zona de Riesgo Inherente | V13: No. Control | W13: Descripción del Control Responsable+ Frecuencia+ Propósito+ Desviación | X13: Soportes del Control | Y13: Afectación | Z13: Atributos | AG13: Probabilidad Residual | AH13: Probabilidad Residual Final | AI13: % | AJ13: Impacto Residual Final | AK13: % | AL13: Zona de Riesgo Final | AM13: Tratamiento | AN13: No. Acciones | AO13: Acción | AP13: Responsable | AQ13: Evidencia de la Acción | AR13: Fecha Implementación | AS13: Fecha de Reporte | AT13: ¿El riesgo se materializó? | AU13: Avance de Ejecución de Control(es) | AV13: Evidencias de la ejecución del Control | AW13: Avance de Ejecución de Plan de Tratamiento | AX13: Evidencias de la ejecucióndel Plan de Tratamiento | AY13: Estado del Plan de Acción | AZ13: Fecha Seguimiento | BA13: Seguimiento | BB13: Ubicación de las evidencias | BC13: Fecha Seguimiento | BD13: Seguimiento y Evaluación
M14: Activo de información afectado | N14: Criterio afectado | Z14: Tipo | AA14: Implementación | AB14: Calificación | AC14: Documentación | AD14: Frecuencia | AE14: Evidencia
D15: 1 | E15: Corrupción | F15: Económico y Reputacional | G15: Recursos Públicos | H15: Talento humano | I15: favorecimiento indebido de oferentes durante la adjudicación de procesos contractuales, para beneficio propio o de terceros, | J15: aplicación subjetiva de criterios de evaluación y debilidades en los controles del proceso contractual. | K15: Posibilidad de afectación económica y reputacional por el favorecimiento indebido de oferentes durante la adjudicación de procesos contractuales, para beneficio propio o de terceros, debido a la aplicación subjetiva de criterios de evaluación y debilidades en los controles del proceso contractual. | L15: Fraude Interno | M15: Servicios | N15: Disponibilidad | O15: 375 | P15: =IF(O15<=0,"",IF(O15<=2,"Muy Baja",IF(O15<=24,"Baja",IF(O15<=500,"Media",IF(O15<=5000,"Alta","Muy Alta"))))) -> Media | Q15: =IF(P15="","",IF(P15="Muy Baja",0.2,IF(P15="Baja",0.4,IF(P15="Media",0.6,IF(P15="Alta",0.8,IF(P15="Muy Alta",1,)))))) -> 0.6 | R15: Catastrófico (Corrupción) | S15: =IFERROR(VLOOKUP(R15,Criterios[],2,FALSE),"") -> Catastrófico | T15: =IF(S15="","",IF(S15="Leve",0.2,IF(S15="Menor",0.4,IF(S15="Moderado",0.6,IF(S15="Mayor",0.8,IF(S15="Catastrófico",1,)))))) -> 1 | U15: =IF(OR(AND(P15="Muy Baja",S15="Leve"),AND(P15="Muy Baja",S15="Menor"),AND(P15="Baja",S15="Leve")),"Bajo",IF(OR(AND(P15="Muy baja",S15="Moderado"),AND(P15="Baja",S15="Menor"),AND(P15="Baja",S15="Moderado"),AND(P15="Media",S15="Leve"),AND(P15="Media",S15="Menor"),AND(P15="Media",S15="Moderado"),AND(P15="Alta",S15="Leve"),AND(P15="Alta",S15="Menor")),"Moderado",IF(OR(AND(P15="Muy Baja",S15="Mayor"),AND(P15="Baja",S15="Mayor"),AND(P15="Media",S15="Mayor"),AND(P15="Alta",S15="Moderado"),AND(P15="Alta",S15="Mayor"),AND(P15="Muy Alta",S15="Leve"),AND(P15="Muy Alta",S15="Menor"),AND(P15="Muy Alta",S15="Moderado"),AND(P15="Muy Alta",S15="Mayor")),"Alto",IF(OR(AND(P15="Muy Baja",S15="Catastrófico"),AND(P15="Baja",S15="Catastrófico"),AND(P15="Media",S15="Catastrófico"),AND(P15="Alta",S15="Catastrófico"),AND(P15="Muy Alta",S15="Catastrófico")),"Extremo","")))) -> Extremo | V15: 1 | W15: El líder del proceso de Adquisiciones, o quien este designe, verificará que, para cada proceso de contratación, con excepción de los procesos de prestación de servicios profesionales y de apoyo a la gestión (OPS) y de las órdenes de compra a través de la Tienda Virtual del Estado Colombiano (TVEC), se encuentre debidamente elaborada el acta del Comité de Contratación, en la cual conste la presentación de las evaluaciones realizadas por el Comité Evaluador designado para cada proceso. En dicha acta deberán quedar consignados los resultados parciales y finales de las evaluaciones, así como la votación de los miembros del Comité Evaluador respecto del sentido de la recomendación de adjudicar o no el proceso. Igualmente, deberá registrarse la decisión del ordenador del gasto de acoger o no la recomendación efectuada por el Comité Evaluador. En caso de identificarse dificultades técnicas, inconsistencias o cualquier circunstancia que imposibilite la realización de una evaluación objetiva del proceso contractual, esta situación deberá quedar expresamente consignada en el acta, junto con la decisión adoptada por el ordenador del gasto, de conformidad con las circunstancias advertidas. | X15: Acta de sesiones del Comité de Contratación en donde se presentaron las evaluaciones. Acto administrativo en caso de declaratoria de desierta | Y15: =IF(OR(Z15="Preventivo",Z15="Detectivo"),"Probabilidad",IF(Z15="Correctivo","Impacto","")) -> Probabilidad | Z15: Preventivo | AA15: Manual | AB15: =IF(AND(Z15="Preventivo",AA15="Automático"),"50%",IF(AND(Z15="Preventivo",AA15="Manual"),"40%",IF(AND(Z15="Detectivo",AA15="Automático"),"40%",IF(AND(Z15="Detectivo",AA15="Manual"),"30%",IF(AND(Z15="Correctivo",AA15="Automático"),"35%",IF(AND(Z15="Correctivo",AA15="Manual"),"25%","")))))) -> 40% | AC15: Documentado | AD15: Continua | AE15: Con Registro | AF15: GAD-PC-03 Contratación directa GAD-PC-04 Menor Cuantía GAD-PC-05 Subasta GAD-PC-10 Mínima cuantía | AG15: =IFERROR(IF(Y15="Probabilidad",Q15-(Q15*((AB15+AB16)/2)),IF(Y15="Impacto",Q15,"")),"") -> 0.36 | AH15: =IFERROR(IF(AG15="","",IF(AG15<=0.2,"Muy Baja",IF(AG15<=0.4,"Baja",IF(AG15<=0.6,"Media",IF(AG15<=0.8,"Alta","Muy Alta"))))),"") -> Baja | AI15: =+AG15 -> 0.36 | AJ15: =IFERROR(IF(AK15="","",IF(AK15<=0.2,"Leve",IF(AK15<=0.4,"Menor",IF(AK15<=0.6,"Moderado",IF(AK15<=0.8,"Mayor","Catastrófico"))))),"") -> Catastrófico | AK15: =IFERROR(IF(Y15="Impacto",(T15-(T15*((AB15+#REF!)/2))),IF(Y15="Probabilidad",T15,"")),"") -> 1 | AL15: =IFERROR(IF(OR(AND(AH15="Muy Baja",AJ15="Leve"),AND(AH15="Muy Baja",AJ15="Menor"), AND(AH15="Baja",AJ15="Leve") ),"Bajo",IF(OR(AND(AH15="Muy Baja",AJ15="Moderado"),AND(AH15="Baja",AJ15="Menor"), AND(AH15="Baja",AJ15="Moderado"),AND(AH15="Media",AJ15="Leve"), AND(AH15="Media",AJ15="Menor"), AND(AH15="Media",AJ15="Moderado"),AND(AH15="Alta",AJ15="Leve"), AND(AH15="Alta",AJ15="Menor") ), "Moderado", IF( OR( AND(AH15="Muy Baja",AJ15="Mayor"), AND(AH15="Alta",AJ15="Moderado"),AND(AH15="Alta",AJ15="Mayor"), AND(AH15="Muy Alta",AJ15="Leve"),AND(AH15="Muy Alta",AJ15="Menor"), AND(AH15="Muy Alta",AJ15="Moderado"), AND(AH15="Muy Alta",AJ15="Mayor"), AND(AH15="Baja",AJ15="Mayor"), AND(AH15="Media",AJ15="Mayor") ),"Alto", IF( AJ15="Catastrófico", "Extremo","" ) ) ) ), "") -> Extremo | AM15: Reducir (mitigar) | AN15: 1 | AO15: Realizar jornadas de capacitación dirigidas a funcionarios y contratistas sobre temas relacionados con normatividad contractual, principios de transparencia (estructuración de estudios previos), supervisión contractual, prevención de riesgos de corrupción en la contratación pública, etc | AP15: Profesional Especializado grado 15 de Contratación y /o quien este designe. | AQ15: Soportes de la capacitación | AR15: 46387
V16: 2 | W16: El profesional de Adquisiciones y/o quien este designe verifica,, en cada proceso contractual, el cumplimiento de los requisitos jurídicos, técnicos y financieros establecidos en los estudios previos, la normatividad vigente y el manual de contratación, mediante la aplicación de listas de chequeo y la validación de los soportes documentales requeridos, con el fin de garantizar la objetividad y transparencia en la selección y contratación de proveedores y contratistas. La ejecución del control se evidencia mediante estudios previos, listas de chequeo y documentos publicados en la plataforma transaccional correspondiente. En caso de identificar inconsistencias, ausencia de soportes o incumplimiento de requisitos habilitantes, se solicita la subsanación o ajuste correspondiente antes de continuar con el trámite contractual, dejando evidencia de las actuaciones realizadas. | X16: Listado con los procesos contractuales publicados en SECOP II y TVEC (expediente contractual que contiene estudios previos y documentos publicados en la plataforma transaccional correspondiente). Correo electrónico dirigido a la dependencia solicitante en caso de requerir subsanar los soportes para la contración | Y16: =IF(OR(Z16="Preventivo",Z16="Detectivo"),"Probabilidad",IF(Z16="Correctivo","Impacto","")) -> Probabilidad | Z16: Preventivo | AA16: Manual | AB16: =IF(AND(Z16="Preventivo",AA16="Automático"),"50%",IF(AND(Z16="Preventivo",AA16="Manual"),"40%",IF(AND(Z16="Detectivo",AA16="Automático"),"40%",IF(AND(Z16="Detectivo",AA16="Manual"),"30%",IF(AND(Z16="Correctivo",AA16="Automático"),"35%",IF(AND(Z16="Correctivo",AA16="Manual"),"25%","")))))) -> 40% | AC16: Documentado | AD16: Continua | AE16: Con Registro | AF16: GAD-PC-03 Contratación directa GAD-PC-11 Adquisición por Tienda Virtual del Estado Colombiano | AN16: 2 | AO16: Revisar la pertinencia de actualizar la documentación del proceso de Adquisiciones aplicables a los procesos contractuales de la entidad, realizando la gestión correspondiente para su actualización en el SIACET en los casos que se requiera | AP16: Profesional Especializado grado 15 de Contratación y /o quien este designe. | AQ16: Soportes de la revisión realizada y Documentos actualizados en el SIACET | AR16: 46387
D17: 2 | E17: Gestión | F17: Económico y Reputacional | G17: Recursos Públicos | H17: Procesos | I17: Deficiencias en la supervisión, seguimiento y cumplimiento de las obligaciones contractuales y legales asociadas a contratos y convenios institucionales | J17: Debilidades en la aplicación de lineamientos, controles internos y normatividad relacionada con la gestión contractual. | K17: Posibilidad de afectación económica y reputacional por deficiencias en el seguimiento y verificación del cumplimiento de las obligaciones contractuales y legales asociadas a contratos y convenios institucionales, debido a debilidades en la aplicación de lineamientos, controles internos y normatividad relacionada con la gestión contractual. | L17: Ejecucion y Administracion de procesos | M17: Servicios | N17: Integridad | O17: =+(270*11)+(105*4) -> 3390 | P17: =IF(O17<=0,"",IF(O17<=2,"Muy Baja",IF(O17<=24,"Baja",IF(O17<=500,"Media",IF(O17<=5000,"Alta","Muy Alta"))))) -> Alta | Q17: =IF(P17="","",IF(P17="Muy Baja",0.2,IF(P17="Baja",0.4,IF(P17="Media",0.6,IF(P17="Alta",0.8,IF(P17="Muy Alta",1,)))))) -> 0.8 | R17: Mayor a 500 SMLMV | S17: =IFERROR(VLOOKUP(R17,Criterios[],2,FALSE),"") -> Catastrófico | T17: =IF(S17="","",IF(S17="Leve",0.2,IF(S17="Menor",0.4,IF(S17="Moderado",0.6,IF(S17="Mayor",0.8,IF(S17="Catastrófico",1,)))))) -> 1 | U17: =IF(OR(AND(P17="Muy Baja",S17="Leve"),AND(P17="Muy Baja",S17="Menor"),AND(P17="Baja",S17="Leve")),"Bajo",IF(OR(AND(P17="Muy baja",S17="Moderado"),AND(P17="Baja",S17="Menor"),AND(P17="Baja",S17="Moderado"),AND(P17="Media",S17="Leve"),AND(P17="Media",S17="Menor"),AND(P17="Media",S17="Moderado"),AND(P17="Alta",S17="Leve"),AND(P17="Alta",S17="Menor")),"Moderado",IF(OR(AND(P17="Muy Baja",S17="Mayor"),AND(P17="Baja",S17="Mayor"),AND(P17="Media",S17="Mayor"),AND(P17="Alta",S17="Moderado"),AND(P17="Alta",S17="Mayor"),AND(P17="Muy Alta",S17="Leve"),AND(P17="Muy Alta",S17="Menor"),AND(P17="Muy Alta",S17="Moderado"),AND(P17="Muy Alta",S17="Mayor")),"Alto",IF(OR(AND(P17="Muy Baja",S17="Catastrófico"),AND(P17="Baja",S17="Catastrófico"),AND(P17="Media",S17="Catastrófico"),AND(P17="Alta",S17="Catastrófico"),AND(P17="Muy Alta",S17="Catastrófico")),"Extremo","")))) -> Extremo | V17: 1 | W17: El supervisor del contrato verifica, previo a la autorización de pagos, el cumplimiento de las obligaciones contractuales y la entrega de los bienes o servicios conforme a las condiciones pactadas, mediante la revisión de informes, soportes y evidencias de ejecución, con el fin de garantizar que los pagos se realicen conforme al cumplimiento efectivo del objeto contractual. La ejecución del control se evidencia mediante certificaciones de cumplimiento, informes de supervisión, cuentas de cobro y soportes contractuales correspondientes, verificables en el expediente contractual publicado en SECOP II. En caso de identificar inconsistencias, incumplimientos o soportes incompletos, se suspende el trámite de pago hasta que se subsanen las observaciones identificadas. | X17: Listado de los contratos en ejecución en SECOP II para la verificación de los registros de la supervisión (expediente contractual) | Y17: =IF(OR(Z17="Preventivo",Z17="Detectivo"),"Probabilidad",IF(Z17="Correctivo","Impacto","")) -> Probabilidad | Z17: Preventivo | AA17: Manual | AB17: =IF(AND(Z17="Preventivo",AA17="Automático"),"50%",IF(AND(Z17="Preventivo",AA17="Manual"),"40%",IF(AND(Z17="Detectivo",AA17="Automático"),"40%",IF(AND(Z17="Detectivo",AA17="Manual"),"30%",IF(AND(Z17="Correctivo",AA17="Automático"),"35%",IF(AND(Z17="Correctivo",AA17="Manual"),"25%","")))))) -> 40% | AC17: Documentado | AD17: Continua | AE17: Con Registro | AF17: GAD-PC-07 PROCEDIMIENTO DE SUPERVISIÓN E INTERVENTORÍA DE CONTRATOS | AG17: =IFERROR(IF(Y17="Probabilidad",Q17-(Q17*((AB17))),IF(Y17="Impacto",Q17,"")),"") -> 0.48 | AH17: =IFERROR(IF(AG17="","",IF(AG17<=0.2,"Muy Baja",IF(AG17<=0.4,"Baja",IF(AG17<=0.6,"Media",IF(AG17<=0.8,"Alta","Muy Alta"))))),"") -> Media | AI17: =+AG17 -> 0.48 | AJ17: =IFERROR(IF(AK17="","",IF(AK17<=0.2,"Leve",IF(AK17<=0.4,"Menor",IF(AK17<=0.6,"Moderado",IF(AK17<=0.8,"Mayor","Catastrófico"))))),"") -> Catastrófico | AK17: =IFERROR(IF(Y17="Impacto",(T17-(T17*((AB17+#REF!+#REF!+#REF!)/4))),IF(Y17="Probabilidad",T17,"")),"") -> 1 | AL17: =IFERROR(IF(OR(AND(AH17="Muy Baja",AJ17="Leve"),AND(AH17="Muy Baja",AJ17="Menor"), AND(AH17="Baja",AJ17="Leve") ),"Bajo",IF(OR(AND(AH17="Muy Baja",AJ17="Moderado"),AND(AH17="Baja",AJ17="Menor"), AND(AH17="Baja",AJ17="Moderado"),AND(AH17="Media",AJ17="Leve"), AND(AH17="Media",AJ17="Menor"), AND(AH17="Media",AJ17="Moderado"),AND(AH17="Alta",AJ17="Leve"), AND(AH17="Alta",AJ17="Menor") ), "Moderado", IF( OR( AND(AH17="Muy Baja",AJ17="Mayor"), AND(AH17="Alta",AJ17="Moderado"),AND(AH17="Alta",AJ17="Mayor"), AND(AH17="Muy Alta",AJ17="Leve"),AND(AH17="Muy Alta",AJ17="Menor"), AND(AH17="Muy Alta",AJ17="Moderado"), AND(AH17="Muy Alta",AJ17="Mayor"), AND(AH17="Baja",AJ17="Mayor"), AND(AH17="Media",AJ17="Mayor") ),"Alto", IF( AJ17="Catastrófico", "Extremo","" ) ) ) ), "") -> Extremo | AM17: Reducir (mitigar) | AN17: 1 | AO17: Desarrollar actividades de sensibilización sobre la importancia del seguimiento contractual, responsabilidad del supervisor y consecuencias derivadas del incumplimiento de obligaciones contractuales. | AP17: Profesional Especializado grado 15 de Contratación y /o quien este designe. | AQ17: Soportes de la capacitación | AR17: 46387
V18: 2 | W18: El profesional de Adquisiciones y/o quien este designe verifica, durante la estructuración y formalización de los procesos contractuales, que los estudios previos, las minutas y demás documentos contractuales incorporen de manera clara las obligaciones, productos, entregables, plazos, criterios de aceptación, mecanismos de seguimiento y condiciones para la modificación, suspensión o terminación del contrato, de acuerdo con la modalidad de contratación y la normatividad aplicable. La ejecución del control se evidencia mediante los estudios previos, matrices de riesgos, minutas y demás documentos que integran el expediente contractual. En caso de identificar obligaciones, entregables o criterios de verificación incompletos o inconsistentes, solicita al área responsable los ajustes correspondientes antes de continuar con el trámite contractual. | X18: Listado de los contratos en ejecución en SECOP II para la verificación del expediente contractual (estudios previos, matrices de riesgos, minutas y demás documentos que integran el expediente contractual) | Y18: =IF(OR(Z18="Preventivo",Z18="Detectivo"),"Probabilidad",IF(Z18="Correctivo","Impacto","")) -> Probabilidad | Z18: Preventivo | AA18: Manual | AB18: =IF(AND(Z18="Preventivo",AA18="Automático"),"50%",IF(AND(Z18="Preventivo",AA18="Manual"),"40%",IF(AND(Z18="Detectivo",AA18="Automático"),"40%",IF(AND(Z18="Detectivo",AA18="Manual"),"30%",IF(AND(Z18="Correctivo",AA18="Automático"),"35%",IF(AND(Z18="Correctivo",AA18="Manual"),"25%","")))))) -> 40% | AC18: Sin Documentar | AD18: Continua | AE18: Con Registro | AF18: Procedimientos de contratación aplicables según la modalidad. | AM18: Reducir (mitigar) | AN18: 2 | AO18: Revisar la pertinencia de actualizar y fortalecer los lineamientos y formatos utilizados para la estructuración de estudios previos y documentos contractuales, incorporando criterios mínimos para la definición de obligaciones, productos, entregables, criterios de aceptación, mecanismos de seguimiento y gestión de novedades contractuales, con el fin de facilitar la verificación posterior del cumplimiento por parte de los supervisores. | AP18: Profesional Especializado grado 15 de Contratación y /o quien este designe. | AQ18: Soportes de la revisión realizada y Documentos actualizados en el SIACET en los casos que corresponda | AR18: 46387
D19: 3 | E19: Gestión | F19: Económico y Reputacional | G19: Recursos Públicos | H19: Procesos | I19: interrupción o incumplimiento en la prestación de bienes y servicios contratados que afecten la continuidad de las actividades institucionales, | J19: debilidades en la identificación de necesidades de continuidad, la gestión de riesgos contractuales y el seguimiento a las obligaciones de los proveedores. | K19: Posibilidad de afectación económica y reputacional por interrupción o incumplimiento en la prestación de bienes y servicios contratados que afecten la continuidad de las actividades institucionales, debido a debilidades en la identificación de necesidades de continuidad, la gestión de riesgos contractuales y el seguimiento a las obligaciones de los proveedores. | L19: Ejecucion y Administracion de procesos | M19: Servicios | N19: Disponibilidad | O19: 375 | P19: =IF(O19<=0,"",IF(O19<=2,"Muy Baja",IF(O19<=24,"Baja",IF(O19<=500,"Media",IF(O19<=5000,"Alta","Muy Alta"))))) -> Media | Q19: =IF(P19="","",IF(P19="Muy Baja",0.2,IF(P19="Baja",0.4,IF(P19="Media",0.6,IF(P19="Alta",0.8,IF(P19="Muy Alta",1,)))))) -> 0.6 | R19: Mayor a 500 SMLMV | S19: =IFERROR(VLOOKUP(R19,Criterios[],2,FALSE),"") -> Catastrófico | T19: =IF(S19="","",IF(S19="Leve",0.2,IF(S19="Menor",0.4,IF(S19="Moderado",0.6,IF(S19="Mayor",0.8,IF(S19="Catastrófico",1,)))))) -> 1 | U19: =IF(OR(AND(P19="Muy Baja",S19="Leve"),AND(P19="Muy Baja",S19="Menor"),AND(P19="Baja",S19="Leve")),"Bajo",IF(OR(AND(P19="Muy baja",S19="Moderado"),AND(P19="Baja",S19="Menor"),AND(P19="Baja",S19="Moderado"),AND(P19="Media",S19="Leve"),AND(P19="Media",S19="Menor"),AND(P19="Media",S19="Moderado"),AND(P19="Alta",S19="Leve"),AND(P19="Alta",S19="Menor")),"Moderado",IF(OR(AND(P19="Muy Baja",S19="Mayor"),AND(P19="Baja",S19="Mayor"),AND(P19="Media",S19="Mayor"),AND(P19="Alta",S19="Moderado"),AND(P19="Alta",S19="Mayor"),AND(P19="Muy Alta",S19="Leve"),AND(P19="Muy Alta",S19="Menor"),AND(P19="Muy Alta",S19="Moderado"),AND(P19="Muy Alta",S19="Mayor")),"Alto",IF(OR(AND(P19="Muy Baja",S19="Catastrófico"),AND(P19="Baja",S19="Catastrófico"),AND(P19="Media",S19="Catastrófico"),AND(P19="Alta",S19="Catastrófico"),AND(P19="Muy Alta",S19="Catastrófico")),"Extremo","")))) -> Extremo | V19: 1 | W19: El supervisor o interventor del contrato verifica, con la periodicidad definida en el cronograma de seguimiento, la ejecución de las obligaciones contractuales que resulten críticas para la continuidad de los bienes o servicios contratados, mediante la revisión de informes de ejecución, soportes de cumplimiento y situaciones que puedan afectar la prestación del servicio, con el fin de identificar oportunamente desviaciones y gestionar las acciones necesarias para evitar interrupciones en la operación institucional. La ejecución del control se evidencia mediante informes de supervisión, certificaciones de cumplimiento y soportes de seguimiento incorporados al expediente contractual. En caso de identificar incumplimientos o situaciones que afecten la continuidad, el supervisor solicita al contratista las acciones correctivas correspondientes y comunica la situación al líder del proceso para la gestión contractual que resulte procedente. | X19: Listado de los contratos en ejecución en SECOP II para la verificación de los registros de la supervisión (informes de supervisión, certificaciones de cumplimiento y soportes de seguimiento incorporados al expediente contractual) | Y19: =IF(OR(Z19="Preventivo",Z19="Detectivo"),"Probabilidad",IF(Z19="Correctivo","Impacto","")) -> Probabilidad | Z19: Detectivo | AA19: Manual | AB19: =IF(AND(Z19="Preventivo",AA19="Automático"),"50%",IF(AND(Z19="Preventivo",AA19="Manual"),"40%",IF(AND(Z19="Detectivo",AA19="Automático"),"40%",IF(AND(Z19="Detectivo",AA19="Manual"),"30%",IF(AND(Z19="Correctivo",AA19="Automático"),"35%",IF(AND(Z19="Correctivo",AA19="Manual"),"25%","")))))) -> 30% | AC19: Sin Documentar | AD19: Continua | AE19: Con Registro | AF19: GAD-PC-07, Procedimiento de Supervisión e Interventoría de Contratos. | AG19: =IFERROR(IF(Y11="Probabilidad",Q11-(Q11*((AB19+#REF!+#REF!+AB20)/4)),IF(Y11="Impacto",Q11,"")),"") | AH19: =IFERROR(IF(AG19="","",IF(AG19<=0.2,"Muy Baja",IF(AG19<=0.4,"Baja",IF(AG19<=0.6,"Media",IF(AG19<=0.8,"Alta","Muy Alta"))))),"") | AI19: =+AG19 | AJ19: =IFERROR(IF(AK19="","",IF(AK19<=0.2,"Leve",IF(AK19<=0.4,"Menor",IF(AK19<=0.6,"Moderado",IF(AK19<=0.8,"Mayor","Catastrófico"))))),"") -> Catastrófico | AK19: =IFERROR(IF(Y19="Impacto",(T19-(T19*((AB19+#REF!+#REF!+AB20)/4))),IF(Y19="Probabilidad",T19,"")),"") -> 1 | AL19: =IFERROR(IF(OR(AND(AH19="Muy Baja",AJ19="Leve"),AND(AH19="Muy Baja",AJ19="Menor"), AND(AH19="Baja",AJ19="Leve") ),"Bajo",IF(OR(AND(AH19="Muy Baja",AJ19="Moderado"),AND(AH19="Baja",AJ19="Menor"), AND(AH19="Baja",AJ19="Moderado"),AND(AH19="Media",AJ19="Leve"), AND(AH19="Media",AJ19="Menor"), AND(AH19="Media",AJ19="Moderado"),AND(AH19="Alta",AJ19="Leve"), AND(AH19="Alta",AJ19="Menor") ), "Moderado", IF( OR( AND(AH19="Muy Baja",AJ19="Mayor"), AND(AH19="Alta",AJ19="Moderado"),AND(AH19="Alta",AJ19="Mayor"), AND(AH19="Muy Alta",AJ19="Leve"),AND(AH19="Muy Alta",AJ19="Menor"), AND(AH19="Muy Alta",AJ19="Moderado"), AND(AH19="Muy Alta",AJ19="Mayor"), AND(AH19="Baja",AJ19="Mayor"), AND(AH19="Media",AJ19="Mayor") ),"Alto", IF( AJ19="Catastrófico", "Extremo","" ) ) ) ), "") -> Extremo | AM19: Reducir (mitigar) | AN19: 1 | AO19: Revisar la pertinencia de actualizar los lineamientos de planeación y seguimiento contractual para incluir la identificación de bienes y servicios críticos, criterios de continuidad y alternativas de atención ante incumplimientos de proveedores. | AP19: Profesional Especializado grado 15 de Contratación y /o quien este designe. | AQ19: Soportes de revisión y actualización en el SIACET en los casos que corresponda | AR19: 46387
V20: 2 | W20: El profesional de Adquisiciones y/o quien este designe verifica, antes de la aprobación de las modificaciones contractuales que puedan afectar la continuidad de un bien o servicio crítico, que el supervisor haya documentado la situación que origina la modificación, el impacto sobre la prestación del servicio y la alternativa de atención requerida, con el fin de asegurar que las decisiones contractuales se adopten de manera oportuna y conforme a la normatividad vigente. La ejecución del control se evidencia mediante la solicitud de modificación contractual, el informe del supervisor y la modificación contractual suscrita y aprobada en SECOP II. En caso de identificar que la modificación no garantiza la continuidad o carece de justificación suficiente, el profesional solicita los ajustes o soportes necesarios antes de continuar con el trámite. | X20: Solicitud de modificación contractual Listado de los contratos en ejecución en SECOP II para la verificación de los registros (informe del supervisor y la modificación contractual suscrita y aprobada en SECOP II.) | Y20: =IF(OR(Z20="Preventivo",Z20="Detectivo"),"Probabilidad",IF(Z20="Correctivo","Impacto","")) -> Probabilidad | Z20: Preventivo | AA20: Manual | AB20: =IF(AND(Z20="Preventivo",AA20="Automático"),"50%",IF(AND(Z20="Preventivo",AA20="Manual"),"40%",IF(AND(Z20="Detectivo",AA20="Automático"),"40%",IF(AND(Z20="Detectivo",AA20="Manual"),"30%",IF(AND(Z20="Correctivo",AA20="Automático"),"35%",IF(AND(Z20="Correctivo",AA20="Manual"),"25%","")))))) -> 40% | AC20: Documentado | AD20: Continua | AE20: Con Registro | AF20: GAD-PC-06, Procedimiento de Modificaciones Contractuales, y GAD-FO-04, Solicitud de Adiciones, Prórrogas, Suspensiones y/o Modificaciones Contractuales | AN20: 2 | AO20: Apoyar en la coordinación de jornadas de sensibilización dirigidas a supervisores sobre identificación de riesgos de continuidad, seguimiento de obligaciones contractuales y gestión oportuna de incumplimientos. | AP20: Profesional Especializado grado 15 de Contratación y /o quien este designe. Desde el área de Adquisiciones se considera que esta actividad puede desarrollarse de manera articulada con la Oficina Asesora de Planeación, teniendo en cuenta que desde dicha dependencia se pueden brindar criterios técnicos relacionados con los riesgos de continuidad. Asimismo, se considera pertinente contar con la participación de Gestión Jurídica, en razón a que esta dependencia tiene a su cargo los asuntos relacionados con el régimen disciplinario de los supervisores, particularmente frente a posibles deficiencias en el ejercicio de sus funciones. | AQ20: Soportes de capacitación | AR20: 46387
D21: 4 | E21: Fiscal | F21: Económico y Reputacional | G21: Recursos Públicos | H21: Procesos | I21: Debilidades en la estimación de costos, la definición de especificaciones técnicas y la verificación de las condiciones económicas de los bienes y servicios requeridos. | J21: Insuficiente estandarización y articulación de los lineamientos para la estructuración de estudios previos y la validación de las necesidades institucionales. | K21: Posibilidad de pérdida de recursos públicos por adquisición de bienes y servicios a precios o condiciones que no correspondan a las necesidades institucionales, debido a debilidades en la estructuración de estudios previos, la estimación de costos y la definición de las condiciones técnicas y económicas de los procesos de contratación. | L21: Ejecucion y Administracion de procesos | M21: Servicios | N21: Disponibilidad | O21: 375 | P21: =IF(O21<=0,"",IF(O21<=2,"Muy Baja",IF(O21<=24,"Baja",IF(O21<=500,"Media",IF(O21<=5000,"Alta","Muy Alta"))))) -> Media | Q21: =IF(P21="","",IF(P21="Muy Baja",0.2,IF(P21="Baja",0.4,IF(P21="Media",0.6,IF(P21="Alta",0.8,IF(P21="Muy Alta",1,)))))) -> 0.6 | R21: Mayor a 500 SMLMV | S21: =IFERROR(VLOOKUP(R21,Criterios[],2,FALSE),"") -> Catastrófico | T21: =IF(S21="","",IF(S21="Leve",0.2,IF(S21="Menor",0.4,IF(S21="Moderado",0.6,IF(S21="Mayor",0.8,IF(S21="Catastrófico",1,)))))) -> 1 | U21: =IF(OR(AND(P21="Muy Baja",S21="Leve"),AND(P21="Muy Baja",S21="Menor"),AND(P21="Baja",S21="Leve")),"Bajo",IF(OR(AND(P21="Muy baja",S21="Moderado"),AND(P21="Baja",S21="Menor"),AND(P21="Baja",S21="Moderado"),AND(P21="Media",S21="Leve"),AND(P21="Media",S21="Menor"),AND(P21="Media",S21="Moderado"),AND(P21="Alta",S21="Leve"),AND(P21="Alta",S21="Menor")),"Moderado",IF(OR(AND(P21="Muy Baja",S21="Mayor"),AND(P21="Baja",S21="Mayor"),AND(P21="Media",S21="Mayor"),AND(P21="Alta",S21="Moderado"),AND(P21="Alta",S21="Mayor"),AND(P21="Muy Alta",S21="Leve"),AND(P21="Muy Alta",S21="Menor"),AND(P21="Muy Alta",S21="Moderado"),AND(P21="Muy Alta",S21="Mayor")),"Alto",IF(OR(AND(P21="Muy Baja",S21="Catastrófico"),AND(P21="Baja",S21="Catastrófico"),AND(P21="Media",S21="Catastrófico"),AND(P21="Alta",S21="Catastrófico"),AND(P21="Muy Alta",S21="Catastrófico")),"Extremo","")))) -> Extremo | V21: 1 | W21: El profesional de Adquisiciones y/o quien este designe verifica, previo a la aprobación de los estudios previos, la correspondencia entre la necesidad institucional, las especificaciones técnicas, las cantidades requeridas y el presupuesto estimado, mediante la revisión de los soportes de planeación y las cotizaciones o estudios de mercado correspondientes, con el fin de prevenir la estructuración de procesos contractuales que puedan generar mayores costos o adquisiciones innecesarias. La ejecución del control se evidencia mediante los estudios previos y las cotizaciones. En caso de identificar inconsistencias, solicita los ajustes necesarios antes de continuar con el trámite contractual. | X21: Listado de los contratos en ejecución en SECOP II para la verificación de los registros del expediente precontractual (estudios previos y las cotizaciones.) | Y21: =IF(OR(Z21="Preventivo",Z21="Detectivo"),"Probabilidad",IF(Z21="Correctivo","Impacto","")) -> Probabilidad | Z21: Preventivo | AA21: Manual | AB21: =IF(AND(Z21="Preventivo",AA21="Automático"),"50%",IF(AND(Z21="Preventivo",AA21="Manual"),"40%",IF(AND(Z21="Detectivo",AA21="Automático"),"40%",IF(AND(Z21="Detectivo",AA21="Manual"),"30%",IF(AND(Z21="Correctivo",AA21="Automático"),"35%",IF(AND(Z21="Correctivo",AA21="Manual"),"25%","")))))) -> 40% | AC21: Sin Documentar | AD21: Continua | AE21: Con Registro | AF21: GAD-PC-03, GAD-PC-04, GAD-PC-05, GAD-PC-10 y GAD-PC-11, según la modalidad de contratación; GAD-FO-05 y GAD-FO-20. | AG21: =IFERROR(IF(Y15="Probabilidad",Q15-(Q15*((AB21+#REF!+#REF!+#REF!)/4)),IF(Y15="Impacto",Q15,"")),"") | AH21: =IFERROR(IF(AG21="","",IF(AG21<=0.2,"Muy Baja",IF(AG21<=0.4,"Baja",IF(AG21<=0.6,"Media",IF(AG21<=0.8,"Alta","Muy Alta"))))),"") | AI21: =+AG21 | AJ21: =IFERROR(IF(AK21="","",IF(AK21<=0.2,"Leve",IF(AK21<=0.4,"Menor",IF(AK21<=0.6,"Moderado",IF(AK21<=0.8,"Mayor","Catastrófico"))))),"") -> Catastrófico | AK21: =IFERROR(IF(Y21="Impacto",(T21-(T21*((AB21+#REF!+#REF!+#REF!)/4))),IF(Y21="Probabilidad",T21,"")),"") -> 1 | AL21: =IFERROR(IF(OR(AND(AH21="Muy Baja",AJ21="Leve"),AND(AH21="Muy Baja",AJ21="Menor"), AND(AH21="Baja",AJ21="Leve") ),"Bajo",IF(OR(AND(AH21="Muy Baja",AJ21="Moderado"),AND(AH21="Baja",AJ21="Menor"), AND(AH21="Baja",AJ21="Moderado"),AND(AH21="Media",AJ21="Leve"), AND(AH21="Media",AJ21="Menor"), AND(AH21="Media",AJ21="Moderado"),AND(AH21="Alta",AJ21="Leve"), AND(AH21="Alta",AJ21="Menor") ), "Moderado", IF( OR( AND(AH21="Muy Baja",AJ21="Mayor"), AND(AH21="Alta",AJ21="Moderado"),AND(AH21="Alta",AJ21="Mayor"), AND(AH21="Muy Alta",AJ21="Leve"),AND(AH21="Muy Alta",AJ21="Menor"), AND(AH21="Muy Alta",AJ21="Moderado"), AND(AH21="Muy Alta",AJ21="Mayor"), AND(AH21="Baja",AJ21="Mayor"), AND(AH21="Media",AJ21="Mayor") ),"Alto", IF( AJ21="Catastrófico", "Extremo","" ) ) ) ), "") -> Extremo | AM21: Reducir (mitigar) | AN21: 1 | AO21: Diseñar, implementar y poner en funcionamiento un repositorio documental del proceso de Gestión de Adquisiciones que centralice y conserve los registros contractuales, financieros y de supervisión que soportan la ejecución, los pagos y la liquidación de los contratos, con el fin de fortalecer la trazabilidad y disponibilidad de la información necesaria para la verificación del cumplimiento contractual y la protección de los recursos públicos. | AP21: Profesional Especializado grado 15 de Contratación y /o quien este designe. | AQ21: Soportes de la creación e implemantación del repositorio documental | AR21: 46387
I22: *Nota: La columna referencia se sugiere para mantener el consecutivo de riesgos, así el riesgo salga del mapa no existirá otro riesgo con el mismo número. Una entidad puede ir en el riesgo 150 pero tener 70 riesgos, lo que permite llevar una traza de los riesgos. Esta información la debe administrar la Oficina Asesora de Planeación o Gerencia de Riesgos.
D25: LIDER DEL PROCESO: Hno. Ariosto Ardila Silva | BH25: Iniciada
P26: =+IFERROR(VLOOKUP(L26,$L$181:$P$185,3,FALSE)*VLOOKUP(O26,$O$181:$P$185,3,FALSE),"") | BH26: Sin iniciar
D27: CLASIF. DE CONFIDENCIALIDAD | K27: IPB | L27: CLASIF. DE INTEGRIDAD | S27: A | V27: CLASIF. DE DISPONIBILIDAD | Z27: 1 | BH27: cumplida
D28: Documento controlado por el Sistema de Gestión de la Calidad Asegúrese que corresponde a la última versión consultando el micrositio de calidad de la Escuela Tecnológica Instituto Técnico Central (ETITC) | BH28: Incumplida

Sheet Datos
A1: Criterios_Impacto | B1: Calificación
A2: Afectación menor a 10 SMLMV . | B2: Leve
A3: Entre 10 y 50 SMLMV | B3: Menor
A4: Entre 50 y 100 SMLMV | B4: Moderado
A5: Entre 100 y 500 SMLMV | B5: Mayor
A6: Mayor a 500 SMLMV | B6: Catastrófico
A7: El riesgo afecta la imagen de alguna área de la organización | B7: Leve
A8: El riesgo afecta la imagen de la entidad internamente, de conocimiento general, nivel interno, de junta dircetiva y accionistas y/o de provedores | B8: Menor
A9: El riesgo afecta la imagen de la entidad con algunos usuarios de relevancia frente al logro de los objetivos | B9: Moderado
A10: El riesgo afecta la imagen de de la entidad con efecto publicitario sostenido a nivel de sector administrativo, nivel departamental o municipal | B10: Mayor
A11: El riesgo afecta la imagen de la entidad a nivel nacional, con efecto publicitarios sostenible a nivel país | B11: Catastrófico
A12: Moderado (Corrupción) | B12: Moderado
... A14: Catastrófico (Corrupción) | B14: Catastrófico

Sheet Formulas
B1: Identificación del riesgo | L1: Evaluación del riesgo - Valoración de los controles
B2: 14. Tipología de riesgos que enmarcan la política de administración del riesgo | C2: 6.4. Identificación de áreas de factores de riesgo | D2: Impacto | E2: Efecto Dañoso (fiscal) | F2: FACTOR | G2: Clasificacion del riesgo | H2: Riesgo Materializado | I2: Activo de información | J2: Criterio | L2: Tipo | M2: Implementación | N2: Documentación | O2: Frecuencia | P2: Evidencia | Q2: Tratamiento | R2: Plan de accion (solo para la opción reducir)
B3: Gestión | C3: • Procesos | D3: Económico | E3: Recursos Públicos | F3: Evento externo | G3: Daños Activos Fisicos | H3: SI | I3: Información | J3: Confidencialidad | L3: Preventivo | M3: Automático | N3: Documentado | O3: Continua | P3: Registro Sustancial | Q3: Aceptar | R3: Finalizado
B4: Corrupción | C4: • Talento humano | D4: Reputacional | E4: Bienes Públicos | F4: Financiero | G4: Ejecucion y Administracion de procesos | H4: NO | I4: Software | J4: Disponibilidad | L4: Detectivo | M4: Manual | N4: Sin Documentar | O4: Aleatoria | P4: Registro Material | Q4: Evitar | R4: En curso
B5: Fiscal | C5: • Tecnología | D5: Económico y Reputacional | E5: Intereses Patrimoniales de Naturaleza Pública | F5: Infraestructura | G5: Fallas Tecnologicas | I5: Hardware | J5: Integridad | L5: Correctivo | P5: Sin registro | Q5: Reducir
B6: Seguridad de la Información | C6: • Infraestructura | F6: Procesos | G6: Fraude Externo | I6: Servicios | J6: NO APLICA | Q6: Reducir (mitigar)
C7: • Evento externo | F7: Talento humano | G7: Fraude Interno | I7: Intangibles | Q7: Reducir (compartir)
F8: Tecnología | G8: Relaciones Laborales | I8: Componentes de red
G9: Usuarios, productos y practicas , organizacionales | I9: Personas
I10: Instalaciones
I12: Instalaciones

Sheet Apayo Visual 
B2: Redaccion del Riesgo General
B30: Redaccion del Riesgo fiscal

Sheet eliminar
C2: CONTEXTO - DOFA
C4: DEBILIDADES | D4: ESTADO
C5: D1. Falta de disponibilidad de recurso humano contratado, con cobertura en las diferentes sedes, Seccionales, Extensiones, unidades Agroambientales y Oficinas de la Universidad, que garantice el apoyo continuó durante todo el período académico | D5: 1
C6: D2. Falta de conocimiento de la normatividad legal vigente, aplicable y actualizada, relacionada con aspectos e impactos ambientales asociados al desempeño ambiental institucional y de su respectivo seguimiento. | D6: 1
C7: D3. Falta de conocimiento, participación, de la totalidad de la comunidad universitaria y otras partes interesadas del Sistema de Gestión Ambiental, y las actividades de implementación del mismo, de la Política Ambiental y Programas ambientales del Plan Institucional de Gestión Ambiental PIGA. | D7: 1
C8: D4. Falta de compromiso y sentido de pertenencia con los temas ambientales por parte de algunos sectores de la comunidad universitaria y otras partes interesadas, reflejado en la falta de participación en actividades del SGA y de lineamientos ambientales. | D8: 1
C9: D5. Falta de articulación de los lineamientos del SGA con los procesos del Modelo de Operación Digital | D9: 1
C10: D6. Falta de articulación con la academia en temas ambientales, reflejado en el bajo porcentaje de cobertura del Sistema de Gestión de Ambiental respecto a los estudiantes en relación en relación al porcentaje que representan en la comunidad universitaria. | D10: 1
C11: D7. Falta de articulación de temas ambientales con el Plan de Emergencias Institucional | D11: 1
C12: D8. Falta de recursos disponibles de forma oportuna para el desarrollo y continuidad de actividades del Sistema de Gestión Ambiental. | D12: 1
C13: D9. Falta de recursos para desplazamientos del equipo del Sistema de Gestión Ambiental. | D13: 1
C14: D10. Incumplimiento del código de colores de clasificación de residuos institucional por desconocimiento, falta de conciencia ambiental y compromiso de parte de algunos sectores de la comunidad universitaria y otras partes interesadas, o por no contar con la totalidad de los dispositivos de almacenamiento requeridos. | D14: 1
D15: 1
C16: AMENAZAS
C17: A1. Prácticas ambientales inadecuadas por parte de vecinos de la comunidad circundante a las instalaciones de la Universidad, que puedan afectar su desempeño ambiental. | D17: 1
C18: A2. Afectación en el desarrollo de actividades presenciales o virtuales, internas y externas del SGA, debido al riesgo de contagio por virus que puedan alcanzar el nivel de pandemia | D18: 1
C19: A3. Falta de alcance en servicios públicos o de comunicación, y condiciones específicas de la infraestructura de algunas sedes. | D19: 1
C20: A4. Falta de participación de las partes interesadas externas en las actividades del Sistema de Gestión Ambiental. | D20: 1
C21: A5. Afectación de actividades del Sistema de Gestión ambiental internas o externas), y de recursos, elementos o insumos del Plan Institucional de Gestión Ambiental -PIGA, por alteraciones de orden público como manifestaciones, paros, disturbios y asonadas. | D21: 1
C22: A6. Afectación de fenómenos naturales (Cambio climático, fenómeno del niño y la niña, sismos, incendios, caída de árboles, Vendavales) y antrópicos (Orden publico y manifestaciones estudiantiles) que puedan afectar las instalaciones. | D22: 1
C23: A7. Sanciones o multas por incumplimiento legal | D23: 1
C24: A8. Rotación constante de personal en diferentes procesos | D24: 1
D25: 1
D26: 1
C27: FORTALEZAS
C28: F1.Compromiso de la alta Dirección para apoyar el proceso, reflejado en liderazgo de Directores Administrativos y del Rector.​ | D28: 1
C29: F2. Articulación del Sistema de Gestión Ambiental a nivel institucional en Sede, Seccionales y Extensiones. | D29: 1
C30: F3. Equipo de profesionales del Sistema de Gestión Ambiental con competencia y actitud propositiva en el proceso de planeación, implementación, seguimiento y preparación para los procesos de auditoría del SGA. | D30: 1
C31: F4. Disponibilidad de la documentación del Sistema de Gestión ambiental en el sitio web del Modelo de Operación digital, en el marco del PHVA: Caracterización, Política y Objetivos de Gestión Ambiental, Plan Institucional de Gestión Ambiental - PIGA y programas ambientales, Procedimientos, Formatos, Matrices y otros registros SGA. | D31: 1
C32: F5.Asignación de rubro para implementación y certificación del Sistema de Gestión Ambiental_ISO 14001:2015 a través del Proyecto UCundinamarca en Equilibrio con la Naturaleza. | D32: 1
C33: F6.Fortalecimiento de la cultura ambiental a nivel institucional a través del #Reto Ambientalmente en equilibrio con la naturaleza, eventos y capacitaciones ambientales. | D33: 1
C34: F7.Divulgación de la Gestión ambiental con la comunidad universitaria y otras partes interesadas a través de publicaciones y eventos en canales institucionales como la página web, la agencia de noticias, redes sociales, revistas digitales de las Seccionales, Extensiones y Periódico digital institucional. | D34: 1
C35: F8. Implementación del código de colores de clasificación de residuos con la instalación gradual de Unidades Técnicas de Almacenamiento Central -UTAC- y Puntos ecológicos en Sede, Seccionales y Extensiones. | D35: 1
C36: F9. Implementación de estrategias de sostenibilidad en la Sede, Seccionales y Extensiones, mediante la instalación de dispositivos de ahorro de agua y de energía como paneles fotovoltaicos e iluminación LED. | D36: 1
C37: F10.Articulación con los demás componentes del Sistema Integrado de Gestión como: SG SST, SGSI, SGC y con las diferentes procesos y dependencias. | D37: 1
C38: F11. Proceso de Medición de Huella de Carbono y reporte internacional de sostenibilidad GRI en articulación con Interacción Social Universitaria y diferentes dependencias relacionadas. | D38: 1
C39: F12. Articulación del Sistema de Gestión Ambiental como parte del proceso de formación para la vida de la comunidad universitaria, desde la dimensión naturaleza del Modelo de Educación Digital Transmoderno -MEDIT. | D39: 1
... C42: F15. Disponibilidad de canales institucionales para la comunicación de solicitudes, felicitaciones | D42: 1
C45: OPORTUNIDADES
C46: O1. Fortalecer la articulación del Sistema de Gestión ambiental, con las partes interesadas Internas y Externas de forma translocal a través de la cultura ambiental. | D46: 1
...

Sheet Matriz Calor Inherente
D2: Escuela Tecnológica Instituto Técnico Central Establecimiento Público de Educación Superior | L2: MAPA DE RIESGOS | AP2: CÓDIGO: GDC-FO-09
AP3: VERSIÓN: 9
AP4: VIGENCIA: 2026-04-28 | AQ4: VIGENCIA: 2024-08-22
AP5: PÁGINA: 1 de 1 | AQ5: PÁGINA: 1 de 1
D7: Matriz de Calor Inherente | L7: Impacto
A8: REGRESAR
D11: Probabilidad | G11: Muy Alta 100% | N11: =IF(AND('Mapa final'!$K$15="Muy Alta",'Mapa final'!$O$15="Leve"),CONCATENATE("R",'Mapa final'!#REF!),"") | P11: =IF(AND('Mapa final'!$K$21="Muy Alta",'Mapa final'!$O$21="Leve"),CONCATENATE("R",'Mapa final'!$A$21),"") | T11: =IF(AND('Mapa final'!$P$15="Muy Alta",'Mapa final'!$S$15="Menor"),CONCATENATE("R",'Mapa final'!#REF!),"") | V11: =IF(AND('Mapa final'!$P$21="Muy Alta",'Mapa final'!$S$21="Menor"),CONCATENATE("R",'Mapa final'!$A$21),"") | Z11: =IF(AND('Mapa final'!P$15="Muy Alta",'Mapa final'!$S$15="Moderado"),CONCATENATE("R",'Mapa final'!#REF!),"") | AB11: =IF(AND('Mapa final'!$P$21="Muy Alta",'Mapa final'!$S$21="Moderado"),CONCATENATE("R",'Mapa final'!$A$21),"") | AF11: =IF(AND('Mapa final'!$P$15="Muy Alta",'Mapa final'!$S$15="Mayor"),CONCATENATE("R",'Mapa final'!#REF!),"") | AH11: =IF(AND('Mapa final'!$P$21="Muy Alta",'Mapa final'!$S$21="Mayor"),CONCATENATE("R",'Mapa final'!$A$21),"") | AL11: =IF(AND('Mapa final'!$P$15="Muy Alta",'Mapa final'!$S$15="Catastrófico"),CONCATENATE("R",'Mapa final'!#REF!),"") | AN11: =IF(AND('Mapa final'!$P$21="Muy Alta",'Mapa final'!$S$21="Catastrófico"),CONCATENATE("R",'Mapa final'!$A$21),"") | AQ11: Extremo
L13: =IF(AND('Mapa final'!#REF!="Muy Alta",'Mapa final'!#REF!="Leve"),CONCATENATE("R",'Mapa final'!#REF!),"") -> #REF! | N13: =IF(AND('Mapa final'!#REF!="Muy Alta",'Mapa final'!#REF!="Leve"),CONCATENATE("R",'Mapa final'!#REF!),"") -> #REF! | P13: =IF(AND('Mapa final'!#REF!="Muy Alta",'Mapa final'!#REF!="Leve"),CONCATENATE("R",'Mapa final'!#REF!),"") -> #REF! | R13: =IF(AND('Mapa final'!#REF!="Muy Alta",'Mapa final'!#REF!="Menor"),CONCATENATE("R",'Mapa final'!#REF!),"") -> #REF! | T13: =IF(AND('Mapa final'!#REF!="Muy Alta",'Mapa final'!#REF!="Menor"),CONCATENATE("R",'Mapa final'!#REF!),"") -> #REF! | V13: =IF(AND('Mapa final'!#REF!="Muy Alta",'Mapa final'!#REF!="Menor"),CONCATENATE("R",'Mapa final'!#REF!),"") -> #REF! | X13: =IF(AND('Mapa final'!#REF!="Muy Alta",'Mapa final'!#REF!="Moderado"),CONCATENATE("R",'Mapa final'!#REF!),"") -> #REF! | Z13: =IF(AND('Mapa final'!#REF!="Muy Alta",'Mapa final'!#REF!="Moderado"),CONCATENATE("R",'Mapa final'!#REF!),"") -> #REF! | AB13: =IF(AND('Mapa final'!#REF!="Muy Alta",'Mapa final'!#REF!="Moderado"),CONCATENATE("R",'Mapa final'!#REF!),"") -> #REF! | AD13: =IF(AND('Mapa final'!#REF!="Muy Alta",'Mapa final'!#REF!="Mayor"),CONCATENATE("R",'Mapa final'!#REF!),"") -> #REF! | AF13: =IF(AND('Mapa final'!#REF!="Muy Alta",'Mapa final'!#REF!="Mayor"),CONCATENATE("R",'Mapa final'!#REF!),"") -> #REF! | AH13: =IF(AND('Mapa final'!#REF!="Muy Alta",'Mapa final'!#REF!="Mayor"),CONCATENATE("R",'Mapa final'!#REF!),"") -> #REF! | AJ13: =IF(AND('Mapa final'!#REF!="Muy Alta",'Mapa final'!#REF!="Catastrófico"),CONCATENATE("R",'Mapa final'!#REF!),"") -> #REF! | AL13: =IF(AND('Mapa final'!#REF!="Muy Alta",'Mapa final'!#REF!="Catastrófico"),CONCATENATE("R",'Mapa final'!#REF!),"") -> #REF! | AN13: =IF(AND('Mapa final'!#REF!="Muy Alta",'Mapa final'!#REF!="Catastrófico"),CONCATENATE("R",'Mapa final'!#REF!),"") -> #REF!
L15: =IF(AND('Mapa final'!#REF!="Muy Alta",'Mapa final'!#REF!="Leve"),CONCATENATE("R",'Mapa final'!#REF!),"") -> #REF! | N15: =IF(AND('Mapa final'!#REF!="Muy Alta",'Mapa final'!#REF!="Leve"),CONCATENATE("R",'Mapa final'!#REF!),"") -> #REF! | P15: =IF(AND('Mapa final'!$K$22="Muy Alta",'Mapa final'!$O$22="Leve"),CONCATENATE("R",'Mapa final'!$A$22),"") | R15: =IF(AND('Mapa final'!#REF!="Muy Alta",'Mapa final'!#REF!="Menor"),CONCATENATE("R",'Mapa final'!#REF!),"") -> #REF! | T15: =IF(AND('Mapa final'!#REF!="Muy Alta",'Mapa final'!#REF!="Menor"),CONCATENATE("R",'Mapa final'!#REF!),"") -> #REF! | V15: =IF(AND('Mapa final'!$P$22="Muy Alta",'Mapa final'!$S$22="Menor"),CONCATENATE("R",'Mapa final'!$A$22),"") | X15: =IF(AND('Mapa final'!#REF!="Muy Alta",'Mapa final'!#REF!="Moderado"),CONCATENATE("R",'Mapa final'!#REF!),"") -> #REF! | Z15: =IF(AND('Mapa final'!#REF!="Muy Alta",'Mapa final'!#REF!="Moderado"),CONCATENATE("R",'Mapa final'!#REF!),"") -> #REF! | AB15: =IF(AND('Mapa final'!$P$22="Muy Alta",'Mapa final'!$S$22="Moderado"),CONCATENATE("R",'Mapa final'!$A$22),"") | AD15: =IF(AND('Mapa final'!#REF!="Muy Alta",'Mapa final'!#REF!="Mayor"),CONCATENATE("R",'Mapa final'!#REF!),"") -> #REF! | AF15: =IF(AND('Mapa final'!#REF!="Muy Alta",'Mapa final'!#REF!="Mayor"),CONCATENATE("R",'Mapa final'!#REF!),"") -> #REF! | AH15: =IF(AND('Mapa final'!$P$22="Muy Alta",'Mapa final'!$S$22="Mayor"),CONCATENATE("R",'Mapa final'!$A$22),"") | AJ15: =IF(AND('Mapa final'!#REF!="Muy Alta",'Mapa final'!#REF!="Catastrófico"),CONCATENATE("R",'Mapa final'!#REF!),"") -> #REF! | AL15: =IF(AND('Mapa final'!#REF!="Muy Alta",'Mapa final'!#REF!="Catastrófico"),CONCATENATE("R",'Mapa final'!#REF!),"") -> #REF! | AN15: =IF(AND('Mapa final'!$P$22="Muy Alta",'Mapa final'!$S$22="Catastrófico"),CONCATENATE("R",'Mapa final'!$A$22),"")
L17: =IF(AND('Mapa final'!$P$23="Muy Alta",'Mapa final'!$S$23="Leve"),CONCATENATE("R",'Mapa final'!$A$23),"") | N17: =IF(AND('Mapa final'!$K$24="Muy Alta",'Mapa final'!$O$24="Leve"),CONCATENATE("R",'Mapa final'!$A$24),"") | P17: =IF(AND('Mapa final'!$K$25="Muy Alta",'Mapa final'!$O$25="Leve"),CONCATENATE("R",'Mapa final'!$A$25),"") | R17: =IF(AND('Mapa final'!$P$23="Muy Alta",'Mapa final'!$S$23="Menor"),CONCATENATE("R",'Mapa final'!$A$23),"") | T17: =IF(AND('Mapa final'!$P$24="Muy Alta",'Mapa final'!$S$24="Menor"),CONCATENATE("R",'Mapa final'!$A$24),"") | V17: =IF(AND('Mapa final'!$P$25="Muy Alta",'Mapa final'!$S$25="Menor"),CONCATENATE("R",'Mapa final'!$A$25),"") | X17: =IF(AND('Mapa final'!$P$23="Muy Alta",'Mapa final'!$S$23="Moderado"),CONCATENATE("R",'Mapa final'!$A$23),"") | Z17: =IF(AND('Mapa final'!$P$24="Muy Alta",'Mapa final'!$S$24="Moderado"),CONCATENATE("R",'Mapa final'!$A$24),"") | AB17: =IF(AND('Mapa final'!$P$25="Muy Alta",'Mapa final'!$S$25="Moderado"),CONCATENATE("R",'Mapa final'!$A$25),"") | AD17: =IF(AND('Mapa final'!$P$23="Muy Alta",'Mapa final'!$S$23="Mayor"),CONCATENATE("R",'Mapa final'!$A$23),"") | AF17: =IF(AND('Mapa final'!$P$24="Muy Alta",'Mapa final'!$S$24="Mayor"),CONCATENATE("R",'Mapa final'!$A$24),"") | AH17: =IF(AND('Mapa final'!$P$25="Muy Alta",'Mapa final'!$S$25="Mayor"),CONCATENATE("R",'Mapa final'!$A$25),"") | AJ17: =IF(AND('Mapa final'!$P$23="Muy Alta",'Mapa final'!$S$23="Catastrófico"),CONCATENATE("R",'Mapa final'!$A$23),"") | AL17: =IF(AND('Mapa final'!$P$24="Muy Alta",'Mapa final'!$S$24="Catastrófico"),CONCATENATE("R",'Mapa final'!$A$24),"") | AN17: =IF(AND('Mapa final'!$P$25="Muy Alta",'Mapa final'!$S$25="Catastrófico"),CONCATENATE("R",'Mapa final'!$A$25),"")
G19: Alta 80% | N19: =IF(AND('Mapa final'!$K$15="Alta",'Mapa final'!$O$15="Leve"),CONCATENATE("R",'Mapa final'!#REF!),"") | P19: =IF(AND('Mapa final'!$K$21="Alta",'Mapa final'!$O$21="Leve"),CONCATENATE("R",'Mapa final'!$A$21),"") | T19: =IF(AND('Mapa final'!$P$15="Alta",'Mapa final'!$S$15="Menor"),CONCATENATE("R",'Mapa final'!#REF!),"") | V19: =IF(AND('Mapa final'!$P$21="Alta",'Mapa final'!$S$21="Menor"),CONCATENATE("R",'Mapa final'!$A$21),"") | Z19: =IF(AND('Mapa final'!P$15="Alta",'Mapa final'!$S$15="Moderado"),CONCATENATE("R",'Mapa final'!#REF!),"") | AB19: =IF(AND('Mapa final'!$P$21="Alta",'Mapa final'!$S$21="Moderado"),CONCATENATE("R",'Mapa final'!$A$21),"") | AF19: =IF(AND('Mapa final'!$P$15="Alta",'Mapa final'!$S$15="Mayor"),CONCATENATE("R",'Mapa final'!#REF!),"") | AH19: =IF(AND('Mapa final'!$P$21="Alta",'Mapa final'!$S$21="Mayor"),CONCATENATE("R",'Mapa final'!$A$21),"") | AL19: =IF(AND('Mapa final'!$P$15="Alta",'Mapa final'!$S$15="Catastrófico"),CONCATENATE("R",'Mapa final'!#REF!),"") | AN19: =IF(AND('Mapa final'!$P$21="Alta",'Mapa final'!$S$21="Catastrófico"),CONCATENATE("R",'Mapa final'!$A$21),"") | AQ19: Alto
L21: =IF(AND('Mapa final'!#REF!="Alta",'Mapa final'!#REF!="Leve"),CONCATENATE("R",'Mapa final'!#REF!),"") -> #REF! | N21: =IF(AND('Mapa final'!#REF!="Alta",'Mapa final'!#REF!="Leve"),CONCATENATE("R",'Mapa final'!#REF!),"") -> #REF! | P21: =IF(AND('Mapa final'!#REF!="Alta",'Mapa final'!#REF!="Leve"),CONCATENATE("R",'Mapa final'!#REF!),"") -> #REF! | R21: =IF(AND('Mapa final'!#REF!="Alta",'Mapa final'!#REF!="Menor"),CONCATENATE("R",'Mapa final'!#REF!),"") -> #REF! | T21: =IF(AND('Mapa final'!#REF!="Alta",'Mapa final'!#REF!="Menor"),CONCATENATE("R",'Mapa final'!#REF!),"") -> #REF! | V21: =IF(AND('Mapa final'!#REF!="Alta",'Mapa final'!#REF!="Menor"),CONCATENATE("R",'Mapa final'!#REF!),"") -> #REF! | X21: =IF(AND('Mapa final'!#REF!="Alta",'Mapa final'!#REF!="Moderado"),CONCATENATE("R",'Mapa final'!#REF!),"") -> #REF! | Z21: =IF(AND('Mapa final'!#REF!="Alta",'Mapa final'!#REF!="Moderado"),CONCATENATE("R",'Mapa final'!#REF!),"") -> #REF! | AB21: =IF(AND('Mapa final'!#REF!="Alta",'Mapa final'!#REF!="Moderado"),CONCATENATE("R",'Mapa final'!#REF!),"") -> #REF! | AD21: =IF(AND('Mapa final'!#REF!="Alta",'Mapa final'!#REF!="Mayor"),CONCATENATE("R",'Mapa final'!#REF!),"") -> #REF! | AF21: =IF(AND('Mapa final'!#REF!="Alta",'Mapa final'!#REF!="Mayor"),CONCATENATE("R",'Mapa final'!#REF!),"") -> #REF! | AH21: =IF(AND('Mapa final'!#REF!="Alta",'Mapa final'!#REF!="Mayor"),CONCATENATE("R",'Mapa final'!#REF!),"") -> #REF! | AJ21: =IF(AND('Mapa final'!#REF!="Alta",'Mapa final'!#REF!="Catastrófico"),CONCATENATE("R",'Mapa final'!#REF!),"") -> #REF! | AL21: =IF(AND('Mapa final'!#REF!="Alta",'Mapa final'!#REF!="Catastrófico"),CONCATENATE("R",'Mapa final'!#REF!),"") -> #REF! | AN21: =IF(AND('Mapa final'!#REF!="Alta",'Mapa final'!#REF!="Catastrófico"),CONCATENATE("R",'Mapa final'!#REF!),"") -> #REF!
