Workbook
Name A_Obj1: OFFSET(#REF!,0,0,COUNTA(#REF!)-1,1)
Name A_Obj1: OFFSET(#REF!,0,0,COUNTA(#REF!)-1,1)
Name A_Obj1: OFFSET(#REF!,0,0,COUNTA(#REF!)-1,1)
Name A_Obj2: OFFSET(#REF!,0,0,COUNTA(#REF!)-1,1)
Name A_Obj2: OFFSET(#REF!,0,0,COUNTA(#REF!)-1,1)
Name A_Obj2: OFFSET(#REF!,0,0,COUNTA(#REF!)-1,1)
Name A_Obj3: OFFSET(#REF!,0,0,COUNTA(#REF!)-1,1)
Name A_Obj3: OFFSET(#REF!,0,0,COUNTA(#REF!)-1,1)
Name A_Obj3: OFFSET(#REF!,0,0,COUNTA(#REF!)-1,1)
Name A_Obj4: OFFSET(#REF!,0,0,COUNTA(#REF!)-1,1)
Name A_Obj4: OFFSET(#REF!,0,0,COUNTA(#REF!)-1,1)
Name A_Obj4: OFFSET(#REF!,0,0,COUNTA(#REF!)-1,1)
Name Acc_1: #REF!
Name Acc_1: #REF!
Name Acc_1: #REF!
Name Acc_2: #REF!
Name Acc_2: #REF!
Name Acc_2: #REF!
Name Acc_3: #REF!
Name Acc_3: #REF!
Name Acc_3: #REF!
Name Acc_4: #REF!
Name Acc_4: #REF!
Name Acc_4: #REF!
Name Acc_5: #REF!
Name Acc_5: #REF!
Name Acc_5: #REF!
Name Acc_6: #REF!
Name Acc_6: #REF!
Name Acc_6: #REF!
Name Acc_7: #REF!
Name Acc_7: #REF!
Name Acc_7: #REF!
Name Acc_8: #REF!
Name Acc_8: #REF!
Name Acc_8: #REF!
Name Acc_9: #REF!
Name Acc_9: #REF!
Name Acc_9: #REF!
Name Causafactor3: #REF!
Name ControlTipo: #REF!
Name Criterios_Impacto: Criterios[Criterios_Impacto]
Name Departamentos: #REF!
Name Departamentos: #REF!
Name Departamentos: #REF!
Name Fuentes: #REF!
Name Fuentes: #REF!
Name Fuentes: #REF!
Name Indicadores: #REF!
Name Indicadores: #REF!
Name Indicadores: #REF!
Name No_aplica: #REF!
Name No_aplica: #REF!
Name Objetivos: OFFSET(#REF!,0,0,COUNTA(#REF!)-1,1)
Name Objetivos: OFFSET(#REF!,0,0,COUNTA(#REF!)-1,1)
Name Objetivos: OFFSET(#REF!,0,0,COUNTA(#REF!)-1,1)
Name OLE_LINK2: 'CAMBIOS REGISTRO'!$A$1
Name Posibilidad: #REF!
Name RiesgoClase3: #REF!
Name SiNo: #REF!

Sheet PORTADA 
B2: Escuela Tecnológica Instituto Técnico Central Establecimiento Público de Educación Superior | D2: MAPA Y PLAN DE TRATAMIENTO DE RIESGOS | M2: CÓDIGO: GSI- CA-FO-09
M3: VERSIÓN: 9
M4: VIGENCIA: 2026-04-28
M5: PÁGINA: 1 de 1
D31: PREGUNTAR RIESGOS DE CORRUPCIÓN

Sheet Mapa final
D2: Escuela Tecnológica Instituto Técnico Central Establecimiento Público de Educación Superior | I2: MAPA DE RIESGOS | BD2: CÓDIGO:GSI- CA-FO-09
BD3: VERSIÓN: 9
BD4: VIGENCIA: 2026-04-28
BD5: PÁGINA: 1 de 1
D7: Proceso: | H7: GESTIÓN DOCUMENTAL
D8: Objetivo: | H8: Desarrollar las actividades administrativas y técnicas concernientes con la planificación de los procesos archivísticos en relación con la organización, administración, valoración y preservación de los documentos de archivo producidos y/o recibidos por la entidad en cumplimiento de sus funciones, con el fin de garantizar el acceso oportuno de la información, respondiendo de esta manera al cumplimiento de los fines institucionales
D9: Alcance: | H9: Desde la planeación de la función archivística de la entidad hasta el diseño, implementación, evaluación y mejora de la producción, tramite, organización, administración, preservación, hasta la difusión y acceso a la información pública y los documentos de archivo en la Escuela Tecnológica Instituto Técnico Central.
A11: REGRESAR | D11: PRIMERA LÍNEA DE DEFENSA (Líder del Proceso) | AS11: PRIMERA LÍNEA DE DEFENSA MONITOREO | AZ11: SEGUNDA LÍNEA DE DEFENSA (Oficina asesora de Planeación) | BC11: TERCERA LÍNEA DE DEFENSA (Control Interno)
D12: Identificación del riesgo | P12: Análisis del riesgo inherente | V12: Evaluación del riesgo - Valoración de los controles | AF12: Documentación | AG12: Evaluación del riesgo - Nivel del riesgo residual | AO12: Plan de Tratamiento
D13: Referencia | E13: Tipo de Riesgo (Clasificación) | F13: Impacto | G13: Efecto Dañoso (Riesgo Fiscal) | H13: Factor | I13: Causa Inmediata | J13: Causa Raíz-Amenazas | K13: Descripción del Riesgo | L13: Clasificación del Riesgo | M13: Seguridad de la Información | O13: Frecuencia con la cual se realiza la actividad | P13: Probabilidad Inherente | Q13: % | R13: Criterios de impacto | S13: Impacto Inherente | T13: % | U13: Zona de Riesgo Inherente | V13: No. Control | W13: Descripción del Control Responsable+ Frecuencia+ Propósito+ Desviación | X13: Soportes del Control | Y13: Afectación | Z13: Atributos | AG13: Probabilidad Residual | AH13: Probabilidad Residual Final | AI13: % | AJ13: Impacto Residual Final | AK13: % | AL13: Zona de Riesgo Final | AM13: Tratamiento | AN13: No. Acciones | AO13: Acción | AP13: Responsable | AQ13: Evidencia de la Acción | AR13: Fecha Implementación | AS13: Fecha de Reporte | AT13: ¿El riesgo se materializó? | AU13: Avance de Ejecución de Control(es) | AV13: Evidencias de la ejecución del Control | AW13: Avance de Ejecución de Plan de Tratamiento | AX13: Evidencias de la ejecucióndel Plan de Tratamiento | AY13: Estado del Plan de Acción | AZ13: Fecha Seguimiento | BA13: Seguimiento | BB13: Ubicación de las evidencias | BC13: Fecha Seguimiento | BD13: Seguimiento y Evaluación
M14: Activo de información afectado | N14: Criterio afectado | Z14: Tipo | AA14: Implementación | AB14: Calificación | AC14: Documentación | AD14: Frecuencia | AE14: Evidencia
D15: 1 | E15: Gestión | F15: Económico y Reputacional | G15: Bienes Públicos | H15: Procesos | I15: Incumplimiento de las disposiciones emanadas por parte del Archivo General de la Nación | J15: Debilidades en los controles establecidos para la administración de la Gestión Documental | K15: Posibilidad de afectación ecómica y reputacional por incumplimiento de las disposiciones emanadas por parte del Archivo General de la Nación, debido a debilidades en los controles establecidos para la administración de la Gestión Documental de la ETITC | L15: Ejecucion y Administracion de procesos | M15: Documental | N15: Integridad | O15: 10000 | P15: =IF(O15<=0,"",IF(O15<=2,"Muy Baja",IF(O15<=24,"Baja",IF(O15<=500,"Media",IF(O15<=5000,"Alta","Muy Alta"))))) -> Muy Alta | Q15: =IF(P15="","",IF(P15="Muy Baja",0.2,IF(P15="Baja",0.4,IF(P15="Media",0.6,IF(P15="Alta",0.8,IF(P15="Muy Alta",1,)))))) -> 1 | R15: El riesgo afecta la imagen de de la entidad con efecto publicitario sostenido a nivel de sector administrativo, nivel departamental o municipal | S15: =IFERROR(VLOOKUP(R15,Criterios[],2,FALSE),"") -> Mayor | T15: =IF(S15="","",IF(S15="Leve",0.2,IF(S15="Menor",0.4,IF(S15="Moderado",0.6,IF(S15="Mayor",0.8,IF(S15="Catastrófico",1,)))))) -> 0.8 | U15: =IF(OR(AND(P15="Muy Baja",S15="Leve"),AND(P15="Muy Baja",S15="Menor"),AND(P15="Baja",S15="Leve")),"Bajo",IF(OR(AND(P15="Muy baja",S15="Moderado"),AND(P15="Baja",S15="Menor"),AND(P15="Baja",S15="Moderado"),AND(P15="Media",S15="Leve"),AND(P15="Media",S15="Menor"),AND(P15="Media",S15="Moderado"),AND(P15="Alta",S15="Leve"),AND(P15="Alta",S15="Menor")),"Moderado",IF(OR(AND(P15="Muy Baja",S15="Mayor"),AND(P15="Baja",S15="Mayor"),AND(P15="Media",S15="Mayor"),AND(P15="Alta",S15="Moderado"),AND(P15="Alta",S15="Mayor"),AND(P15="Muy Alta",S15="Leve"),AND(P15="Muy Alta",S15="Menor"),AND(P15="Muy Alta",S15="Moderado"),AND(P15="Muy Alta",S15="Mayor")),"Alto",IF(OR(AND(P15="Muy Baja",S15="Catastrófico"),AND(P15="Baja",S15="Catastrófico"),AND(P15="Media",S15="Catastrófico"),AND(P15="Alta",S15="Catastrófico"),AND(P15="Muy Alta",S15="Catastrófico")),"Extremo","")))) -> Alto | V15: 1 | W15: El Técnico, Profesional o Contratista designado del Grupo de Gestión Documental realiza semestralmente mesas técnicas con las dependencias de la ETITC, mediante la revisión y socialización de los lineamientos, procedimientos y disposiciones aplicables en materia de gestión documental, además de aclarar las inquietudes que presenten las dependencias, con el fin de verificar el cumplimiento de las directrices establecidas por el Archivo General de la Nación y fortalecer la adecuada administración documental institucional. La ejecución del control se evidencia mediante registros de asistencia, actas de mesas técnicas, temas tratados y compromisos establecidos en los planes de trabajo definidos con las dependencias. En caso de identificar inconsistencias, incumplimientos o debilidades en la aplicación de los lineamientos de gestión documental, se establecen planes de trabajo y acciones de mejora con las dependencias involucradas, realizando seguimiento durante la vigencia y dejando evidencia de las actuaciones efectuadas. | X15: 1. Registros de asistencia 2. Actas de mesas técnicas con los temas tratados y compromisos establecidos | Y15: =IF(OR(Z15="Preventivo",Z15="Detectivo"),"Probabilidad",IF(Z15="Correctivo","Impacto","")) -> Probabilidad | Z15: Preventivo | AA15: Manual | AB15: =IF(AND(Z15="Preventivo",AA15="Automático"),"50%",IF(AND(Z15="Preventivo",AA15="Manual"),"40%",IF(AND(Z15="Detectivo",AA15="Automático"),"40%",IF(AND(Z15="Detectivo",AA15="Manual"),"30%",IF(AND(Z15="Correctivo",AA15="Automático"),"35%",IF(AND(Z15="Correctivo",AA15="Manual"),"25%","")))))) -> 40% | AC15: Documentado | AD15: Continua | AE15: Con Registro | AF15: GDO-PC-05 PROCEDIMIENTO PARA LA ADMINISTRACIÓN DE ARCHIVOS DE GESTIÓN | AG15: =IFERROR(IF(Y15="Probabilidad",(Q15-(+ Q15*AB15)),IF(Y15="Impacto",Q15,"")),"") -> 0.6 | AH15: =IFERROR(IF(AG15="","",IF(AG15<=0.2,"Muy Baja",IF(AG15<=0.4,"Baja",IF(AG15<=0.6,"Media",IF(AG15<=0.8,"Alta","Muy Alta"))))),"") -> Media | AI15: =+AG15 -> 0.6 | AJ15: =IFERROR(IF(AK15="","",IF(AK15<=0.2,"Leve",IF(AK15<=0.4,"Menor",IF(AK15<=0.6,"Moderado",IF(AK15<=0.8,"Mayor","Catastrófico"))))),"") -> Mayor | AK15: =IFERROR(IF(Y15="Impacto",(T15-(+T15*AB15)),IF(Y15="Probabilidad",T15,"")),"") -> 0.8 | AL15: =IFERROR(IF(OR(AND(AH15="Muy Baja",AJ15="Leve"),AND(AH15="Muy Baja",AJ15="Menor"),AND(AH15="Baja",AJ15="Leve")),"Bajo",IF(OR(AND(AH15="Muy baja",AJ15="Moderado"),AND(AH15="Baja",AJ15="Menor"),AND(AH15="Baja",AJ15="Moderado"),AND(AH15="Media",AJ15="Leve"),AND(AH15="Media",AJ15="Menor"),AND(AH15="Media",AJ15="Moderado"),AND(AH15="Alta",AJ15="Leve"),AND(AH15="Alta",AJ15="Menor")),"Moderado",IF(OR(AND(AH15="Muy Baja",AJ15="Mayor"),AND(AH15="Baja",AJ15="Mayor"),AND(AH15="Media",AJ15="Mayor"),AND(AH15="Alta",AJ15="Moderado"),AND(AH15="Alta",AJ15="Mayor"),AND(AH15="Muy Alta",AJ15="Leve"),AND(AH15="Muy Alta",AJ15="Menor"),AND(AH15="Muy Alta",AJ15="Moderado"),AND(AH15="Muy Alta",AJ15="Mayor")),"Alto",IF(OR(AND(AH15="Muy Baja",AJ15="Catastrófico"),AND(AH15="Baja",AJ15="Catastrófico"),AND(AH15="Media",AJ15="Catastrófico"),AND(AH15="Alta",AJ15="Catastrófico"),AND(AH15="Muy Alta",AJ15="Catastrófico")),"Extremo","")))),"") -> Alto | AM15: Reducir (mitigar) | AN15: 1 | AO15: Socializar a las dependencias las Tablas de Retención Documental (TRD) convalidadas por el AGN en el 2026 | AP15: Equipo de trabajo de Gestión Documental | AQ15: Actas de reunión | AR15: 46387
V16: 2 | W16: El Profesional o Contratista designado del Grupo de Gestión Documental realiza trimestralmente la verificación de las condiciones ambientales, de conservación y preservación documental en los espacios destinados al archivo institucional, mediante el seguimiento a los lineamientos establecidos en el Sistema Integrado de Conservación, con el fin de garantizar la adecuada protección, conservación y disponibilidad de la documentación institucional. La ejecución del control se evidencia mediante planillas de control de verificación de condiciones ambientales, de conservación y preservación realizados. En caso de identificar desviaciones, condiciones inadecuadas o riesgos que puedan afectar la conservación documental, se documentan las observaciones y se gestionan las medidas correctivas o acciones de mejora correspondientes para su evaluación y seguimiento, dejando evidencia de las actuaciones efectuadas. | X16: Planillas de control de verificación de condiciones ambientales, de conservación y preservación realizados. | Y16: =IF(OR(Z16="Preventivo",Z16="Detectivo"),"Probabilidad",IF(Z16="Correctivo","Impacto","")) -> Probabilidad | Z16: Preventivo | AA16: Manual | AB16: =IF(AND(Z16="Preventivo",AA16="Automático"),"50%",IF(AND(Z16="Preventivo",AA16="Manual"),"40%",IF(AND(Z16="Detectivo",AA16="Automático"),"40%",IF(AND(Z16="Detectivo",AA16="Manual"),"30%",IF(AND(Z16="Correctivo",AA16="Automático"),"35%",IF(AND(Z16="Correctivo",AA16="Manual"),"25%","")))))) -> 40% | AC16: Documentado | AD16: Continua | AE16: Con Registro | AF16: Sistema Integrado de Conservación | AG16: =IFERROR(IF(Y16="Probabilidad",(Q16-(+ Q16*AB16)),IF(Y16="Impacto",Q16,"")),"") -> 0 | AH16: =IFERROR(IF(AG16="","",IF(AG16<=0.2,"Muy Baja",IF(AG16<=0.4,"Baja",IF(AG16<=0.6,"Media",IF(AG16<=0.8,"Alta","Muy Alta"))))),"") -> Muy Baja | AI16: =+AG16 -> 0 | AJ16: =IFERROR(IF(AK16="","",IF(AK16<=0.2,"Leve",IF(AK16<=0.4,"Menor",IF(AK16<=0.6,"Moderado",IF(AK16<=0.8,"Mayor","Catastrófico"))))),"") -> Leve | AK16: =IFERROR(IF(Y16="Impacto",(T16-(+T16*AB16)),IF(Y16="Probabilidad",T14,"")),"") -> 0 | AL16: =IFERROR(IF(OR(AND(AH16="Muy Baja",AJ16="Leve"),AND(AH16="Muy Baja",AJ16="Menor"),AND(AH16="Baja",AJ16="Leve")),"Bajo",IF(OR(AND(AH16="Muy baja",AJ16="Moderado"),AND(AH16="Baja",AJ16="Menor"),AND(AH16="Baja",AJ16="Moderado"),AND(AH16="Media",AJ16="Leve"),AND(AH16="Media",AJ16="Menor"),AND(AH16="Media",AJ16="Moderado"),AND(AH16="Alta",AJ16="Leve"),AND(AH16="Alta",AJ16="Menor")),"Moderado",IF(OR(AND(AH16="Muy Baja",AJ16="Mayor"),AND(AH16="Baja",AJ16="Mayor"),AND(AH16="Media",AJ16="Mayor"),AND(AH16="Alta",AJ16="Moderado"),AND(AH16="Alta",AJ16="Mayor"),AND(AH16="Muy Alta",AJ16="Leve"),AND(AH16="Muy Alta",AJ16="Menor"),AND(AH16="Muy Alta",AJ16="Moderado"),AND(AH16="Muy Alta",AJ16="Mayor")),"Alto",IF(OR(AND(AH16="Muy Baja",AJ16="Catastrófico"),AND(AH16="Baja",AJ16="Catastrófico"),AND(AH16="Media",AJ16="Catastrófico"),AND(AH16="Alta",AJ16="Catastrófico"),AND(AH16="Muy Alta",AJ16="Catastrófico")),"Extremo","")))),"") -> Bajo | AN16: 2 | AO16: Realizar el diagnóstico y recopilación de información para el levantamiento de las Tablas de Valoración Documental (TVD) de la ETITC | AP16: Contratista de Gestión Documental | AQ16: Reporte de avance remitido por correo electrónico e informes de avance | AR16: 46387
V17: 3 | W17: El Técnico, Profesional o Contratista designado del Grupo de Gestión Documental verifica diariamente las solicitudes de consulta y/o préstamo de documentos físicos y digitalizados realizadas por las dependencias de la ETITC, mediante la validación de disponibilidad, estado de conservación, foliación, reserva documental y registro en el formato establecido GDO-FO-08 “Control de consulta y/o préstamo de expedientes”, con el fin de garantizar la trazabilidad, conservación, control y adecuada administración de la documentación institucional. La ejecución del control incluye el seguimiento a los tiempos de préstamo, solicitudes de prórroga, devolución y verificación de las condiciones de entrega de los documentos físicos, así como el suministro controlado de documentos digitalizados a través de los canales institucionales autorizados. La ejecución del control se evidencia mediante correos electrónicos de solicitud, registros diligenciados en el formato GDO-FO-08 "Control de consulta y/o préstamo de expedientes”, correos electrónicos con las solicitudes de prórroga para devolución de expedienes físicos inventarios documentales y soportes de entrega de documentación digitalizada. En caso de identificar inconsistencias en la documentación, incumplimiento en los tiempos de devolución, pérdida, deterioro o uso inadecuado de los documentos prestados, se registra la novedad, se informa a la dependencia responsable y se gestionan las acciones de seguimiento y recuperación correspondientes, dejando evidencia de las actuaciones realizadas. | X17: 1. Correos electrónicos de solicitud de préstamo de expedientes 2. Registros diligenciados en el formato GDO-FO-08 "Control de consulta y/o préstamo de expedientes” 3. Inventarios documentales 4. Soportes de entrega de documentación digitalizada. 5. Correos electrónicos con las solicitudes de prórroga para devolución de expedienes físicos | Y17: =IF(OR(Z17="Preventivo",Z17="Detectivo"),"Probabilidad",IF(Z17="Correctivo","Impacto","")) -> Probabilidad | Z17: Preventivo | AA17: Manual | AB17: =IF(AND(Z17="Preventivo",AA17="Automático"),"50%",IF(AND(Z17="Preventivo",AA17="Manual"),"40%",IF(AND(Z17="Detectivo",AA17="Automático"),"40%",IF(AND(Z17="Detectivo",AA17="Manual"),"30%",IF(AND(Z17="Correctivo",AA17="Automático"),"35%",IF(AND(Z17="Correctivo",AA17="Manual"),"25%","")))))) -> 40% | AC17: Documentado | AD17: Continua | AE17: Con Registro | AF17: GDO-PC-04 PROCEDIMIENTO PARA EL PRÉSTAMO Y/O CONSULTA DE EXPEDIENTES | AG17: =IFERROR(IF(Y17="Probabilidad",(Q14-(+ Q17*AB17)),IF(Y17="Impacto",Q17,"")),"") -> 0 | AH17: =IFERROR(IF(AG17="","",IF(AG17<=0.2,"Muy Baja",IF(AG17<=0.4,"Baja",IF(AG17<=0.6,"Media",IF(AG17<=0.8,"Alta","Muy Alta"))))),"") -> Muy Baja | AI17: =+AG17 -> 0 | AJ17: =IFERROR(IF(AK17="","",IF(AK17<=0.2,"Leve",IF(AK17<=0.4,"Menor",IF(AK17<=0.6,"Moderado",IF(AK17<=0.8,"Mayor","Catastrófico"))))),"") -> Leve | AK17: =IFERROR(IF(Y17="Impacto",(T17-(+T17*AB17)),IF(Y17="Probabilidad",T14,"")),"") -> 0 | AL17: =IFERROR(IF(OR(AND(AH17="Muy Baja",AJ17="Leve"),AND(AH17="Muy Baja",AJ17="Menor"),AND(AH17="Baja",AJ17="Leve")),"Bajo",IF(OR(AND(AH17="Muy baja",AJ17="Moderado"),AND(AH17="Baja",AJ17="Menor"),AND(AH17="Baja",AJ17="Moderado"),AND(AH17="Media",AJ17="Leve"),AND(AH17="Media",AJ17="Menor"),AND(AH17="Media",AJ17="Moderado"),AND(AH17="Alta",AJ17="Leve"),AND(AH17="Alta",AJ17="Menor")),"Moderado",IF(OR(AND(AH17="Muy Baja",AJ17="Mayor"),AND(AH17="Baja",AJ17="Mayor"),AND(AH17="Media",AJ17="Mayor"),AND(AH17="Alta",AJ17="Moderado"),AND(AH17="Alta",AJ17="Mayor"),AND(AH17="Muy Alta",AJ17="Leve"),AND(AH17="Muy Alta",AJ17="Menor"),AND(AH17="Muy Alta",AJ17="Moderado"),AND(AH17="Muy Alta",AJ17="Mayor")),"Alto",IF(OR(AND(AH17="Muy Baja",AJ17="Catastrófico"),AND(AH17="Baja",AJ17="Catastrófico"),AND(AH17="Media",AJ17="Catastrófico"),AND(AH17="Alta",AJ17="Catastrófico"),AND(AH17="Muy Alta",AJ17="Catastrófico")),"Extremo","")))),"") -> Bajo | AN17: 3 | AO17: Implementar un plan de trabajo para la indexación de historias laborales digitalizadas para facilitar su consulta. | AP17: Contratista de Gestión Documental | AQ17: Reporte de avance remitido por correo electrónico e informes de avance | AR17: 46387
V18: 4 | W18: El Profesional o Contratista designado del Grupo de Gestión Documental verifica semestralmente el cumplimiento del procedimiento de eliminación documental establecido en la ETITC, mediante la revisión de inventarios documentales, tiempos de retención, actas de aprobación y aplicación de las Tablas de Retención Documental, con el fin de garantizar la adecuada disposición final de los documentos. La ejecución del control se evidencia mediante inventarios documentales, actas del Comité Institucional de Gestión y Desempeño, formatos de eliminación documental y registros de seguimiento del proceso. En caso de identificar inconsistencias en la aplicación de las Tablas de Retención Documental, ausencia de soportes o documentación que no cumpla las condiciones para eliminación, se suspende el trámite correspondiente y se solicita la validación y ajuste por parte de la dependencia responsable, dejando evidencia de las actuaciones realizadas. De igual forma, se remitirá correo electrónico a las dependencias recordado que no se encuentran facultadas para disponer (eliminar) documentos a su cargo. | X18: inventarios documentales, actas del Comité Institucional de Gestión y Desempeño, formatos de eliminación documental y registros de seguimiento del proceso. | Y18: =IF(OR(Z18="Preventivo",Z18="Detectivo"),"Probabilidad",IF(Z18="Correctivo","Impacto","")) -> Probabilidad | Z18: Detectivo | AA18: Manual | AB18: =IF(AND(Z18="Preventivo",AA18="Automático"),"50%",IF(AND(Z18="Preventivo",AA18="Manual"),"40%",IF(AND(Z18="Detectivo",AA18="Automático"),"40%",IF(AND(Z18="Detectivo",AA18="Manual"),"30%",IF(AND(Z18="Correctivo",AA18="Automático"),"35%",IF(AND(Z18="Correctivo",AA18="Manual"),"25%","")))))) -> 30% | AC18: Documentado | AD18: Continua | AE18: Con Registro | AF18: GDO-PC-04 PROCEDIMIENTO PARA EL PRÉSTAMO Y/O CONSULTA DE EXPEDIENTES | AG18: =IFERROR(IF(Y18="Probabilidad",(Q15-(+ Q18*AB18)),IF(Y18="Impacto",Q18,"")),"") -> 1 | AH18: =IFERROR(IF(AG18="","",IF(AG18<=0.2,"Muy Baja",IF(AG18<=0.4,"Baja",IF(AG18<=0.6,"Media",IF(AG18<=0.8,"Alta","Muy Alta"))))),"") -> Muy Alta | AI18: =+AG18 -> 1 | AJ18: =IFERROR(IF(AK18="","",IF(AK18<=0.2,"Leve",IF(AK18<=0.4,"Menor",IF(AK18<=0.6,"Moderado",IF(AK18<=0.8,"Mayor","Catastrófico"))))),"") -> Mayor | AK18: =IFERROR(IF(Y18="Impacto",(T18-(+T18*AB18)),IF(Y18="Probabilidad",T15,"")),"") -> 0.8 | AL18: =IFERROR(IF(OR(AND(AH18="Muy Baja",AJ18="Leve"),AND(AH18="Muy Baja",AJ18="Menor"),AND(AH18="Baja",AJ18="Leve")),"Bajo",IF(OR(AND(AH18="Muy baja",AJ18="Moderado"),AND(AH18="Baja",AJ18="Menor"),AND(AH18="Baja",AJ18="Moderado"),AND(AH18="Media",AJ18="Leve"),AND(AH18="Media",AJ18="Menor"),AND(AH18="Media",AJ18="Moderado"),AND(AH18="Alta",AJ18="Leve"),AND(AH18="Alta",AJ18="Menor")),"Moderado",IF(OR(AND(AH18="Muy Baja",AJ18="Mayor"),AND(AH18="Baja",AJ18="Mayor"),AND(AH18="Media",AJ18="Mayor"),AND(AH18="Alta",AJ18="Moderado"),AND(AH18="Alta",AJ18="Mayor"),AND(AH18="Muy Alta",AJ18="Leve"),AND(AH18="Muy Alta",AJ18="Menor"),AND(AH18="Muy Alta",AJ18="Moderado"),AND(AH18="Muy Alta",AJ18="Mayor")),"Alto",IF(OR(AND(AH18="Muy Baja",AJ18="Catastrófico"),AND(AH18="Baja",AJ18="Catastrófico"),AND(AH18="Media",AJ18="Catastrófico"),AND(AH18="Alta",AJ18="Catastrófico"),AND(AH18="Muy Alta",AJ18="Catastrófico")),"Extremo","")))),"") -> Alto | AN18: 4 | AO18: Actualizar el documento "INSTRUCTIVO PARA ORGANIZACIÓN DE TRANSFERENCIAS DOCUMENTALES GDO-IN-01" incluyendo los parametros para la organización documental digital y electrónico | AP18: El Profesional o Contratista designado del Grupo de Gestión Documental | AQ18: Instructivo actualizado en el SIACET y socializado | AR18: 46387
D19: 2 | E19: Corrupción | F19: Económico y Reputacional | G19: Bienes Públicos | H19: Talento humano | I19: favorecimiento indebido de terceros mediante la manipulación, inclusión, extracción, alteración u ocultamiento de documentos en custodia del archivo central, | J19: debilidades en los controles de acceso, custodia y trazabilidad documental. | K19: Posibilidad de afectación económica y reputacional por el favorecimiento indebido de terceros mediante la manipulación, inclusión, extracción, alteración u ocultamiento de documentos en custodia del archivo central, para beneficio propio o de terceros, debido a debilidades en los controles de acceso, custodia y trazabilidad documental. | L19: Fraude Interno | M19: Documental | N19: Integridad | O19: 32 | P19: =IF(O19<=0,"",IF(O19<=2,"Muy Baja",IF(O19<=24,"Baja",IF(O19<=500,"Media",IF(O19<=5000,"Alta","Muy Alta"))))) -> Media | Q19: =IF(P19="","",IF(P19="Muy Baja",0.2,IF(P19="Baja",0.4,IF(P19="Media",0.6,IF(P19="Alta",0.8,IF(P19="Muy Alta",1,)))))) -> 0.6 | R19: Mayor (Corrupción) | S19: =IFERROR(VLOOKUP(R19,Criterios[],2,FALSE),"") -> Mayor | T19: =IF(S19="","",IF(S19="Leve",0.2,IF(S19="Menor",0.4,IF(S19="Moderado",0.6,IF(S19="Mayor",0.8,IF(S19="Catastrófico",1,)))))) -> 0.8 | U19: =IF(OR(AND(P19="Muy Baja",S19="Leve"),AND(P19="Muy Baja",S19="Menor"),AND(P19="Baja",S19="Leve")),"Bajo",IF(OR(AND(P19="Muy baja",S19="Moderado"),AND(P19="Baja",S19="Menor"),AND(P19="Baja",S19="Moderado"),AND(P19="Media",S19="Leve"),AND(P19="Media",S19="Menor"),AND(P19="Media",S19="Moderado"),AND(P19="Alta",S19="Leve"),AND(P19="Alta",S19="Menor")),"Moderado",IF(OR(AND(P19="Muy Baja",S19="Mayor"),AND(P19="Baja",S19="Mayor"),AND(P19="Media",S19="Mayor"),AND(P19="Alta",S19="Moderado"),AND(P19="Alta",S19="Mayor"),AND(P19="Muy Alta",S19="Leve"),AND(P19="Muy Alta",S19="Menor"),AND(P19="Muy Alta",S19="Moderado"),AND(P19="Muy Alta",S19="Mayor")),"Alto",IF(OR(AND(P19="Muy Baja",S19="Catastrófico"),AND(P19="Baja",S19="Catastrófico"),AND(P19="Media",S19="Catastrófico"),AND(P19="Alta",S19="Catastrófico"),AND(P19="Muy Alta",S19="Catastrófico")),"Extremo","")))) -> Alto | V19: 1 | W19: El personal de Gestión Documental controla diariamente el ingreso de servidores, contratistas y usuarios autorizados al Archivo Central, verificando la identificación, el motivo de la visita y la autorización correspondiente, y registrando la información en el formato GDO-FO-14 Planilla de Control de Acceso Archivo Central. Cuando se presentan ingresos no autorizados, inconsistencias en el registro o intentos de acceso a documentación no solicitada, restringe el ingreso, informa al líder de Gestión Documental y deja registro de la situación, con el fin de prevenir la manipulación indebida de los documentos bajo custodia. | X19: GDO-FO-14 Planilla de Control de Acceso Archivo Central. Autorizaciones de ingreso. Registro de novedades. Correos o informes de reporte de accesos no autorizados. | Y19: =IF(OR(Z19="Preventivo",Z19="Detectivo"),"Probabilidad",IF(Z19="Correctivo","Impacto","")) -> Probabilidad | Z19: Preventivo | AA19: Manual | AB19: =IF(AND(Z19="Preventivo",AA19="Automático"),"50%",IF(AND(Z19="Preventivo",AA19="Manual"),"40%",IF(AND(Z19="Detectivo",AA19="Automático"),"40%",IF(AND(Z19="Detectivo",AA19="Manual"),"30%",IF(AND(Z19="Correctivo",AA19="Automático"),"35%",IF(AND(Z19="Correctivo",AA19="Manual"),"25%","")))))) -> 40% | AC19: Documentado | AD19: Continua | AE19: Con Registro | AF19: GDO-DO-02 Estructura del Archivo Central | AG19: =IFERROR(IF(Y19="Probabilidad",(Q19-(+ Q19*AB19)),IF(Y19="Impacto",Q19,"")),"") -> 0.36 | AH19: =IFERROR(IF(AG19="","",IF(AG19<=0.2,"Muy Baja",IF(AG19<=0.4,"Baja",IF(AG19<=0.6,"Media",IF(AG19<=0.8,"Alta","Muy Alta"))))),"") -> Baja | AI19: =+AG19 -> 0.36 | AJ19: =IFERROR(IF(AK19="","",IF(AK19<=0.2,"Leve",IF(AK19<=0.4,"Menor",IF(AK19<=0.6,"Moderado",IF(AK19<=0.8,"Mayor","Catastrófico"))))),"") -> Mayor | AK19: =IFERROR(IF(Y19="Impacto",(T106-(+T19*AB19)),IF(Y19="Probabilidad",T19,"")),"") -> 0.8 | AL19: =IFERROR(IF(OR(AND(AH19="Muy Baja",AJ19="Leve"),AND(AH19="Muy Baja",AJ19="Menor"),AND(AH19="Baja",AJ19="Leve")),"Bajo",IF(OR(AND(AH19="Muy baja",AJ19="Moderado"),AND(AH19="Baja",AJ19="Menor"),AND(AH19="Baja",AJ19="Moderado"),AND(AH19="Media",AJ19="Leve"),AND(AH19="Media",AJ19="Menor"),AND(AH19="Media",AJ19="Moderado"),AND(AH19="Alta",AJ19="Leve"),AND(AH19="Alta",AJ19="Menor")),"Moderado",IF(OR(AND(AH19="Muy Baja",AJ19="Mayor"),AND(AH19="Baja",AJ19="Mayor"),AND(AH19="Media",AJ19="Mayor"),AND(AH19="Alta",AJ19="Moderado"),AND(AH19="Alta",AJ19="Mayor"),AND(AH19="Muy Alta",AJ19="Leve"),AND(AH19="Muy Alta",AJ19="Menor"),AND(AH19="Muy Alta",AJ19="Moderado"),AND(AH19="Muy Alta",AJ19="Mayor")),"Alto",IF(OR(AND(AH19="Muy Baja",AJ19="Catastrófico"),AND(AH19="Baja",AJ19="Catastrófico"),AND(AH19="Media",AJ19="Catastrófico"),AND(AH19="Alta",AJ19="Catastrófico"),AND(AH19="Muy Alta",AJ19="Catastrófico")),"Extremo","")))),"") -> Alto | AM19: Reducir (mitigar) | AN19: 1 | AO19: Revisar y formalizar los roles y niveles de autorización para el ingreso al Archivo Central, la consulta de expedientes, la entrega de documentos y el cierre de los préstamos, procurando que la autorización, entrega y verificación de devolución no recaigan, cuando sea viable, en una misma persona. | AP19: El Profesional o Contratista designado del Grupo de Gestión Documental | AQ19: Matriz de roles y autorizaciones. Lineamiento o protocolo de acceso. Relación de usuarios autorizados. Actas de socialización. | AR19: 46387
V20: 2 | W20: El personal de Gestión Documental verifica cada solicitud de consulta o préstamo de expedientes, confirma que los documentos correspondan a la solicitud y que se encuentren completos en su foliación, registra la operación en el formato GDO-FO-08 y coloca la GDO-FO-07 Tarjeta de Afuera en la ubicación del expediente retirado. Al momento de la devolución, verifica que los documentos correspondan a los registrados, que conserven las mismas condiciones y que sean reintegrados a su ubicación, dejando constancia de la devolución y descargando el préstamo en el formato correspondiente. Cuando identifica faltantes, alteraciones, daños o inconsistencias, suspende el cierre del préstamo, informa al líder de Gestión Documental y documenta la novedad. | X20: Correo de solicitud. GDO-FO-08 Control de Consultas y/o Préstamos de Expedientes. GDO-FO-07 Tarjeta de Afuera. Registro de devolución. Reporte de novedades o inconsistencias. | Y20: =IF(OR(Z20="Preventivo",Z20="Detectivo"),"Probabilidad",IF(Z20="Correctivo","Impacto","")) -> Probabilidad | Z20: Preventivo | AA20: Manual | AB20: =IF(AND(Z20="Preventivo",AA20="Automático"),"50%",IF(AND(Z20="Preventivo",AA20="Manual"),"40%",IF(AND(Z20="Detectivo",AA20="Automático"),"40%",IF(AND(Z20="Detectivo",AA20="Manual"),"30%",IF(AND(Z20="Correctivo",AA20="Automático"),"35%",IF(AND(Z20="Correctivo",AA20="Manual"),"25%","")))))) -> 40% | AC20: Documentado | AD20: Continua | AE20: Con Registro | AF20: GDO-PC-04 Préstamo y/o Consulta de Documentos | AG20: =IFERROR(IF(Y20="Probabilidad",(Q19-(+ Q20*AB20)),IF(Y20="Impacto",Q20,"")),"") -> 0.6 | AH20: =IFERROR(IF(AG20="","",IF(AG20<=0.2,"Muy Baja",IF(AG20<=0.4,"Baja",IF(AG20<=0.6,"Media",IF(AG20<=0.8,"Alta","Muy Alta"))))),"") -> Media | AI20: =+AG20 -> 0.6 | AJ20: =IFERROR(IF(AK20="","",IF(AK20<=0.2,"Leve",IF(AK20<=0.4,"Menor",IF(AK20<=0.6,"Moderado",IF(AK20<=0.8,"Mayor","Catastrófico"))))),"") -> Mayor | AK20: =IFERROR(IF(Y20="Impacto",(T20-(+T20*AB20)),IF(Y20="Probabilidad",T19,"")),"") -> 0.8 | AL20: =IFERROR(IF(OR(AND(AH20="Muy Baja",AJ20="Leve"),AND(AH20="Muy Baja",AJ20="Menor"),AND(AH20="Baja",AJ20="Leve")),"Bajo",IF(OR(AND(AH20="Muy baja",AJ20="Moderado"),AND(AH20="Baja",AJ20="Menor"),AND(AH20="Baja",AJ20="Moderado"),AND(AH20="Media",AJ20="Leve"),AND(AH20="Media",AJ20="Menor"),AND(AH20="Media",AJ20="Moderado"),AND(AH20="Alta",AJ20="Leve"),AND(AH20="Alta",AJ20="Menor")),"Moderado",IF(OR(AND(AH20="Muy Baja",AJ20="Mayor"),AND(AH20="Baja",AJ20="Mayor"),AND(AH20="Media",AJ20="Mayor"),AND(AH20="Alta",AJ20="Moderado"),AND(AH20="Alta",AJ20="Mayor"),AND(AH20="Muy Alta",AJ20="Leve"),AND(AH20="Muy Alta",AJ20="Menor"),AND(AH20="Muy Alta",AJ20="Moderado"),AND(AH20="Muy Alta",AJ20="Mayor")),"Alto",IF(OR(AND(AH20="Muy Baja",AJ20="Catastrófico"),AND(AH20="Baja",AJ20="Catastrófico"),AND(AH20="Media",AJ20="Catastrófico"),AND(AH20="Alta",AJ20="Catastrófico"),AND(AH20="Muy Alta",AJ20="Catastrófico")),"Extremo","")))),"") -> Alto | AN20: 2 | AO20: Ejecutar verificaciones aleatorias trimestrales sobre una muestra de expedientes consultados o prestados, contrastando la solicitud, el GDO-FO-08, la Tarjeta de Afuera, el estado físico, la foliación y la ubicación final del expediente, y reportar al líder de Gestión Documental las inconsistencias identificadas para su análisis y tratamiento. | AP20: El Profesional o Contratista designado del Grupo de Gestión Documental | AQ20: Plan de muestreo. Actas o listas de verificación. Informe de resultados. Registro de inconsistencias. Acciones de mejora o investigaciones internas, cuando corresponda. | AR20: 46387
D21: 3 | E21: Fiscal | F21: Económico | G21: Bienes Públicos | H21: Procesos | I21: pérdida o deterioro de documentos que constituyen bienes públicos documentales | J21: incumplimiento de los controles de acceso, custodia y préstamo del archivo central. | K21: Posibilidad de afectación económica por pérdida o deterioro de documentos que constituyen bienes públicos documentales, debido al incumplimiento de los controles de acceso, custodia y préstamo del archivo central. | L21: Ejecucion y Administracion de procesos | M21: Documental | N21: Integridad | O21: 32 | P21: =IF(O21<=0,"",IF(O21<=2,"Muy Baja",IF(O21<=24,"Baja",IF(O21<=500,"Media",IF(O21<=5000,"Alta","Muy Alta"))))) -> Media | Q21: =IF(P21="","",IF(P21="Muy Baja",0.2,IF(P21="Baja",0.4,IF(P21="Media",0.6,IF(P21="Alta",0.8,IF(P21="Muy Alta",1,)))))) -> 0.6 | R21: Entre 50 y 100 SMLMV | S21: =IFERROR(VLOOKUP(R21,Criterios[],2,FALSE),"") -> Moderado | T21: =IF(S21="","",IF(S21="Leve",0.2,IF(S21="Menor",0.4,IF(S21="Moderado",0.6,IF(S21="Mayor",0.8,IF(S21="Catastrófico",1,)))))) -> 0.6 | U21: =IF(OR(AND(P21="Muy Baja",S21="Leve"),AND(P21="Muy Baja",S21="Menor"),AND(P21="Baja",S21="Leve")),"Bajo",IF(OR(AND(P21="Muy baja",S21="Moderado"),AND(P21="Baja",S21="Menor"),AND(P21="Baja",S21="Moderado"),AND(P21="Media",S21="Leve"),AND(P21="Media",S21="Menor"),AND(P21="Media",S21="Moderado"),AND(P21="Alta",S21="Leve"),AND(P21="Alta",S21="Menor")),"Moderado",IF(OR(AND(P21="Muy Baja",S21="Mayor"),AND(P21="Baja",S21="Mayor"),AND(P21="Media",S21="Mayor"),AND(P21="Alta",S21="Moderado"),AND(P21="Alta",S21="Mayor"),AND(P21="Muy Alta",S21="Leve"),AND(P21="Muy Alta",S21="Menor"),AND(P21="Muy Alta",S21="Moderado"),AND(P21="Muy Alta",S21="Mayor")),"Alto",IF(OR(AND(P21="Muy Baja",S21="Catastrófico"),AND(P21="Baja",S21="Catastrófico"),AND(P21="Media",S21="Catastrófico"),AND(P21="Alta",S21="Catastrófico"),AND(P21="Muy Alta",S21="Catastrófico")),"Extremo","")))) -> Moderado | V21: 1 | W21: El profesional de Gestión Documental verifica semestralmente las condiciones de conservación, almacenamiento, organización y custodia de los documentos del Archivo Central, revisando el estado de las cajas, carpetas, estanterías, áreas de almacenamiento y condiciones ambientales, de acuerdo con los lineamientos y protocolos institucionales. Cuando identifica humedad, deterioro, contaminación, almacenamiento inadecuado o riesgos para la integridad documental, registra la novedad, establece medidas de intervención y realiza seguimiento hasta su atención, con el fin de prevenir la pérdida o deterioro de bienes públicos documentales. | X21: Lista de verificación de conservación. Informe de inspección. Registro fotográfico. Reportes de condiciones ambientales. Planes o solicitudes de intervención. (solicitud ambiental y ssgg) Evidencias de corrección. | Y21: =IF(OR(Z21="Preventivo",Z21="Detectivo"),"Probabilidad",IF(Z21="Correctivo","Impacto","")) -> Probabilidad | Z21: Preventivo | AA21: Manual | AB21: =IF(AND(Z21="Preventivo",AA21="Automático"),"50%",IF(AND(Z21="Preventivo",AA21="Manual"),"40%",IF(AND(Z21="Detectivo",AA21="Automático"),"40%",IF(AND(Z21="Detectivo",AA21="Manual"),"30%",IF(AND(Z21="Correctivo",AA21="Automático"),"35%",IF(AND(Z21="Correctivo",AA21="Manual"),"25%","")))))) -> 40% | AC21: Documentado | AD21: Continua | AE21: Con Registro | AF21: GDO-PC-05, GDO-PT-01, GDO-DO-02 | AG21: =IFERROR(IF(Y21="Probabilidad",(Q21-(+ Q21*AB21)),IF(Y21="Impacto",Q21,"")),"") -> 0.36 | AH21: =IFERROR(IF(AG21="","",IF(AG21<=0.2,"Muy Baja",IF(AG21<=0.4,"Baja",IF(AG21<=0.6,"Media",IF(AG21<=0.8,"Alta","Muy Alta"))))),"") -> Baja | AI21: =+AG21 -> 0.36 | AJ21: =IFERROR(IF(AK21="","",IF(AK21<=0.2,"Leve",IF(AK21<=0.4,"Menor",IF(AK21<=0.6,"Moderado",IF(AK21<=0.8,"Mayor","Catastrófico"))))),"") -> Moderado | AK21: =IFERROR(IF(Y21="Impacto",(T21-(+T21*AB21)),IF(Y21="Probabilidad",T21,"")),"") -> 0.6 | AL21: =IFERROR(IF(OR(AND(AH21="Muy Baja",AJ21="Leve"),AND(AH21="Muy Baja",AJ21="Menor"),AND(AH21="Baja",AJ21="Leve")),"Bajo",IF(OR(AND(AH21="Muy baja",AJ21="Moderado"),AND(AH21="Baja",AJ21="Menor"),AND(AH21="Baja",AJ21="Moderado"),AND(AH21="Media",AJ21="Leve"),AND(AH21="Media",AJ21="Menor"),AND(AH21="Media",AJ21="Moderado"),AND(AH21="Alta",AJ21="Leve"),AND(AH21="Alta",AJ21="Menor")),"Moderado",IF(OR(AND(AH21="Muy Baja",AJ21="Mayor"),AND(AH21="Baja",AJ21="Mayor"),AND(AH21="Media",AJ21="Mayor"),AND(AH21="Alta",AJ21="Moderado"),AND(AH21="Alta",AJ21="Mayor"),AND(AH21="Muy Alta",AJ21="Leve"),AND(AH21="Muy Alta",AJ21="Menor"),AND(AH21="Muy Alta",AJ21="Moderado"),AND(AH21="Muy Alta",AJ21="Mayor")),"Alto",IF(OR(AND(AH21="Muy Baja",AJ21="Catastrófico"),AND(AH21="Baja",AJ21="Catastrófico"),AND(AH21="Media",AJ21="Catastrófico"),AND(AH21="Alta",AJ21="Catastrófico"),AND(AH21="Muy Alta",AJ21="Catastrófico")),"Extremo","")))),"") -> Moderado | AM21: Reducir (mitigar) | AN21: 1 | AO21: Realizar un diagnóstico técnico del estado de conservación de los documentos del Archivo Central, identificando expedientes críticos, documentación con deterioro, condiciones de almacenamiento deficientes y necesidades de intervención, y establecer una matriz de priorización para su conservación, restauración, digitalización o reubicación. En caso de que se evidencien situaciones que puedan afectar la conservación de la documentación, se establecerá un plan de contingencia que permita atender la eventualidad | AP21: El Profesional o Contratista designado del Grupo de Gestión Documental | AQ21: Diagnóstico de conservación. Avance en el inventario de expedientes críticos. Matriz de priorización. Plan de intervención. Soportes técnicos y presupuestales. | AR21: 46387
I22: *Nota: La columna referencia se sugiere para mantener el consecutivo de riesgos, así el riesgo salga del mapa no existirá otro riesgo con el mismo número. Una entidad puede ir en el riesgo 150 pero tener 70 riesgos, lo que permite llevar una traza de los riesgos. Esta información la debe administrar la Oficina Asesora de Planeación o Gerencia de Riesgos.
D25: LIDER DEL PROCESO: Hno. Ariosto Ardila Silva | BH25: Iniciada
P26: =+IFERROR(VLOOKUP(L26,$L$181:$P$185,3,FALSE)*VLOOKUP(O26,$O$181:$P$185,3,FALSE),"") | BH26: Sin iniciar
D27: CLASIF. DE CONFIDENCIALIDAD | K27: IPB | L27: CLASIF. DE INTEGRIDAD | S27: A | V27: CLASIF. DE DISPONIBILIDAD | Z27: 1 | BH27: cumplida
D28: Documento controlado por el Sistema de Gestión de la Calidad Asegúrese que corresponde a la última versión consultando el micrositio de calidad de la Escuela Tecnológica Instituto Técnico Central (ETITC) | BH28: Incumplida

Sheet Datos
A1: Criterios_Impacto | B1: Calificación
A2: Afectación menor a 10 SMLMV . | B2: Leve
A3: Entre 10 y 50 SMLMV | B3: Menor
A4: Entre 50 y 100 SMLMV | B4: Moderado
A5: Entre 100 y 500 SMLMV | B5: Mayor
A6: Mayor a 500 SMLMV | B6: Catastrófico
A7: El riesgo afecta la imagen de alguna área de la organización | B7: Leve
A8: El riesgo afecta la imagen de la entidad internamente, de conocimiento general, nivel interno, de junta dircetiva y accionistas y/o de provedores | B8: Menor
A9: El riesgo afecta la imagen de la entidad con algunos usuarios de relevancia frente al logro de los objetivos | B9: Moderado
A10: El riesgo afecta la imagen de de la entidad con efecto publicitario sostenido a nivel de sector administrativo, nivel departamental o municipal | B10: Mayor
A11: El riesgo afecta la imagen de la entidad a nivel nacional, con efecto publicitarios sostenible a nivel país | B11: Catastrófico
A12: Moderado (Corrupción) | B12: Moderado
... A14: Catastrófico (Corrupción) | B14: Catastrófico

Sheet Formulas
B1: Identificación del riesgo | L1: Evaluación del riesgo - Valoración de los controles
B2: 14. Tipología de riesgos que enmarcan la política de administración del riesgo | C2: 6.4. Identificación de áreas de factores de riesgo | D2: Impacto | E2: Efecto Dañoso (fiscal) | F2: FACTOR | G2: Clasificacion del riesgo | H2: Riesgo Materializado | I2: Activo de información | J2: Criterio | L2: Tipo | M2: Implementación | N2: Documentación | O2: Frecuencia | P2: Evidencia | Q2: Tratamiento | R2: Plan de accion (solo para la opción reducir)
B3: Gestión | C3: • Procesos | D3: Económico | E3: Recursos Públicos | F3: Evento externo | G3: Daños Activos Fisicos | H3: SI | I3: Información | J3: Confidencialidad | L3: Preventivo | M3: Automático | N3: Documentado | O3: Continua | P3: Registro Sustancial | Q3: Aceptar | R3: Finalizado
B4: Corrupción | C4: • Talento humano | D4: Reputacional | E4: Bienes Públicos | F4: Financiero | G4: Ejecucion y Administracion de procesos | H4: NO | I4: Software | J4: Disponibilidad | L4: Detectivo | M4: Manual | N4: Sin Documentar | O4: Aleatoria | P4: Registro Material | Q4: Evitar | R4: En curso
B5: Fiscal | C5: • Tecnología | D5: Económico y Reputacional | E5: Intereses Patrimoniales de Naturaleza Pública | F5: Infraestructura | G5: Fallas Tecnologicas | I5: Hardware | J5: Integridad | L5: Correctivo | P5: Sin registro | Q5: Reducir
B6: Seguridad de la Información | C6: • Infraestructura | F6: Procesos | G6: Fraude Externo | I6: Servicios | J6: NO APLICA | Q6: Reducir (mitigar)
C7: • Evento externo | F7: Talento humano | G7: Fraude Interno | I7: Intangibles | Q7: Reducir (compartir)
F8: Tecnología | G8: Relaciones Laborales | I8: Componentes de red
G9: Usuarios, productos y practicas , organizacionales | I9: Personas
I10: Instalaciones
I12: Instalaciones

Sheet CRITERIOS R CORRUPCION
B2: Escuela Tecnológica Instituto Técnico Central Establecimiento Público de Educación Superior | D2: CRITERIOS PARA CALIFICAR EL IMPACTO EN RIESGOS DE CORRUPCIÓN | E2: CÓDIGO:GSI- CA-FO-09
E3: VERSIÓN: 9
E4: VIGENCIA: 2026-04-28
A5: REGRESAR | E5: PÁGINA: 1 de 1
B7: ITEM | C7: Criterios para calificar el impacto en riesgos de corrupción | E7: MARACAR CON X
C9: Pregunta: ¿Si el riesgo de corrupción se materializa podría: | E9: SI | F9: NO
B10: 1 | C10: ¿Afectar al grupo de funcionarios del proceso? | E10: X
B11: 2 | C11: ¿Afectar el cumplimiento de metas y objetivos de la dependencia? | D11: ¿Afectar el cumplimiento de metas y objetivos de la dependencia? | E11: X
B12: 3 | C12: ¿Afectar el cumplimiento de misión de la entidad? | D12: ¿Afectar el cumplimiento de misión de la entidad? | F12: X
B13: 4 | C13: ¿Afectar el cumplimiento de la misión del sector al que pertenece la entidad? | D13: ¿Afectar el cumplimiento de misión del sector al que pertenece la entidad? | F13: X
B14: 5 | C14: ¿Generar perdida de confianza de la entidad , afectando su reputación? | D14: ¿Generar perdida de confianza de la entidad , afectando su reputación? | E14: X
B15: 6 | C15: ¿Generar perdida de recursos económicos? | D15: ¿Generar perdida de recursos económicos? | E15: X
B16: 7 | C16: ¿Afectar la generación de los productos o la prestación de los servicios? | D16: ¿Afectar la generación de los productos o la prestación de los servicios? | F16: X
B17: 8 | C17: ¿Dar lugar al detrimento de la calidad de vida de la comunidad por la perdida del bien, servicio o recursos públicos? | D17: ¿Dar lugar al detrimento de la calidad de vida de la comunidad por la perdida del bien, servicio o recursos públicos? | F17: X
B18: 9 | C18: ¿Generar pérdida de información de la entidad? | D18: ¿Generar pérdida de información de la entidad? | E18: X
B19: 10 | C19: ¿Generar intervención de los órganos de control, de la Fiscalia u otro ente? | D19: ¿Generar intervención de los órganos de control, de la Fiscalia u otro ente? | E19: X
B20: 11 | C20: ¿Dar lugar a procesos sancionatorios? | D20: ¿Dar lugar a procesos sancionatorios? | F20: X
B21: 12 | C21: ¿Dar lugar a procesos disciplinarios? | D21: ¿Dar lugar a procesos disciplinarios? | E21: X
B22: 13 | C22: ¿Dar lugar a procesos fiscales? | D22: ¿Dar lugar a procesos fiscales? | E22: X
B23: 14 | C23: ¿Dar lugar a procesos penales? | D23: ¿Dar lugar a procesos penales? | E23: X
B24: 15 | C24: ¿Generar pérdida de credibilidad del sector? | D24: ¿Generar pérdida de credibilidad del sector? | E24: X
B25: 16 | C25: ¿Ocasionar lesiones físicas o pérdida de vidas humanas? | D25: ¿Ocasionar lesiones físicas o pérdida de vidas humanas? | F25: X
B26: 17 | C26: ¿Afectar la imagen regional? | D26: ¿Afectar la imagen regional? | F26: X
B27: 18 | C27: ¿Afectar la imagen nacional? | D27: ¿Afectar la imagen nacional? | E27: X
B28: 19 | C28: ¿Generar daño ambiental? | D28: ¿Generar daño ambiental? | F28: X
E29: =COUNTIF(E10:E28,"x") -> 11 | F29: =COUNTIF(F10:F28,"x") -> 8 | G29: =IF(E29=0,"",IF(E29<=5,"Moderado",IF(E29<=11,"Mayor",IF(E29<=19,"Catastrófico","")))) -> Mayor
A31: Para la calificación del impacto de los riesgos clasificados con tipología de corrupción, se deberá responder las siguientes preguntas, con el fin de determinar el nivel de impacto del riesgo en caso de llegarse a materializar. Una vez responda las diecinueve (19) preguntas para cada uno de los riesgos de corrupción, automáticamente la presente hoja se establecerá el nivel de impacto del riesgo que se encuentra valorando, segun los rangos descritos a continuación:

Sheet Apayo Visual 
B2: Redaccion del Riesgo General
B30: Redaccion del Riesgo fiscal

Sheet eliminar
C2: CONTEXTO - DOFA
C4: DEBILIDADES | D4: ESTADO
C5: D1. Falta de disponibilidad de recurso humano contratado, con cobertura en las diferentes sedes, Seccionales, Extensiones, unidades Agroambientales y Oficinas de la Universidad, que garantice el apoyo continuó durante todo el período académico | D5: 1
C6: D2. Falta de conocimiento de la normatividad legal vigente, aplicable y actualizada, relacionada con aspectos e impactos ambientales asociados al desempeño ambiental institucional y de su respectivo seguimiento. | D6: 1
C7: D3. Falta de conocimiento, participación, de la totalidad de la comunidad universitaria y otras partes interesadas del Sistema de Gestión Ambiental, y las actividades de implementación del mismo, de la Política Ambiental y Programas ambientales del Plan Institucional de Gestión Ambiental PIGA. | D7: 1
C8: D4. Falta de compromiso y sentido de pertenencia con los temas ambientales por parte de algunos sectores de la comunidad universitaria y otras partes interesadas, reflejado en la falta de participación en actividades del SGA y de lineamientos ambientales. | D8: 1
C9: D5. Falta de articulación de los lineamientos del SGA con los procesos del Modelo de Operación Digital | D9: 1
C10: D6. Falta de articulación con la academia en temas ambientales, reflejado en el bajo porcentaje de cobertura del Sistema de Gestión de Ambiental respecto a los estudiantes en relación en relación al porcentaje que representan en la comunidad universitaria. | D10: 1
C11: D7. Falta de articulación de temas ambientales con el Plan de Emergencias Institucional | D11: 1
C12: D8. Falta de recursos disponibles de forma oportuna para el desarrollo y continuidad de actividades del Sistema de Gestión Ambiental. | D12: 1
C13: D9. Falta de recursos para desplazamientos del equipo del Sistema de Gestión Ambiental. | D13: 1
C14: D10. Incumplimiento del código de colores de clasificación de residuos institucional por desconocimiento, falta de conciencia ambiental y compromiso de parte de algunos sectores de la comunidad universitaria y otras partes interesadas, o por no contar con la totalidad de los dispositivos de almacenamiento requeridos. | D14: 1
D15: 1
C16: AMENAZAS
C17: A1. Prácticas ambientales inadecuadas por parte de vecinos de la comunidad circundante a las instalaciones de la Universidad, que puedan afectar su desempeño ambiental. | D17: 1
C18: A2. Afectación en el desarrollo de actividades presenciales o virtuales, internas y externas del SGA, debido al riesgo de contagio por virus que puedan alcanzar el nivel de pandemia | D18: 1
C19: A3. Falta de alcance en servicios públicos o de comunicación, y condiciones específicas de la infraestructura de algunas sedes. | D19: 1
C20: A4. Falta de participación de las partes interesadas externas en las actividades del Sistema de Gestión Ambiental. | D20: 1
C21: A5. Afectación de actividades del Sistema de Gestión ambiental internas o externas), y de recursos, elementos o insumos del Plan Institucional de Gestión Ambiental -PIGA, por alteraciones de orden público como manifestaciones, paros, disturbios y asonadas. | D21: 1
C22: A6. Afectación de fenómenos naturales (Cambio climático, fenómeno del niño y la niña, sismos, incendios, caída de árboles, Vendavales) y antrópicos (Orden publico y manifestaciones estudiantiles) que puedan afectar las instalaciones. | D22: 1
C23: A7. Sanciones o multas por incumplimiento legal | D23: 1
C24: A8. Rotación constante de personal en diferentes procesos | D24: 1
D25: 1
D26: 1
C27: FORTALEZAS
C28: F1.Compromiso de la alta Dirección para apoyar el proceso, reflejado en liderazgo de Directores Administrativos y del Rector.​ | D28: 1
C29: F2. Articulación del Sistema de Gestión Ambiental a nivel institucional en Sede, Seccionales y Extensiones. | D29: 1
C30: F3. Equipo de profesionales del Sistema de Gestión Ambiental con competencia y actitud propositiva en el proceso de planeación, implementación, seguimiento y preparación para los procesos de auditoría del SGA. | D30: 1
C31: F4. Disponibilidad de la documentación del Sistema de Gestión ambiental en el sitio web del Modelo de Operación digital, en el marco del PHVA: Caracterización, Política y Objetivos de Gestión Ambiental, Plan Institucional de Gestión Ambiental - PIGA y programas ambientales, Procedimientos, Formatos, Matrices y otros registros SGA. | D31: 1
C32: F5.Asignación de rubro para implementación y certificación del Sistema de Gestión Ambiental_ISO 14001:2015 a través del Proyecto UCundinamarca en Equilibrio con la Naturaleza. | D32: 1
C33: F6.Fortalecimiento de la cultura ambiental a nivel institucional a través del #Reto Ambientalmente en equilibrio con la naturaleza, eventos y capacitaciones ambientales. | D33: 1
C34: F7.Divulgación de la Gestión ambiental con la comunidad universitaria y otras partes interesadas a través de publicaciones y eventos en canales institucionales como la página web, la agencia de noticias, redes sociales, revistas digitales de las Seccionales, Extensiones y Periódico digital institucional. | D34: 1
C35: F8. Implementación del código de colores de clasificación de residuos con la instalación gradual de Unidades Técnicas de Almacenamiento Central -UTAC- y Puntos ecológicos en Sede, Seccionales y Extensiones. | D35: 1
C36: F9. Implementación de estrategias de sostenibilidad en la Sede, Seccionales y Extensiones, mediante la instalación de dispositivos de ahorro de agua y de energía como paneles fotovoltaicos e iluminación LED. | D36: 1
C37: F10.Articulación con los demás componentes del Sistema Integrado de Gestión como: SG SST, SGSI, SGC y con las diferentes procesos y dependencias. | D37: 1
C38: F11. Proceso de Medición de Huella de Carbono y reporte internacional de sostenibilidad GRI en articulación con Interacción Social Universitaria y diferentes dependencias relacionadas. | D38: 1
C39: F12. Articulación del Sistema de Gestión Ambiental como parte del proceso de formación para la vida de la comunidad universitaria, desde la dimensión naturaleza del Modelo de Educación Digital Transmoderno -MEDIT. | D39: 1
... C42: F15. Disponibilidad de canales institucionales para la comunicación de solicitudes, felicitaciones | D42: 1
C45: OPORTUNIDADES
C46: O1. Fortalecer la articulación del Sistema de Gestión ambiental, con las partes interesadas Internas y Externas de forma translocal a través de la cultura ambiental. | D46: 1
...

Sheet Matriz Calor Inherente
D2: Escuela Tecnológica Instituto Técnico Central Establecimiento Público de Educación Superior | L2: MAPA DE RIESGOS | AP2: CÓDIGO: GDC-FO-09
AP3: VERSIÓN: 9
AP4: VIGENCIA: 2026-04-28 | AQ4: VIGENCIA: 2024-08-22
AP5: PÁGINA: 1 de 1 | AQ5: PÁGINA: 1 de 1
D7: Matriz de Calor Inherente | L7: Impacto
A8: REGRESAR
D11: Probabilidad | G11: Muy Alta 100% | N11: =IF(AND('Mapa final'!$K$15="Muy Alta",'Mapa final'!$O$15="Leve"),CONCATENATE("R",'Mapa final'!$A$18),"") | P11: =IF(AND('Mapa final'!$K$19="Muy Alta",'Mapa final'!$O$19="Leve"),CONCATENATE("R",'Mapa final'!$A$19),"") | T11: =IF(AND('Mapa final'!$P$15="Muy Alta",'Mapa final'!$S$15="Menor"),CONCATENATE("R",'Mapa final'!$A$18),"") | V11: =IF(AND('Mapa final'!$P$19="Muy Alta",'Mapa final'!$S$19="Menor"),CONCATENATE("R",'Mapa final'!$A$19),"") | Z11: =IF(AND('Mapa final'!P$15="Muy Alta",'Mapa final'!$S$15="Moderado"),CONCATENATE("R",'Mapa final'!$A$18),"") | AB11: =IF(AND('Mapa final'!$P$19="Muy Alta",'Mapa final'!$S$19="Moderado"),CONCATENATE("R",'Mapa final'!$A$19),"") | AF11: =IF(AND('Mapa final'!$P$15="Muy Alta",'Mapa final'!$S$15="Mayor"),CONCATENATE("R",'Mapa final'!$A$18),"") -> R | AH11: =IF(AND('Mapa final'!$P$19="Muy Alta",'Mapa final'!$S$19="Mayor"),CONCATENATE("R",'Mapa final'!$A$19),"") | AL11: =IF(AND('Mapa final'!$P$15="Muy Alta",'Mapa final'!$S$15="Catastrófico"),CONCATENATE("R",'Mapa final'!$A$18),"") | AN11: =IF(AND('Mapa final'!$P$19="Muy Alta",'Mapa final'!$S$19="Catastrófico"),CONCATENATE("R",'Mapa final'!$A$19),"") | AQ11: Extremo
L13: =IF(AND('Mapa final'!#REF!="Muy Alta",'Mapa final'!#REF!="Leve"),CONCATENATE("R",'Mapa final'!#REF!),"") -> #REF! | N13: =IF(AND('Mapa final'!#REF!="Muy Alta",'Mapa final'!#REF!="Leve"),CONCATENATE("R",'Mapa final'!#REF!),"") -> #REF! | P13: =IF(AND('Mapa final'!#REF!="Muy Alta",'Mapa final'!#REF!="Leve"),CONCATENATE("R",'Mapa final'!#REF!),"") -> #REF! | R13: =IF(AND('Mapa final'!#REF!="Muy Alta",'Mapa final'!#REF!="Menor"),CONCATENATE("R",'Mapa final'!#REF!),"") -> #REF! | T13: =IF(AND('Mapa final'!#REF!="Muy Alta",'Mapa final'!#REF!="Menor"),CONCATENATE("R",'Mapa final'!#REF!),"") -> #REF! | V13: =IF(AND('Mapa final'!#REF!="Muy Alta",'Mapa final'!#REF!="Menor"),CONCATENATE("R",'Mapa final'!#REF!),"") -> #REF! | X13: =IF(AND('Mapa final'!#REF!="Muy Alta",'Mapa final'!#REF!="Moderado"),CONCATENATE("R",'Mapa final'!#REF!),"") -> #REF! | Z13: =IF(AND('Mapa final'!#REF!="Muy Alta",'Mapa final'!#REF!="Moderado"),CONCATENATE("R",'Mapa final'!#REF!),"") -> #REF! | AB13: =IF(AND('Mapa final'!#REF!="Muy Alta",'Mapa final'!#REF!="Moderado"),CONCATENATE("R",'Mapa final'!#REF!),"") -> #REF! | AD13: =IF(AND('Mapa final'!#REF!="Muy Alta",'Mapa final'!#REF!="Mayor"),CONCATENATE("R",'Mapa final'!#REF!),"") -> #REF! | AF13: =IF(AND('Mapa final'!#REF!="Muy Alta",'Mapa final'!#REF!="Mayor"),CONCATENATE("R",'Mapa final'!#REF!),"") -> #REF! | AH13: =IF(AND('Mapa final'!#REF!="Muy Alta",'Mapa final'!#REF!="Mayor"),CONCATENATE("R",'Mapa final'!#REF!),"") -> #REF! | AJ13: =IF(AND('Mapa final'!#REF!="Muy Alta",'Mapa final'!#REF!="Catastrófico"),CONCATENATE("R",'Mapa final'!#REF!),"") -> #REF! | AL13: =IF(AND('Mapa final'!#REF!="Muy Alta",'Mapa final'!#REF!="Catastrófico"),CONCATENATE("R",'Mapa final'!#REF!),"") -> #REF! | AN13: =IF(AND('Mapa final'!#REF!="Muy Alta",'Mapa final'!#REF!="Catastrófico"),CONCATENATE("R",'Mapa final'!#REF!),"") -> #REF!
L15: =IF(AND('Mapa final'!#REF!="Muy Alta",'Mapa final'!#REF!="Leve"),CONCATENATE("R",'Mapa final'!#REF!),"") -> #REF! | N15: =IF(AND('Mapa final'!#REF!="Muy Alta",'Mapa final'!#REF!="Leve"),CONCATENATE("R",'Mapa final'!#REF!),"") -> #REF! | P15: =IF(AND('Mapa final'!$K$22="Muy Alta",'Mapa final'!$O$22="Leve"),CONCATENATE("R",'Mapa final'!$A$22),"") | R15: =IF(AND('Mapa final'!#REF!="Muy Alta",'Mapa final'!#REF!="Menor"),CONCATENATE("R",'Mapa final'!#REF!),"") -> #REF! | T15: =IF(AND('Mapa final'!#REF!="Muy Alta",'Mapa final'!#REF!="Menor"),CONCATENATE("R",'Mapa final'!#REF!),"") -> #REF! | V15: =IF(AND('Mapa final'!$P$22="Muy Alta",'Mapa final'!$S$22="Menor"),CONCATENATE("R",'Mapa final'!$A$22),"") | X15: =IF(AND('Mapa final'!#REF!="Muy Alta",'Mapa final'!#REF!="Moderado"),CONCATENATE("R",'Mapa final'!#REF!),"") -> #REF! | Z15: =IF(AND('Mapa final'!#REF!="Muy Alta",'Mapa final'!#REF!="Moderado"),CONCATENATE("R",'Mapa final'!#REF!),"") -> #REF! | AB15: =IF(AND('Mapa final'!$P$22="Muy Alta",'Mapa final'!$S$22="Moderado"),CONCATENATE("R",'Mapa final'!$A$22),"") | AD15: =IF(AND('Mapa final'!#REF!="Muy Alta",'Mapa final'!#REF!="Mayor"),CONCATENATE("R",'Mapa final'!#REF!),"") -> #REF! | AF15: =IF(AND('Mapa final'!#REF!="Muy Alta",'Mapa final'!#REF!="Mayor"),CONCATENATE("R",'Mapa final'!#REF!),"") -> #REF! | AH15: =IF(AND('Mapa final'!$P$22="Muy Alta",'Mapa final'!$S$22="Mayor"),CONCATENATE("R",'Mapa final'!$A$22),"") | AJ15: =IF(AND('Mapa final'!#REF!="Muy Alta",'Mapa final'!#REF!="Catastrófico"),CONCATENATE("R",'Mapa final'!#REF!),"") -> #REF! | AL15: =IF(AND('Mapa final'!#REF!="Muy Alta",'Mapa final'!#REF!="Catastrófico"),CONCATENATE("R",'Mapa final'!#REF!),"") -> #REF! | AN15: =IF(AND('Mapa final'!$P$22="Muy Alta",'Mapa final'!$S$22="Catastrófico"),CONCATENATE("R",'Mapa final'!$A$22),"")
L17: =IF(AND('Mapa final'!$P$23="Muy Alta",'Mapa final'!$S$23="Leve"),CONCATENATE("R",'Mapa final'!$A$23),"") | N17: =IF(AND('Mapa final'!$K$24="Muy Alta",'Mapa final'!$O$24="Leve"),CONCATENATE("R",'Mapa final'!$A$24),"") | P17: =IF(AND('Mapa final'!$K$25="Muy Alta",'Mapa final'!$O$25="Leve"),CONCATENATE("R",'Mapa final'!$A$25),"") | R17: =IF(AND('Mapa final'!$P$23="Muy Alta",'Mapa final'!$S$23="Menor"),CONCATENATE("R",'Mapa final'!$A$23),"") | T17: =IF(AND('Mapa final'!$P$24="Muy Alta",'Mapa final'!$S$24="Menor"),CONCATENATE("R",'Mapa final'!$A$24),"") | V17: =IF(AND('Mapa final'!$P$25="Muy Alta",'Mapa final'!$S$25="Menor"),CONCATENATE("R",'Mapa final'!$A$25),"") | X17: =IF(AND('Mapa final'!$P$23="Muy Alta",'Mapa final'!$S$23="Moderado"),CONCATENATE("R",'Mapa final'!$A$23),"") | Z17: =IF(AND('Mapa final'!$P$24="Muy Alta",'Mapa final'!$S$24="Moderado"),CONCATENATE("R",'Mapa final'!$A$24),"") | AB17: =IF(AND('Mapa final'!$P$25="Muy Alta",'Mapa final'!$S$25="Moderado"),CONCATENATE("R",'Mapa final'!$A$25),"") | AD17: =IF(AND('Mapa final'!$P$23="Muy Alta",'Mapa final'!$S$23="Mayor"),CONCATENATE("R",'Mapa final'!$A$23),"") | AF17: =IF(AND('Mapa final'!$P$24="Muy Alta",'Mapa final'!$S$24="Mayor"),CONCATENATE("R",'Mapa final'!$A$24),"") | AH17: =IF(AND('Mapa final'!$P$25="Muy Alta",'Mapa final'!$S$25="Mayor"),CONCATENATE("R",'Mapa final'!$A$25),"") | AJ17: =IF(AND('Mapa final'!$P$23="Muy Alta",'Mapa final'!$S$23="Catastrófico"),CONCATENATE("R",'Mapa final'!$A$23),"") | AL17: =IF(AND('Mapa final'!$P$24="Muy Alta",'Mapa final'!$S$24="Catastrófico"),CONCATENATE("R",'Mapa final'!$A$24),"") | AN17: =IF(AND('Mapa final'!$P$25="Muy Alta",'Mapa final'!$S$25="Catastrófico"),CONCATENATE("R",'Mapa final'!$A$25),"")
G19: Alta 80% | N19: =IF(AND('Mapa final'!$K$15="Alta",'Mapa final'!$O$15="Leve"),CONCATENATE("R",'Mapa final'!$A$18),"") | P19: =IF(AND('Mapa final'!$K$19="Alta",'Mapa final'!$O$19="Leve"),CONCATENATE("R",'Mapa final'!$A$19),"") | T19: =IF(AND('Mapa final'!$P$15="Alta",'Mapa final'!$S$15="Menor"),CONCATENATE("R",'Mapa final'!$A$18),"") | V19: =IF(AND('Mapa final'!$P$19="Alta",'Mapa final'!$S$19="Menor"),CONCATENATE("R",'Mapa final'!$A$19),"") | Z19: =IF(AND('Mapa final'!P$15="Alta",'Mapa final'!$S$15="Moderado"),CONCATENATE("R",'Mapa final'!$A$18),"") | AB19: =IF(AND('Mapa final'!$P$19="Alta",'Mapa final'!$S$19="Moderado"),CONCATENATE("R",'Mapa final'!$A$19),"") | AF19: =IF(AND('Mapa final'!$P$15="Alta",'Mapa final'!$S$15="Mayor"),CONCATENATE("R",'Mapa final'!$A$18),"") | AH19: =IF(AND('Mapa final'!$P$19="Alta",'Mapa final'!$S$19="Mayor"),CONCATENATE("R",'Mapa final'!$A$19),"") | AL19: =IF(AND('Mapa final'!$P$15="Alta",'Mapa final'!$S$15="Catastrófico"),CONCATENATE("R",'Mapa final'!$A$18),"") | AN19: =IF(AND('Mapa final'!$P$19="Alta",'Mapa final'!$S$19="Catastrófico"),CONCATENATE("R",'Mapa final'!$A$19),"") | AQ19: Alto
