Workbook
Name A_Obj1: OFFSET(#REF!,0,0,COUNTA(#REF!)-1,1)
Name A_Obj1: OFFSET(#REF!,0,0,COUNTA(#REF!)-1,1)
Name A_Obj1: OFFSET(#REF!,0,0,COUNTA(#REF!)-1,1)
Name A_Obj2: OFFSET(#REF!,0,0,COUNTA(#REF!)-1,1)
Name A_Obj2: OFFSET(#REF!,0,0,COUNTA(#REF!)-1,1)
Name A_Obj2: OFFSET(#REF!,0,0,COUNTA(#REF!)-1,1)
Name A_Obj3: OFFSET(#REF!,0,0,COUNTA(#REF!)-1,1)
Name A_Obj3: OFFSET(#REF!,0,0,COUNTA(#REF!)-1,1)
Name A_Obj3: OFFSET(#REF!,0,0,COUNTA(#REF!)-1,1)
Name A_Obj4: OFFSET(#REF!,0,0,COUNTA(#REF!)-1,1)
Name A_Obj4: OFFSET(#REF!,0,0,COUNTA(#REF!)-1,1)
Name A_Obj4: OFFSET(#REF!,0,0,COUNTA(#REF!)-1,1)
Name Acc_1: #REF!
Name Acc_1: #REF!
Name Acc_1: #REF!
Name Acc_2: #REF!
Name Acc_2: #REF!
Name Acc_2: #REF!
Name Acc_3: #REF!
Name Acc_3: #REF!
Name Acc_3: #REF!
Name Acc_4: #REF!
Name Acc_4: #REF!
Name Acc_4: #REF!
Name Acc_5: #REF!
Name Acc_5: #REF!
Name Acc_5: #REF!
Name Acc_6: #REF!
Name Acc_6: #REF!
Name Acc_6: #REF!
Name Acc_7: #REF!
Name Acc_7: #REF!
Name Acc_7: #REF!
Name Acc_8: #REF!
Name Acc_8: #REF!
Name Acc_8: #REF!
Name Acc_9: #REF!
Name Acc_9: #REF!
Name Acc_9: #REF!
Name Causafactor3: #REF!
Name ControlTipo: #REF!
Name Criterios_Impacto: Criterios[Criterios_Impacto]
Name Departamentos: #REF!
Name Departamentos: #REF!
Name Departamentos: #REF!
Name Fuentes: #REF!
Name Fuentes: #REF!
Name Fuentes: #REF!
Name Indicadores: #REF!
Name Indicadores: #REF!
Name Indicadores: #REF!
Name No_aplica: #REF!
Name No_aplica: #REF!
Name Objetivos: OFFSET(#REF!,0,0,COUNTA(#REF!)-1,1)
Name Objetivos: OFFSET(#REF!,0,0,COUNTA(#REF!)-1,1)
Name Objetivos: OFFSET(#REF!,0,0,COUNTA(#REF!)-1,1)
Name OLE_LINK2: 'CAMBIOS REGISTRO'!$A$1
Name Posibilidad: #REF!
Name RiesgoClase3: #REF!
Name SiNo: #REF!

Sheet PORTADA 
B2: Escuela Tecnológica Instituto Técnico Central Establecimiento Público de Educación Superior | D2: MAPA Y PLAN DE TRATAMIENTO DE RIESGOS | M2: CÓDIGO: GSI- CA-FO-09
M3: VERSIÓN: 9
M4: VIGENCIA: 2026-04-28
M5: PÁGINA: 1 de 1
D31: PREGUNTAR RIESGOS DE CORRUPCIÓN

Sheet CRITERIOS R CORRUPCION
B2: Escuela Tecnológica Instituto Técnico Central Establecimiento Público de Educación Superior | D2: CRITERIOS PARA CALIFICAR EL IMPACTO EN RIESGOS DE CORRUPCIÓN | E2: CÓDIGO:GSI- CA-FO-09
E3: VERSIÓN: 9
E4: VIGENCIA: 2026-04-28
A5: REGRESAR | E5: PÁGINA: 1 de 1
B7: ITEM | C7: Criterios para calificar el impacto en riesgos de corrupción | E7: MARACAR CON X
C9: Pregunta: ¿Si el riesgo de corrupción se materializa podría: | E9: SI | F9: NO
B10: 1 | C10: ¿Afectar al grupo de funcionarios del proceso? | E10: X
B11: 2 | C11: ¿Afectar el cumplimiento de metas y objetivos de la dependencia? | D11: ¿Afectar el cumplimiento de metas y objetivos de la dependencia?
B12: 3 | C12: ¿Afectar el cumplimiento de misión de la entidad? | D12: ¿Afectar el cumplimiento de misión de la entidad?
B13: 4 | C13: ¿Afectar el cumplimiento de la misión del sector al que pertenece la entidad? | D13: ¿Afectar el cumplimiento de misión del sector al que pertenece la entidad?
B14: 5 | C14: ¿Generar perdida de confianza de la entidad , afectando su reputación? | D14: ¿Generar perdida de confianza de la entidad , afectando su reputación?
B15: 6 | C15: ¿Generar perdida de recursos económicos? | D15: ¿Generar perdida de recursos económicos?
B16: 7 | C16: ¿Afectar la generación de los productos o la prestación de los servicios? | D16: ¿Afectar la generación de los productos o la prestación de los servicios?
B17: 8 | C17: ¿Dar lugar al detrimento de la calidad de vida de la comunidad por la perdida del bien, servicio o recursos públicos? | D17: ¿Dar lugar al detrimento de la calidad de vida de la comunidad por la perdida del bien, servicio o recursos públicos?
B18: 9 | C18: ¿Generar pérdida de información de la entidad? | D18: ¿Generar pérdida de información de la entidad?
B19: 10 | C19: ¿Generar intervención de los órganos de control, de la Fiscalia u otro ente? | D19: ¿Generar intervención de los órganos de control, de la Fiscalia u otro ente?
B20: 11 | C20: ¿Dar lugar a procesos sancionatorios? | D20: ¿Dar lugar a procesos sancionatorios?
B21: 12 | C21: ¿Dar lugar a procesos disciplinarios? | D21: ¿Dar lugar a procesos disciplinarios?
B22: 13 | C22: ¿Dar lugar a procesos fiscales? | D22: ¿Dar lugar a procesos fiscales?
... B28: 19 | C28: ¿Generar daño ambiental? | D28: ¿Generar daño ambiental?
E29: =COUNTIF(E10:E28,"x") -> 1 | F29: =COUNTIF(F10:F28,"x") -> 0 | G29: =IF(E29=0,"",IF(E29<=5,"Moderado",IF(E29<=11,"Mayor",IF(E29<=19,"Catastrófico","")))) -> Moderado
A31: Para la calificación del impacto de los riesgos clasificados con tipología de corrupción, se deberá responder las siguientes preguntas, con el fin de determinar el nivel de impacto del riesgo en caso de llegarse a materializar. Una vez responda las diecinueve (19) preguntas para cada uno de los riesgos de corrupción, automáticamente la presente hoja se establecerá el nivel de impacto del riesgo que se encuentra valorando, segun los rangos descritos a continuación:

Sheet Mapa final
D2: Escuela Tecnológica Instituto Técnico Central Establecimiento Público de Educación Superior | I2: MAPA DE RIESGOS | BD2: CÓDIGO:GSI- CA-FO-09
BD3: VERSIÓN: 9
BD4: VIGENCIA: 2026-04-28
BD5: PÁGINA: 1 de 1
D7: Proceso: | H7: GESTIÓN JURÍDICA
D8: Objetivo: | H8: Orientar, asistir, asesorar y defender la Institución, en asuntos jurídico-administrativos internos y externos de su competencia, de manera oportuna y eficaz buscando garantizar los intereses de la Escuela en cumplimiento de la Constitución Política, la Ley y la normatividad interna.
D9: Alcance: | H9: Inicia con la ocurrencia de la situación jurídica y/o actuación judicial que incluye todas las actividades propias de la representación legal de la entidad y finaliza con la solución del problema jurídico y/o la decisión judicial o conciliación correspondiente.
A11: REGRESAR | D11: PRIMERA LÍNEA DE DEFENSA (Líder del Proceso) | AS11: PRIMERA LÍNEA DE DEFENSA MONITOREO | AZ11: SEGUNDA LÍNEA DE DEFENSA (Oficina asesora de Planeación) | BC11: TERCERA LÍNEA DE DEFENSA (Control Interno)
D12: Identificación del riesgo | P12: Análisis del riesgo inherente | V12: Evaluación del riesgo - Valoración de los controles | AF12: Documentación | AG12: Evaluación del riesgo - Nivel del riesgo residual | AO12: Plan de Tratamiento
D13: Referencia | E13: Tipo de Riesgo (Clasificación) | F13: Impacto | G13: Efecto Dañoso (Riesgo Fiscal) | H13: Factor | I13: Causa Inmediata | J13: Causa Raíz-Amenazas | K13: Descripción del Riesgo | L13: Clasificación del Riesgo | M13: Seguridad de la Información | O13: Frecuencia con la cual se realiza la actividad | P13: Probabilidad Inherente | Q13: % | R13: Criterios de impacto | S13: Impacto Inherente | T13: % | U13: Zona de Riesgo Inherente | V13: No. Control | W13: Descripción del Control Responsable+ Frecuencia+ Propósito+ Desviación | X13: Soportes del Control | Y13: Afectación | Z13: Atributos | AG13: Probabilidad Residual | AH13: Probabilidad Residual Final | AI13: % | AJ13: Impacto Residual Final | AK13: % | AL13: Zona de Riesgo Final | AM13: Tratamiento | AN13: No. Acciones | AO13: Acción | AP13: Responsable | AQ13: Evidencia de la Acción | AR13: Fecha Implementación | AS13: Fecha de Reporte | AT13: ¿El riesgo se materializó? | AU13: Avance de Ejecución de Control(es) | AV13: Evidencias de la ejecución del Control | AW13: Avance de Ejecución de Plan de Tratamiento | AX13: Evidencias de la ejecucióndel Plan de Tratamiento | AY13: Estado del Plan de Acción | AZ13: Fecha Seguimiento | BA13: Seguimiento | BB13: Ubicación de las evidencias | BC13: Fecha Seguimiento | BD13: Seguimiento y Evaluación
M14: Activo de información afectado | N14: Criterio afectado | Z14: Tipo | AA14: Implementación | AB14: Calificación | AC14: Documentación | AD14: Frecuencia | AE14: Evidencia
D15: 1 | E15: Gestión | F15: Económico y Reputacional | H15: Procesos | I15: incumplimiento de los términos procesales y administrativos en la atención de actuaciones judiciales y extrajudiciales | J15: deficiencias en el seguimiento de los procesos, la gestión de las notificaciones judiciales y el control de los términos legales. | K15: Posibilidad de afectación económica y reputacional por el incumplimiento de los términos procesales y administrativos en la atención de actuaciones judiciales y extrajudiciales, debido a deficiencias en el seguimiento de los procesos, la gestión de las notificaciones judiciales y el control de los términos legales. | L15: Ejecucion y Administracion de procesos | O15: 100 | P15: =IF(O15<=0,"",IF(O15<=2,"Muy Baja",IF(O15<=24,"Baja",IF(O15<=500,"Media",IF(O15<=5000,"Alta","Muy Alta"))))) -> Media | Q15: =IF(P15="","",IF(P15="Muy Baja",0.2,IF(P15="Baja",0.4,IF(P15="Media",0.6,IF(P15="Alta",0.8,IF(P15="Muy Alta",1,)))))) -> 0.6 | R15: Entre 50 y 100 SMLMV | S15: =IFERROR(VLOOKUP(R15,Criterios[],2,FALSE),"") -> Moderado | T15: =IF(S15="","",IF(S15="Leve",0.2,IF(S15="Menor",0.4,IF(S15="Moderado",0.6,IF(S15="Mayor",0.8,IF(S15="Catastrófico",1,)))))) -> 0.6 | U15: =IF(OR(AND(P15="Muy Baja",S15="Leve"),AND(P15="Muy Baja",S15="Menor"),AND(P15="Baja",S15="Leve")),"Bajo",IF(OR(AND(P15="Muy baja",S15="Moderado"),AND(P15="Baja",S15="Menor"),AND(P15="Baja",S15="Moderado"),AND(P15="Media",S15="Leve"),AND(P15="Media",S15="Menor"),AND(P15="Media",S15="Moderado"),AND(P15="Alta",S15="Leve"),AND(P15="Alta",S15="Menor")),"Moderado",IF(OR(AND(P15="Muy Baja",S15="Mayor"),AND(P15="Baja",S15="Mayor"),AND(P15="Media",S15="Mayor"),AND(P15="Alta",S15="Moderado"),AND(P15="Alta",S15="Mayor"),AND(P15="Muy Alta",S15="Leve"),AND(P15="Muy Alta",S15="Menor"),AND(P15="Muy Alta",S15="Moderado"),AND(P15="Muy Alta",S15="Mayor")),"Alto",IF(OR(AND(P15="Muy Baja",S15="Catastrófico"),AND(P15="Baja",S15="Catastrófico"),AND(P15="Media",S15="Catastrófico"),AND(P15="Alta",S15="Catastrófico"),AND(P15="Muy Alta",S15="Catastrófico")),"Extremo","")))) -> Moderado | V15: 1 | W15: La Profesional de Gestión Jurídica, dos (2) veces por semana, consulta el estado de los procesos judiciales asignados mediante la plataforma de Consulta de Procesos de la Rama Judicial o los medios oficiales dispuestos por las autoridades competentes, verificando la existencia de nuevas actuaciones y los términos procesales aplicables, con el fin de garantizar su atención oportuna. La evidencia del control es la Matriz de seguimiento a la página web de rama judicial y los correos de notificacionesjudiciales@itc.edu.co Cuando identifique actuaciones con término próximo a vencer, registra inmediatamente la actuación en la matriz de control de términos e informa al Secretario General para priorizar su atención. Si la plataforma de consulta presenta indisponibilidad, realiza la verificación mediante el canal oficial de notificaciones judiciales y demás medios habilitados por la autoridad judicial. | X15: Matriz de seguimiento a la página web de rama judicial. Correo electrónico: notificacionesjudiciales@itc.edu.co | Y15: =IF(OR(Z15="Preventivo",Z15="Detectivo"),"Probabilidad",IF(Z15="Correctivo","Impacto","")) -> Probabilidad | Z15: Preventivo | AA15: Manual | AB15: =IF(AND(Z15="Preventivo",AA15="Automático"),"50%",IF(AND(Z15="Preventivo",AA15="Manual"),"40%",IF(AND(Z15="Detectivo",AA15="Automático"),"40%",IF(AND(Z15="Detectivo",AA15="Manual"),"30%",IF(AND(Z15="Correctivo",AA15="Automático"),"35%",IF(AND(Z15="Correctivo",AA15="Manual"),"25%","")))))) -> 40% | AC15: Sin Documentar | AD15: Continua | AE15: Con Registro | AF15: Pendiente documentar | AG15: =IFERROR(IF(Y15="Probabilidad",Q15-(Q15*((AB15+AB16)/2)),IF(Y15="Impacto",Q15,"")),"") -> 0.36 | AH15: =IFERROR(IF(AG15="","",IF(AG15<=0.2,"Muy Baja",IF(AG15<=0.4,"Baja",IF(AG15<=0.6,"Media",IF(AG15<=0.8,"Alta","Muy Alta"))))),"") -> Baja | AI15: =+AG15 -> 0.36 | AJ15: =IFERROR(IF(AK15="","",IF(AK15<=0.2,"Leve",IF(AK15<=0.4,"Menor",IF(AK15<=0.6,"Moderado",IF(AK15<=0.8,"Mayor","Catastrófico"))))),"") -> Moderado | AK15: =IFERROR(IF(Y15="Impacto",(T15-(T15*((AB15+#REF!)/2))),IF(Y15="Probabilidad",T15,"")),"") -> 0.6 | AL15: =IFERROR(IF(OR(AND(AH15="Muy Baja",AJ15="Leve"),AND(AH15="Muy Baja",AJ15="Menor"), AND(AH15="Baja",AJ15="Leve") ),"Bajo",IF(OR(AND(AH15="Muy Baja",AJ15="Moderado"),AND(AH15="Baja",AJ15="Menor"), AND(AH15="Baja",AJ15="Moderado"),AND(AH15="Media",AJ15="Leve"), AND(AH15="Media",AJ15="Menor"), AND(AH15="Media",AJ15="Moderado"),AND(AH15="Alta",AJ15="Leve"), AND(AH15="Alta",AJ15="Menor") ), "Moderado", IF( OR( AND(AH15="Muy Baja",AJ15="Mayor"), AND(AH15="Alta",AJ15="Moderado"),AND(AH15="Alta",AJ15="Mayor"), AND(AH15="Muy Alta",AJ15="Leve"),AND(AH15="Muy Alta",AJ15="Menor"), AND(AH15="Muy Alta",AJ15="Moderado"), AND(AH15="Muy Alta",AJ15="Mayor"), AND(AH15="Baja",AJ15="Mayor"), AND(AH15="Media",AJ15="Mayor") ),"Alto", IF( AJ15="Catastrófico", "Extremo","" ) ) ) ), "") -> Moderado | AM15: Reducir (mitigar) | AN15: 1 | AO15: Implementar alertas automáticas en Outlook o en la matriz de seguimiento para los vencimientos de términos. | AP15: Líder de Gestión Jurídica o a quien designe | AQ15: Captura de pantalla de la regla o recordatorio de Outlook, o matriz de seguimiento con la columna de alerta y fechas de vencimiento. | AR15: 46387 | AS15: 46265 | AT15: NO | AU15: A la fecha se ha realizado el seguimiento de los procesos judiciales en los cuales la entidad actúa como demandante o demandado, cada 15 días a través de la plataforma SAMAI (casos contenciosos administrativos) y la Rama Judicial (jurisdicción ordinaria), así como el seguimiento y verificación, dos veces por semana, por medio del correo electrónico (notificacionesjudiciales), de conformidad con el CPACA. | AV15: https://itceduco-my.sharepoint.com/personal/calidad_itc_edu_co/_layouts/15/onedrive.aspx?id=%2Fpersonal%2Fcalidad%5Fitc%5Fedu%5Fco%2FDocuments%2F1%2E%20CALIDAD%2FRIESGOS%2FMAPA%20DE%20RIESGOS%202026%2FMONITOREO%20RIESGOS%20%2D%20I%20y%20II%20CUATRIMESTRE%202026%2F16%2E%20Gestión%20Jurídica%2FRevisión%5FProcesos&viewid=447e56a4%2D5745%2D47ab%2D890b%2D6d01b02bc3f2&ga=1 | AW15: Esta actividad se incorporó en la matriz de riesgos para su implementación a partir del segundo cuatrimestre del 2026 | AY15: Iniciada
V16: 2 | W16: El/la Profesional de Gestión Jurídica cada vez que se reciba una actuación o requerimiento judicial, registra la información en la matriz de seguimiento de términos, indicando la fecha de recepción, término legal, responsable y fecha límite de respuesta, con el fin de realizar el control oportuno de los vencimientos. Como evidencia se conserva la matriz de seguimiento debidamente actualizada. Semanalmente el Secretario General verifica la actualización de la matriz y, en caso de identificar actuaciones sin registrar, términos próximos a vencer o inconsistencias, solicita su actualización inmediata y realiza seguimiento hasta el cierre de la novedad. | X16: matriz de seguimiento debidamente actualizada. Solicitud del Secretario General en caso de identificar inconsistencias | Y16: =IF(OR(Z16="Preventivo",Z16="Detectivo"),"Probabilidad",IF(Z16="Correctivo","Impacto","")) -> Probabilidad | Z16: Preventivo | AA16: Manual | AB16: =IF(AND(Z16="Preventivo",AA16="Automático"),"50%",IF(AND(Z16="Preventivo",AA16="Manual"),"40%",IF(AND(Z16="Detectivo",AA16="Automático"),"40%",IF(AND(Z16="Detectivo",AA16="Manual"),"30%",IF(AND(Z16="Correctivo",AA16="Automático"),"35%",IF(AND(Z16="Correctivo",AA16="Manual"),"25%","")))))) -> 40% | AC16: Sin Documentar | AD16: Continua | AE16: Con Registro | AF16: Pendiente documentar | AN16: 2 | AO16: Realizar conciliaciones mensuales entre la matriz institucional y los procesos consultados en la Rama Judicial. | AP16: Líder de Gestión Jurídica o a quien designe | AQ16: Acta breve o formato de conciliación mensual firmado, con la relación de procesos conciliados. | AR16: 46387 | AS16: 46265 | AT16: NO | AU16: El Secretario General verificó semanalmente la actualización de la matriz y no encontró falta de diligenciamiento de terminos realizados por el abogado para el seguimiento de los proceso judiciales. | AV16: https://itceduco-my.sharepoint.com/personal/calidad_itc_edu_co/_layouts/15/onedrive.aspx?id=%2Fpersonal%2Fcalidad%5Fitc%5Fedu%5Fco%2FDocuments%2F1%2E%20CALIDAD%2FRIESGOS%2FMAPA%20DE%20RIESGOS%202026%2FMONITOREO%20RIESGOS%20%2D%20I%20y%20II%20CUATRIMESTRE%202026%2F16%2E%20Gestión%20Jurídica%2FRevisión%5FProcesos&viewid=447e56a4%2D5745%2D47ab%2D890b%2D6d01b02bc3f2&ga=1 | AW16: Esta actividad se incorporó en la matriz de riesgos para su implementación a partir del segundo cuatrimestre del 2026 | AY16: Iniciada
D17: 2 | E17: Gestión | F17: Económico y Reputacional | H17: Procesos | I17: emisión de conceptos, asesorías o actuaciones jurídicas contrarias a la normatividad vigente, | J17: deficiencias en la actualización normativa, el análisis jurídico y la socialización de los cambios normativos aplicables. | K17: Posibilidad de afectación económica y reputacional por la emisión de conceptos, asesorías o actuaciones jurídicas contrarias a la normatividad vigente, debido a deficiencias en la actualización normativa, el análisis jurídico y la socialización de los cambios normativos aplicables. | L17: Ejecucion y Administracion de procesos | O17: 15 | P17: =IF(O17<=0,"",IF(O17<=2,"Muy Baja",IF(O17<=24,"Baja",IF(O17<=500,"Media",IF(O17<=5000,"Alta","Muy Alta"))))) -> Baja | Q17: =IF(P17="","",IF(P17="Muy Baja",0.2,IF(P17="Baja",0.4,IF(P17="Media",0.6,IF(P17="Alta",0.8,IF(P17="Muy Alta",1,)))))) -> 0.4 | R17: Mayor (Corrupción) | S17: =IFERROR(VLOOKUP(R17,Criterios[],2,FALSE),"") -> Mayor | T17: =IF(S17="","",IF(S17="Leve",0.2,IF(S17="Menor",0.4,IF(S17="Moderado",0.6,IF(S17="Mayor",0.8,IF(S17="Catastrófico",1,)))))) -> 0.8 | U17: =IF(OR(AND(P17="Muy Baja",S17="Leve"),AND(P17="Muy Baja",S17="Menor"),AND(P17="Baja",S17="Leve")),"Bajo",IF(OR(AND(P17="Muy baja",S17="Moderado"),AND(P17="Baja",S17="Menor"),AND(P17="Baja",S17="Moderado"),AND(P17="Media",S17="Leve"),AND(P17="Media",S17="Menor"),AND(P17="Media",S17="Moderado"),AND(P17="Alta",S17="Leve"),AND(P17="Alta",S17="Menor")),"Moderado",IF(OR(AND(P17="Muy Baja",S17="Mayor"),AND(P17="Baja",S17="Mayor"),AND(P17="Media",S17="Mayor"),AND(P17="Alta",S17="Moderado"),AND(P17="Alta",S17="Mayor"),AND(P17="Muy Alta",S17="Leve"),AND(P17="Muy Alta",S17="Menor"),AND(P17="Muy Alta",S17="Moderado"),AND(P17="Muy Alta",S17="Mayor")),"Alto",IF(OR(AND(P17="Muy Baja",S17="Catastrófico"),AND(P17="Baja",S17="Catastrófico"),AND(P17="Media",S17="Catastrófico"),AND(P17="Alta",S17="Catastrófico"),AND(P17="Muy Alta",S17="Catastrófico")),"Extremo","")))) -> Alto | V17: 1 | W17: Los profesionales jurídicos de la Secretaría General, cada vez que se expida una disposición normativa o jurisprudencial que impacte la gestión de la ETITC, analizan su aplicabilidad y evaluarán la necesidad de elaboracion de circular, comunicado o lineamiento institucional correspondiente, con el propósito de garantizar la actualización y aplicación oportuna de la normatividad vigente en las actuaciones de la Entidad. En caso de identificar que una actualización normativa no fue analizada o socializada oportunamente, realizan de manera inmediata el análisis, emiten la comunicación correspondiente e informan a las dependencias involucradas para la adopción de las acciones pertinentes. | X17: Circulares. Comunicados. Correos electrónicos. Lineamientos jurídicos. | Y17: =IF(OR(Z17="Preventivo",Z17="Detectivo"),"Probabilidad",IF(Z17="Correctivo","Impacto","")) -> Probabilidad | Z17: Preventivo | AA17: Manual | AB17: =IF(AND(Z17="Preventivo",AA17="Automático"),"50%",IF(AND(Z17="Preventivo",AA17="Manual"),"40%",IF(AND(Z17="Detectivo",AA17="Automático"),"40%",IF(AND(Z17="Detectivo",AA17="Manual"),"30%",IF(AND(Z17="Correctivo",AA17="Automático"),"35%",IF(AND(Z17="Correctivo",AA17="Manual"),"25%","")))))) -> 40% | AC17: Sin Documentar | AD17: Continua | AE17: Con Registro | AF17: Pendiente documentar | AG17: =IFERROR(IF(Y17="Probabilidad",Q17-(Q17*((AB17))),IF(Y17="Impacto",Q17,"")),"") -> 0.24 | AH17: =IFERROR(IF(AG17="","",IF(AG17<=0.2,"Muy Baja",IF(AG17<=0.4,"Baja",IF(AG17<=0.6,"Media",IF(AG17<=0.8,"Alta","Muy Alta"))))),"") -> Baja | AI17: =+AG17 -> 0.24 | AJ17: =IFERROR(IF(AK17="","",IF(AK17<=0.2,"Leve",IF(AK17<=0.4,"Menor",IF(AK17<=0.6,"Moderado",IF(AK17<=0.8,"Mayor","Catastrófico"))))),"") -> Mayor | AK17: =IFERROR(IF(Y17="Impacto",(T17-(T17*((AB17+#REF!+#REF!+#REF!)/4))),IF(Y17="Probabilidad",T17,"")),"") -> 0.8 | AL17: =IFERROR(IF(OR(AND(AH17="Muy Baja",AJ17="Leve"),AND(AH17="Muy Baja",AJ17="Menor"), AND(AH17="Baja",AJ17="Leve") ),"Bajo",IF(OR(AND(AH17="Muy Baja",AJ17="Moderado"),AND(AH17="Baja",AJ17="Menor"), AND(AH17="Baja",AJ17="Moderado"),AND(AH17="Media",AJ17="Leve"), AND(AH17="Media",AJ17="Menor"), AND(AH17="Media",AJ17="Moderado"),AND(AH17="Alta",AJ17="Leve"), AND(AH17="Alta",AJ17="Menor") ), "Moderado", IF( OR( AND(AH17="Muy Baja",AJ17="Mayor"), AND(AH17="Alta",AJ17="Moderado"),AND(AH17="Alta",AJ17="Mayor"), AND(AH17="Muy Alta",AJ17="Leve"),AND(AH17="Muy Alta",AJ17="Menor"), AND(AH17="Muy Alta",AJ17="Moderado"), AND(AH17="Muy Alta",AJ17="Mayor"), AND(AH17="Baja",AJ17="Mayor"), AND(AH17="Media",AJ17="Mayor") ),"Alto", IF( AJ17="Catastrófico", "Extremo","" ) ) ) ), "") -> Alto | AM17: Reducir (mitigar) | AN17: 1 | AO17: Elaborar e implementar un procedimiento definiendo la metodología para la gestión, seguimiento de cambios normativos, actualización de normograma y responsables | AP17: Líder de Gestión Jurídica o a quien designe | AQ17: Procedimiento aprobado y registro de actualización del normograma (control de cambios o versión vigente). | AR17: 46387 | AS17: 46265 | AT17: NO | AU17: El abogado de la secretaria general, luego de la revision quincenal en los portales web de las entidandes regulatorias del sector nacional, NO encontro que se expidera normatividad que impacte a la ETITC. | AV17: https://itceduco-my.sharepoint.com/personal/calidad_itc_edu_co/_layouts/15/onedrive.aspx?id=%2Fpersonal%2Fcalidad%5Fitc%5Fedu%5Fco%2FDocuments%2F1%2E%20CALIDAD%2FRIESGOS%2FMAPA%20DE%20RIESGOS%202026%2FMONITOREO%20RIESGOS%20%2D%20I%20y%20II%20CUATRIMESTRE%202026%2F16%2E%20Gestión%20Jurídica%2FRevisión%5FProcesos&viewid=447e56a4%2D5745%2D47ab%2D890b%2D6d01b02bc3f2&ga=1 | AY17: Iniciada
D18: 3 | E18: Corrupción | F18: Reputacional | H18: Talento humano | I18: Actuación parcializada del servidor público en la emisión de conceptos, elaboración de documentos o actuaciones jurídicas, influenciada por un beneficio indebido o por un conflicto de interés no gestionado. | J18: Debilidades en los controles para la gestión de conflictos de interés, la supervisión de las actuaciones jurídicas y el fortalecimiento de la cultura de integridad y transparencia institucional. | K18: Posibilidad de afectación reputacional por recibir, solicitar o aceptar dádivas o cualquier otro beneficio indebido, haciendo uso de las funciones y facultades del cargo para emitir conceptos, elaborar documentos o adelantar actuaciones jurídicas contrarias a la normatividad vigente, desviando el cumplimiento de los fines institucionales, con el fin de obtener un beneficio propio o favorecer indebidamente a un tercero. | L18: Fraude Interno | O18: 700 | P18: =IF(O18<=0,"",IF(O18<=2,"Muy Baja",IF(O18<=24,"Baja",IF(O18<=500,"Media",IF(O18<=5000,"Alta","Muy Alta"))))) -> Alta | Q18: =IF(P18="","",IF(P18="Muy Baja",0.2,IF(P18="Baja",0.4,IF(P18="Media",0.6,IF(P18="Alta",0.8,IF(P18="Muy Alta",1,)))))) -> 0.8 | R18: Mayor (Corrupción) | S18: =IFERROR(VLOOKUP(R18,Criterios[],2,FALSE),"") -> Mayor | T18: =IF(S18="","",IF(S18="Leve",0.2,IF(S18="Menor",0.4,IF(S18="Moderado",0.6,IF(S18="Mayor",0.8,IF(S18="Catastrófico",1,)))))) -> 0.8 | U18: =IF(OR(AND(P18="Muy Baja",S18="Leve"),AND(P18="Muy Baja",S18="Menor"),AND(P18="Baja",S18="Leve")),"Bajo",IF(OR(AND(P18="Muy baja",S18="Moderado"),AND(P18="Baja",S18="Menor"),AND(P18="Baja",S18="Moderado"),AND(P18="Media",S18="Leve"),AND(P18="Media",S18="Menor"),AND(P18="Media",S18="Moderado"),AND(P18="Alta",S18="Leve"),AND(P18="Alta",S18="Menor")),"Moderado",IF(OR(AND(P18="Muy Baja",S18="Mayor"),AND(P18="Baja",S18="Mayor"),AND(P18="Media",S18="Mayor"),AND(P18="Alta",S18="Moderado"),AND(P18="Alta",S18="Mayor"),AND(P18="Muy Alta",S18="Leve"),AND(P18="Muy Alta",S18="Menor"),AND(P18="Muy Alta",S18="Moderado"),AND(P18="Muy Alta",S18="Mayor")),"Alto",IF(OR(AND(P18="Muy Baja",S18="Catastrófico"),AND(P18="Baja",S18="Catastrófico"),AND(P18="Media",S18="Catastrófico"),AND(P18="Alta",S18="Catastrófico"),AND(P18="Muy Alta",S18="Catastrófico")),"Extremo","")))) -> Alto | V18: 1 | W18: El Secretario General, cada vez que se proyecte un concepto jurídico, acto administrativo o documento de contenido jurídico de especial relevancia, verifica que su contenido se encuentre soportado en la normatividad vigente, los antecedentes y la evidencia documental correspondiente, con el propósito de prevenir actuaciones contrarias al ordenamiento jurídico o que favorezcan indebidamente intereses particulares. En caso de identificar inconsistencias, ausencia de soportes o posibles conflictos de interés, devuelve el documento al responsable para su ajuste y realiza seguimiento hasta la subsanación de las observaciones. | X18: Concepto o acto administrativo con visto bueno (firma o aprobación electrónica) y lista de chequeo jurídica anexada. | Y18: =IF(OR(Z18="Preventivo",Z18="Detectivo"),"Probabilidad",IF(Z18="Correctivo","Impacto","")) -> Probabilidad | Z18: Preventivo | AA18: Manual | AB18: =IF(AND(Z18="Preventivo",AA18="Automático"),"50%",IF(AND(Z18="Preventivo",AA18="Manual"),"40%",IF(AND(Z18="Detectivo",AA18="Automático"),"40%",IF(AND(Z18="Detectivo",AA18="Manual"),"30%",IF(AND(Z18="Correctivo",AA18="Automático"),"35%",IF(AND(Z18="Correctivo",AA18="Manual"),"25%","")))))) -> 40% | AC18: Sin Documentar | AD18: Continua | AE18: Con Registro | AF18: Pendiente documentar | AG18: =IFERROR(IF(Y18="Probabilidad",Q18-(Q18*((AB18+AB19+AB20+AB21)/4)),IF(Y18="Impacto",Q18,"")),"") -> 0.5 | AH18: =IFERROR(IF(AG18="","",IF(AG18<=0.2,"Muy Baja",IF(AG18<=0.4,"Baja",IF(AG18<=0.6,"Media",IF(AG18<=0.8,"Alta","Muy Alta"))))),"") -> Media | AI18: =+AG18 -> 0.5 | AJ18: =IFERROR(IF(AK18="","",IF(AK18<=0.2,"Leve",IF(AK18<=0.4,"Menor",IF(AK18<=0.6,"Moderado",IF(AK18<=0.8,"Mayor","Catastrófico"))))),"") -> Mayor | AK18: =IFERROR(IF(Y18="Impacto",(T18-(T18*((AB18+AB19+AB20+AB21)/4))),IF(Y18="Probabilidad",T18,"")),"") -> 0.8 | AL18: =IFERROR(IF(OR(AND(AH18="Muy Baja",AJ18="Leve"),AND(AH18="Muy Baja",AJ18="Menor"), AND(AH18="Baja",AJ18="Leve") ),"Bajo",IF(OR(AND(AH18="Muy Baja",AJ18="Moderado"),AND(AH18="Baja",AJ18="Menor"), AND(AH18="Baja",AJ18="Moderado"),AND(AH18="Media",AJ18="Leve"), AND(AH18="Media",AJ18="Menor"), AND(AH18="Media",AJ18="Moderado"),AND(AH18="Alta",AJ18="Leve"), AND(AH18="Alta",AJ18="Menor") ), "Moderado", IF( OR( AND(AH18="Muy Baja",AJ18="Mayor"), AND(AH18="Alta",AJ18="Moderado"),AND(AH18="Alta",AJ18="Mayor"), AND(AH18="Muy Alta",AJ18="Leve"),AND(AH18="Muy Alta",AJ18="Menor"), AND(AH18="Muy Alta",AJ18="Moderado"), AND(AH18="Muy Alta",AJ18="Mayor"), AND(AH18="Baja",AJ18="Mayor"), AND(AH18="Media",AJ18="Mayor") ),"Alto", IF( AJ18="Catastrófico", "Extremo","" ) ) ) ), "") -> Alto | AM18: Reducir (mitigar) | AN18: 1 | AO18: Implementar la revisión y validación previa de conceptos jurídicos y actos administrativos por parte del Secretario General o del Líder de Gestión Jurídica | AP18: Líder de Gestión Jurídica o a quien designe | AQ18: Documento con visto bueno del Secretario General o correo de aprobación antes de su emisión. | AR18: 46387 | AS18: 46265 | AT18: NO | AU18: Se revisaron y validaron los actos administrativos y conceptos jurídicos emitidos en el periodo, verificando su soporte normativo. Sin desviaciones
V19: 2 | W19: Los servidores públicos y contratistas que intervengan en la elaboración de conceptos jurídicos, actuaciones judiciales o revisión de actos administrativos, cada vez que identifiquen un posible conflicto de interés, informan inmediatamente al Secretario General y se abstienen de participar en la actuación correspondiente, con el propósito de garantizar la imparcialidad en las decisiones jurídicas. En caso de identificarse un conflicto de interés durante el desarrollo de la actuación, el Secretario General designa un nuevo responsable y deja la respectiva trazabilidad documental. | X19: Correo electrónico de declaración del conflicto de interés y memorando o correo de designación del nuevo responsable. | Y19: =IF(OR(Z19="Preventivo",Z19="Detectivo"),"Probabilidad",IF(Z19="Correctivo","Impacto","")) -> Probabilidad | Z19: Preventivo | AA19: Manual | AB19: =IF(AND(Z19="Preventivo",AA19="Automático"),"50%",IF(AND(Z19="Preventivo",AA19="Manual"),"40%",IF(AND(Z19="Detectivo",AA19="Automático"),"40%",IF(AND(Z19="Detectivo",AA19="Manual"),"30%",IF(AND(Z19="Correctivo",AA19="Automático"),"35%",IF(AND(Z19="Correctivo",AA19="Manual"),"25%","")))))) -> 40% | AC19: Sin Documentar | AD19: Continua | AE19: Con Registro | AF19: Pendiente documentar | AN19: 2 | AO19: Implementar un mecanismo de declaración y gestión de conflictos de interés para las actuaciones jurídicas de mayor impacto. | AP19: Líder de Gestión Jurídica o a quien designe | AQ19: Formato de declaración de conflicto de interés diligenciado o registro de “sin conflicto de interés” firmado por el responsable. | AR19: 46387 | AS19: 46265 | AT19: NO | AU19: Durante el periodo no se identificaron situaciones de conflictos de interés; el personal dio cumplimiento al deber de abstención y reporte en las actuaciones jurídicas.
V20: 3 | W20: El Secretario General, trimestralmente, selecciona una muestra de conceptos jurídicos, actuaciones judiciales y actos administrativos revisados por la dependencia para verificar que se encuentren soportados en la normatividad vigente y que no existan actuaciones que puedan evidenciar favorecimiento indebido de terceros. En caso de identificar inconsistencias, informa a la autoridad competente y define las acciones de mejora correspondientes. | X20: Acta o informe trimestral de revisión de expedientes, indicando la muestra revisada y las observaciones encontradas. | Y20: =IF(OR(Z20="Preventivo",Z20="Detectivo"),"Probabilidad",IF(Z20="Correctivo","Impacto","")) -> Probabilidad | Z20: Detectivo | AA20: Manual | AB20: =IF(AND(Z20="Preventivo",AA20="Automático"),"50%",IF(AND(Z20="Preventivo",AA20="Manual"),"40%",IF(AND(Z20="Detectivo",AA20="Automático"),"40%",IF(AND(Z20="Detectivo",AA20="Manual"),"30%",IF(AND(Z20="Correctivo",AA20="Automático"),"35%",IF(AND(Z20="Correctivo",AA20="Manual"),"25%","")))))) -> 30% | AC20: Sin Documentar | AD20: Continua | AE20: Con Registro | AF20: Pendiente documentar | AN20: 3 | AO20: Diseñar e implementar una lista de verificación para la elaboración y revisión de conceptos jurídicos y actos administrativos. | AP20: Líder de Gestión Jurídica o a quien designe | AQ20: Lista de chequeo diligenciada y anexada al expediente del documento revisado. | AR20: 46387 | AS20: 46265 | AT20: NO | AU20: Se ejecutó la selección y revisión de la muestra trimestral de conceptos y actuaciones jurídicas, comprobando su adecuación a la normatividad vigente sin evidenciar desviaciones
V21: 4 | W21: Los profesionales jurídicos de la Secretaría General, cada vez que elaboren conceptos jurídicos o revisen actos administrativos, conservan los soportes normativos, jurisprudenciales y documentales que sustentan el análisis realizado, con el propósito de garantizar la trazabilidad y transparencia de las actuaciones jurídicas. En caso de evidenciar ausencia de soportes, el documento no podrá emitirse hasta completar la documentación requerida. | X21: Carpeta digital del expediente con los documentos de soporte (normas, jurisprudencia, antecedentes y concepto jurídico). | Y21: =IF(OR(Z21="Preventivo",Z21="Detectivo"),"Probabilidad",IF(Z21="Correctivo","Impacto","")) -> Probabilidad | Z21: Preventivo | AA21: Manual | AB21: =IF(AND(Z21="Preventivo",AA21="Automático"),"50%",IF(AND(Z21="Preventivo",AA21="Manual"),"40%",IF(AND(Z21="Detectivo",AA21="Automático"),"40%",IF(AND(Z21="Detectivo",AA21="Manual"),"30%",IF(AND(Z21="Correctivo",AA21="Automático"),"35%",IF(AND(Z21="Correctivo",AA21="Manual"),"25%","")))))) -> 40% | AC21: Sin Documentar | AD21: Continua | AE21: Con Registro | AF21: Pendiente documentar | AN21: 4 | AO21: Desarrollar actividades periódicas de sensibilización sobre integridad, transparencia y prevención de la corrupción dirigidas al personal de la Secretaría General. | AP21: Líder de Gestión Jurídica o a quien designe | AQ21: Lista de asistencia y presentación o material utilizado en la capacitación. | AR21: 46387 | AS21: 46265 | AT21: NO | AU21: Los profesionales jurídicos conservaron los soportes normativos y jurisprudenciales de los documentos emitidos. No se presentaron emisiones sin la documentación completa
I22: *Nota: La columna referencia se sugiere para mantener el consecutivo de riesgos, así el riesgo salga del mapa no existirá otro riesgo con el mismo número. Una entidad puede ir en el riesgo 150 pero tener 70 riesgos, lo que permite llevar una traza de los riesgos. Esta información la debe administrar la Oficina Asesora de Planeación o Gerencia de Riesgos.
D25: LIDER DEL PROCESO: Hno. Ariosto Ardila Silva | BH25: Iniciada
P26: =+IFERROR(VLOOKUP(L26,$L$181:$P$185,3,FALSE)*VLOOKUP(O26,$O$181:$P$185,3,FALSE),"") | BH26: Sin iniciar
D27: CLASIF. DE CONFIDENCIALIDAD | K27: IPB | L27: CLASIF. DE INTEGRIDAD | S27: A | V27: CLASIF. DE DISPONIBILIDAD | Z27: 1 | BH27: cumplida
D28: Documento controlado por el Sistema de Gestión de la Calidad Asegúrese que corresponde a la última versión consultando el micrositio de calidad de la Escuela Tecnológica Instituto Técnico Central (ETITC) | BH28: Incumplida

Sheet Datos
A1: Criterios_Impacto | B1: Calificación
A2: Afectación menor a 10 SMLMV . | B2: Leve
A3: Entre 10 y 50 SMLMV | B3: Menor
A4: Entre 50 y 100 SMLMV | B4: Moderado
A5: Entre 100 y 500 SMLMV | B5: Mayor
A6: Mayor a 500 SMLMV | B6: Catastrófico
A7: El riesgo afecta la imagen de alguna área de la organización | B7: Leve
A8: El riesgo afecta la imagen de la entidad internamente, de conocimiento general, nivel interno, de junta dircetiva y accionistas y/o de provedores | B8: Menor
A9: El riesgo afecta la imagen de la entidad con algunos usuarios de relevancia frente al logro de los objetivos | B9: Moderado
A10: El riesgo afecta la imagen de de la entidad con efecto publicitario sostenido a nivel de sector administrativo, nivel departamental o municipal | B10: Mayor
A11: El riesgo afecta la imagen de la entidad a nivel nacional, con efecto publicitarios sostenible a nivel país | B11: Catastrófico
A12: Moderado (Corrupción) | B12: Moderado
... A14: Catastrófico (Corrupción) | B14: Catastrófico

Sheet Formulas
B1: Identificación del riesgo | L1: Evaluación del riesgo - Valoración de los controles
B2: 14. Tipología de riesgos que enmarcan la política de administración del riesgo | C2: 6.4. Identificación de áreas de factores de riesgo | D2: Impacto | E2: Efecto Dañoso (fiscal) | F2: FACTOR | G2: Clasificacion del riesgo | H2: Riesgo Materializado | I2: Activo de información | J2: Criterio | L2: Tipo | M2: Implementación | N2: Documentación | O2: Frecuencia | P2: Evidencia | Q2: Tratamiento | R2: Plan de accion (solo para la opción reducir)
B3: Gestión | C3: • Procesos | D3: Económico | E3: Recursos Públicos | F3: Evento externo | G3: Daños Activos Fisicos | H3: SI | I3: Información | J3: Confidencialidad | L3: Preventivo | M3: Automático | N3: Documentado | O3: Continua | P3: Registro Sustancial | Q3: Aceptar | R3: Finalizado
B4: Corrupción | C4: • Talento humano | D4: Reputacional | E4: Bienes Públicos | F4: Financiero | G4: Ejecucion y Administracion de procesos | H4: NO | I4: Software | J4: Disponibilidad | L4: Detectivo | M4: Manual | N4: Sin Documentar | O4: Aleatoria | P4: Registro Material | Q4: Evitar | R4: En curso
B5: Fiscal | C5: • Tecnología | D5: Económico y Reputacional | E5: Intereses Patrimoniales de Naturaleza Pública | F5: Infraestructura | G5: Fallas Tecnologicas | I5: Hardware | J5: Integridad | L5: Correctivo | P5: Sin registro | Q5: Reducir
B6: Seguridad de la Información | C6: • Infraestructura | F6: Procesos | G6: Fraude Externo | I6: Servicios | J6: NO APLICA | Q6: Reducir (mitigar)
C7: • Evento externo | F7: Talento humano | G7: Fraude Interno | I7: Intangibles | Q7: Reducir (compartir)
F8: Tecnología | G8: Relaciones Laborales | I8: Componentes de red
G9: Usuarios, productos y practicas , organizacionales | I9: Personas
I10: Instalaciones
I12: Instalaciones

Sheet Apayo Visual 
B2: Redaccion del Riesgo General
B30: Redaccion del Riesgo fiscal

Sheet eliminar
C2: CONTEXTO - DOFA
C4: DEBILIDADES | D4: ESTADO
C5: D1. Falta de disponibilidad de recurso humano contratado, con cobertura en las diferentes sedes, Seccionales, Extensiones, unidades Agroambientales y Oficinas de la Universidad, que garantice el apoyo continuó durante todo el período académico | D5: 1
C6: D2. Falta de conocimiento de la normatividad legal vigente, aplicable y actualizada, relacionada con aspectos e impactos ambientales asociados al desempeño ambiental institucional y de su respectivo seguimiento. | D6: 1
C7: D3. Falta de conocimiento, participación, de la totalidad de la comunidad universitaria y otras partes interesadas del Sistema de Gestión Ambiental, y las actividades de implementación del mismo, de la Política Ambiental y Programas ambientales del Plan Institucional de Gestión Ambiental PIGA. | D7: 1
C8: D4. Falta de compromiso y sentido de pertenencia con los temas ambientales por parte de algunos sectores de la comunidad universitaria y otras partes interesadas, reflejado en la falta de participación en actividades del SGA y de lineamientos ambientales. | D8: 1
C9: D5. Falta de articulación de los lineamientos del SGA con los procesos del Modelo de Operación Digital | D9: 1
C10: D6. Falta de articulación con la academia en temas ambientales, reflejado en el bajo porcentaje de cobertura del Sistema de Gestión de Ambiental respecto a los estudiantes en relación en relación al porcentaje que representan en la comunidad universitaria. | D10: 1
C11: D7. Falta de articulación de temas ambientales con el Plan de Emergencias Institucional | D11: 1
C12: D8. Falta de recursos disponibles de forma oportuna para el desarrollo y continuidad de actividades del Sistema de Gestión Ambiental. | D12: 1
C13: D9. Falta de recursos para desplazamientos del equipo del Sistema de Gestión Ambiental. | D13: 1
C14: D10. Incumplimiento del código de colores de clasificación de residuos institucional por desconocimiento, falta de conciencia ambiental y compromiso de parte de algunos sectores de la comunidad universitaria y otras partes interesadas, o por no contar con la totalidad de los dispositivos de almacenamiento requeridos. | D14: 1
D15: 1
C16: AMENAZAS
C17: A1. Prácticas ambientales inadecuadas por parte de vecinos de la comunidad circundante a las instalaciones de la Universidad, que puedan afectar su desempeño ambiental. | D17: 1
C18: A2. Afectación en el desarrollo de actividades presenciales o virtuales, internas y externas del SGA, debido al riesgo de contagio por virus que puedan alcanzar el nivel de pandemia | D18: 1
C19: A3. Falta de alcance en servicios públicos o de comunicación, y condiciones específicas de la infraestructura de algunas sedes. | D19: 1
C20: A4. Falta de participación de las partes interesadas externas en las actividades del Sistema de Gestión Ambiental. | D20: 1
C21: A5. Afectación de actividades del Sistema de Gestión ambiental internas o externas), y de recursos, elementos o insumos del Plan Institucional de Gestión Ambiental -PIGA, por alteraciones de orden público como manifestaciones, paros, disturbios y asonadas. | D21: 1
C22: A6. Afectación de fenómenos naturales (Cambio climático, fenómeno del niño y la niña, sismos, incendios, caída de árboles, Vendavales) y antrópicos (Orden publico y manifestaciones estudiantiles) que puedan afectar las instalaciones. | D22: 1
C23: A7. Sanciones o multas por incumplimiento legal | D23: 1
C24: A8. Rotación constante de personal en diferentes procesos | D24: 1
D25: 1
D26: 1
C27: FORTALEZAS
C28: F1.Compromiso de la alta Dirección para apoyar el proceso, reflejado en liderazgo de Directores Administrativos y del Rector.​ | D28: 1
C29: F2. Articulación del Sistema de Gestión Ambiental a nivel institucional en Sede, Seccionales y Extensiones. | D29: 1
C30: F3. Equipo de profesionales del Sistema de Gestión Ambiental con competencia y actitud propositiva en el proceso de planeación, implementación, seguimiento y preparación para los procesos de auditoría del SGA. | D30: 1
C31: F4. Disponibilidad de la documentación del Sistema de Gestión ambiental en el sitio web del Modelo de Operación digital, en el marco del PHVA: Caracterización, Política y Objetivos de Gestión Ambiental, Plan Institucional de Gestión Ambiental - PIGA y programas ambientales, Procedimientos, Formatos, Matrices y otros registros SGA. | D31: 1
C32: F5.Asignación de rubro para implementación y certificación del Sistema de Gestión Ambiental_ISO 14001:2015 a través del Proyecto UCundinamarca en Equilibrio con la Naturaleza. | D32: 1
C33: F6.Fortalecimiento de la cultura ambiental a nivel institucional a través del #Reto Ambientalmente en equilibrio con la naturaleza, eventos y capacitaciones ambientales. | D33: 1
C34: F7.Divulgación de la Gestión ambiental con la comunidad universitaria y otras partes interesadas a través de publicaciones y eventos en canales institucionales como la página web, la agencia de noticias, redes sociales, revistas digitales de las Seccionales, Extensiones y Periódico digital institucional. | D34: 1
C35: F8. Implementación del código de colores de clasificación de residuos con la instalación gradual de Unidades Técnicas de Almacenamiento Central -UTAC- y Puntos ecológicos en Sede, Seccionales y Extensiones. | D35: 1
C36: F9. Implementación de estrategias de sostenibilidad en la Sede, Seccionales y Extensiones, mediante la instalación de dispositivos de ahorro de agua y de energía como paneles fotovoltaicos e iluminación LED. | D36: 1
C37: F10.Articulación con los demás componentes del Sistema Integrado de Gestión como: SG SST, SGSI, SGC y con las diferentes procesos y dependencias. | D37: 1
C38: F11. Proceso de Medición de Huella de Carbono y reporte internacional de sostenibilidad GRI en articulación con Interacción Social Universitaria y diferentes dependencias relacionadas. | D38: 1
C39: F12. Articulación del Sistema de Gestión Ambiental como parte del proceso de formación para la vida de la comunidad universitaria, desde la dimensión naturaleza del Modelo de Educación Digital Transmoderno -MEDIT. | D39: 1
... C42: F15. Disponibilidad de canales institucionales para la comunicación de solicitudes, felicitaciones | D42: 1
C45: OPORTUNIDADES
C46: O1. Fortalecer la articulación del Sistema de Gestión ambiental, con las partes interesadas Internas y Externas de forma translocal a través de la cultura ambiental. | D46: 1
...

Sheet Matriz Calor Inherente
D2: Escuela Tecnológica Instituto Técnico Central Establecimiento Público de Educación Superior | L2: MAPA DE RIESGOS | AP2: CÓDIGO: GDC-FO-09
AP3: VERSIÓN: 9
AP4: VIGENCIA: 2026-04-28 | AQ4: VIGENCIA: 2024-08-22
AP5: PÁGINA: 1 de 1 | AQ5: PÁGINA: 1 de 1
D7: Matriz de Calor Inherente | L7: Impacto
A8: REGRESAR
D11: Probabilidad | G11: Muy Alta 100% | N11: =IF(AND('Mapa final'!$K$15="Muy Alta",'Mapa final'!$O$15="Leve"),CONCATENATE("R",'Mapa final'!#REF!),"") | P11: =IF(AND('Mapa final'!#REF!="Muy Alta",'Mapa final'!#REF!="Leve"),CONCATENATE("R",'Mapa final'!#REF!),"") -> #REF! | T11: =IF(AND('Mapa final'!$P$15="Muy Alta",'Mapa final'!$S$15="Menor"),CONCATENATE("R",'Mapa final'!#REF!),"") | V11: =IF(AND('Mapa final'!#REF!="Muy Alta",'Mapa final'!#REF!="Menor"),CONCATENATE("R",'Mapa final'!#REF!),"") -> #REF! | Z11: =IF(AND('Mapa final'!P$15="Muy Alta",'Mapa final'!$S$15="Moderado"),CONCATENATE("R",'Mapa final'!#REF!),"") | AB11: =IF(AND('Mapa final'!#REF!="Muy Alta",'Mapa final'!#REF!="Moderado"),CONCATENATE("R",'Mapa final'!#REF!),"") -> #REF! | AF11: =IF(AND('Mapa final'!$P$15="Muy Alta",'Mapa final'!$S$15="Mayor"),CONCATENATE("R",'Mapa final'!#REF!),"") | AH11: =IF(AND('Mapa final'!#REF!="Muy Alta",'Mapa final'!#REF!="Mayor"),CONCATENATE("R",'Mapa final'!#REF!),"") -> #REF! | AL11: =IF(AND('Mapa final'!$P$15="Muy Alta",'Mapa final'!$S$15="Catastrófico"),CONCATENATE("R",'Mapa final'!#REF!),"") | AN11: =IF(AND('Mapa final'!#REF!="Muy Alta",'Mapa final'!#REF!="Catastrófico"),CONCATENATE("R",'Mapa final'!#REF!),"") -> #REF! | AQ11: Extremo
L13: =IF(AND('Mapa final'!#REF!="Muy Alta",'Mapa final'!#REF!="Leve"),CONCATENATE("R",'Mapa final'!#REF!),"") -> #REF! | N13: =IF(AND('Mapa final'!#REF!="Muy Alta",'Mapa final'!#REF!="Leve"),CONCATENATE("R",'Mapa final'!#REF!),"") -> #REF! | P13: =IF(AND('Mapa final'!#REF!="Muy Alta",'Mapa final'!#REF!="Leve"),CONCATENATE("R",'Mapa final'!#REF!),"") -> #REF! | R13: =IF(AND('Mapa final'!#REF!="Muy Alta",'Mapa final'!#REF!="Menor"),CONCATENATE("R",'Mapa final'!#REF!),"") -> #REF! | T13: =IF(AND('Mapa final'!#REF!="Muy Alta",'Mapa final'!#REF!="Menor"),CONCATENATE("R",'Mapa final'!#REF!),"") -> #REF! | V13: =IF(AND('Mapa final'!#REF!="Muy Alta",'Mapa final'!#REF!="Menor"),CONCATENATE("R",'Mapa final'!#REF!),"") -> #REF! | X13: =IF(AND('Mapa final'!#REF!="Muy Alta",'Mapa final'!#REF!="Moderado"),CONCATENATE("R",'Mapa final'!#REF!),"") -> #REF! | Z13: =IF(AND('Mapa final'!#REF!="Muy Alta",'Mapa final'!#REF!="Moderado"),CONCATENATE("R",'Mapa final'!#REF!),"") -> #REF! | AB13: =IF(AND('Mapa final'!#REF!="Muy Alta",'Mapa final'!#REF!="Moderado"),CONCATENATE("R",'Mapa final'!#REF!),"") -> #REF! | AD13: =IF(AND('Mapa final'!#REF!="Muy Alta",'Mapa final'!#REF!="Mayor"),CONCATENATE("R",'Mapa final'!#REF!),"") -> #REF! | AF13: =IF(AND('Mapa final'!#REF!="Muy Alta",'Mapa final'!#REF!="Mayor"),CONCATENATE("R",'Mapa final'!#REF!),"") -> #REF! | AH13: =IF(AND('Mapa final'!#REF!="Muy Alta",'Mapa final'!#REF!="Mayor"),CONCATENATE("R",'Mapa final'!#REF!),"") -> #REF! | AJ13: =IF(AND('Mapa final'!#REF!="Muy Alta",'Mapa final'!#REF!="Catastrófico"),CONCATENATE("R",'Mapa final'!#REF!),"") -> #REF! | AL13: =IF(AND('Mapa final'!#REF!="Muy Alta",'Mapa final'!#REF!="Catastrófico"),CONCATENATE("R",'Mapa final'!#REF!),"") -> #REF! | AN13: =IF(AND('Mapa final'!#REF!="Muy Alta",'Mapa final'!#REF!="Catastrófico"),CONCATENATE("R",'Mapa final'!#REF!),"") -> #REF!
L15: =IF(AND('Mapa final'!#REF!="Muy Alta",'Mapa final'!#REF!="Leve"),CONCATENATE("R",'Mapa final'!#REF!),"") -> #REF! | N15: =IF(AND('Mapa final'!#REF!="Muy Alta",'Mapa final'!#REF!="Leve"),CONCATENATE("R",'Mapa final'!#REF!),"") -> #REF! | P15: =IF(AND('Mapa final'!$K$22="Muy Alta",'Mapa final'!$O$22="Leve"),CONCATENATE("R",'Mapa final'!$A$22),"") | R15: =IF(AND('Mapa final'!#REF!="Muy Alta",'Mapa final'!#REF!="Menor"),CONCATENATE("R",'Mapa final'!#REF!),"") -> #REF! | T15: =IF(AND('Mapa final'!#REF!="Muy Alta",'Mapa final'!#REF!="Menor"),CONCATENATE("R",'Mapa final'!#REF!),"") -> #REF! | V15: =IF(AND('Mapa final'!$P$22="Muy Alta",'Mapa final'!$S$22="Menor"),CONCATENATE("R",'Mapa final'!$A$22),"") | X15: =IF(AND('Mapa final'!#REF!="Muy Alta",'Mapa final'!#REF!="Moderado"),CONCATENATE("R",'Mapa final'!#REF!),"") -> #REF! | Z15: =IF(AND('Mapa final'!#REF!="Muy Alta",'Mapa final'!#REF!="Moderado"),CONCATENATE("R",'Mapa final'!#REF!),"") -> #REF! | AB15: =IF(AND('Mapa final'!$P$22="Muy Alta",'Mapa final'!$S$22="Moderado"),CONCATENATE("R",'Mapa final'!$A$22),"") | AD15: =IF(AND('Mapa final'!#REF!="Muy Alta",'Mapa final'!#REF!="Mayor"),CONCATENATE("R",'Mapa final'!#REF!),"") -> #REF! | AF15: =IF(AND('Mapa final'!#REF!="Muy Alta",'Mapa final'!#REF!="Mayor"),CONCATENATE("R",'Mapa final'!#REF!),"") -> #REF! | AH15: =IF(AND('Mapa final'!$P$22="Muy Alta",'Mapa final'!$S$22="Mayor"),CONCATENATE("R",'Mapa final'!$A$22),"") | AJ15: =IF(AND('Mapa final'!#REF!="Muy Alta",'Mapa final'!#REF!="Catastrófico"),CONCATENATE("R",'Mapa final'!#REF!),"") -> #REF! | AL15: =IF(AND('Mapa final'!#REF!="Muy Alta",'Mapa final'!#REF!="Catastrófico"),CONCATENATE("R",'Mapa final'!#REF!),"") -> #REF! | AN15: =IF(AND('Mapa final'!$P$22="Muy Alta",'Mapa final'!$S$22="Catastrófico"),CONCATENATE("R",'Mapa final'!$A$22),"")
L17: =IF(AND('Mapa final'!$P$23="Muy Alta",'Mapa final'!$S$23="Leve"),CONCATENATE("R",'Mapa final'!$A$23),"") | N17: =IF(AND('Mapa final'!$K$24="Muy Alta",'Mapa final'!$O$24="Leve"),CONCATENATE("R",'Mapa final'!$A$24),"") | P17: =IF(AND('Mapa final'!$K$25="Muy Alta",'Mapa final'!$O$25="Leve"),CONCATENATE("R",'Mapa final'!$A$25),"") | R17: =IF(AND('Mapa final'!$P$23="Muy Alta",'Mapa final'!$S$23="Menor"),CONCATENATE("R",'Mapa final'!$A$23),"") | T17: =IF(AND('Mapa final'!$P$24="Muy Alta",'Mapa final'!$S$24="Menor"),CONCATENATE("R",'Mapa final'!$A$24),"") | V17: =IF(AND('Mapa final'!$P$25="Muy Alta",'Mapa final'!$S$25="Menor"),CONCATENATE("R",'Mapa final'!$A$25),"") | X17: =IF(AND('Mapa final'!$P$23="Muy Alta",'Mapa final'!$S$23="Moderado"),CONCATENATE("R",'Mapa final'!$A$23),"") | Z17: =IF(AND('Mapa final'!$P$24="Muy Alta",'Mapa final'!$S$24="Moderado"),CONCATENATE("R",'Mapa final'!$A$24),"") | AB17: =IF(AND('Mapa final'!$P$25="Muy Alta",'Mapa final'!$S$25="Moderado"),CONCATENATE("R",'Mapa final'!$A$25),"") | AD17: =IF(AND('Mapa final'!$P$23="Muy Alta",'Mapa final'!$S$23="Mayor"),CONCATENATE("R",'Mapa final'!$A$23),"") | AF17: =IF(AND('Mapa final'!$P$24="Muy Alta",'Mapa final'!$S$24="Mayor"),CONCATENATE("R",'Mapa final'!$A$24),"") | AH17: =IF(AND('Mapa final'!$P$25="Muy Alta",'Mapa final'!$S$25="Mayor"),CONCATENATE("R",'Mapa final'!$A$25),"") | AJ17: =IF(AND('Mapa final'!$P$23="Muy Alta",'Mapa final'!$S$23="Catastrófico"),CONCATENATE("R",'Mapa final'!$A$23),"") | AL17: =IF(AND('Mapa final'!$P$24="Muy Alta",'Mapa final'!$S$24="Catastrófico"),CONCATENATE("R",'Mapa final'!$A$24),"") | AN17: =IF(AND('Mapa final'!$P$25="Muy Alta",'Mapa final'!$S$25="Catastrófico"),CONCATENATE("R",'Mapa final'!$A$25),"")
G19: Alta 80% | N19: =IF(AND('Mapa final'!$K$15="Alta",'Mapa final'!$O$15="Leve"),CONCATENATE("R",'Mapa final'!#REF!),"") | P19: =IF(AND('Mapa final'!#REF!="Alta",'Mapa final'!#REF!="Leve"),CONCATENATE("R",'Mapa final'!#REF!),"") -> #REF! | T19: =IF(AND('Mapa final'!$P$15="Alta",'Mapa final'!$S$15="Menor"),CONCATENATE("R",'Mapa final'!#REF!),"") | V19: =IF(AND('Mapa final'!#REF!="Alta",'Mapa final'!#REF!="Menor"),CONCATENATE("R",'Mapa final'!#REF!),"") -> #REF! | Z19: =IF(AND('Mapa final'!P$15="Alta",'Mapa final'!$S$15="Moderado"),CONCATENATE("R",'Mapa final'!#REF!),"") | AB19: =IF(AND('Mapa final'!#REF!="Alta",'Mapa final'!#REF!="Moderado"),CONCATENATE("R",'Mapa final'!#REF!),"") -> #REF! | AF19: =IF(AND('Mapa final'!$P$15="Alta",'Mapa final'!$S$15="Mayor"),CONCATENATE("R",'Mapa final'!#REF!),"") | AH19: =IF(AND('Mapa final'!#REF!="Alta",'Mapa final'!#REF!="Mayor"),CONCATENATE("R",'Mapa final'!#REF!),"") -> #REF! | AL19: =IF(AND('Mapa final'!$P$15="Alta",'Mapa final'!$S$15="Catastrófico"),CONCATENATE("R",'Mapa final'!#REF!),"") | AN19: =IF(AND('Mapa final'!#REF!="Alta",'Mapa final'!#REF!="Catastrófico"),CONCATENATE("R",'Mapa final'!#REF!),"") -> #REF! | AQ19: Alto
L21: =IF(AND('Mapa final'!#REF!="Alta",'Mapa final'!#REF!="Leve"),CONCATENATE("R",'Mapa final'!#REF!),"") -> #REF! | N21: =IF(AND('Mapa final'!#REF!="Alta",'Mapa final'!#REF!="Leve"),CONCATENATE("R",'Mapa final'!#REF!),"") -> #REF! | P21: =IF(AND('Mapa final'!#REF!="Alta",'Mapa final'!#REF!="Leve"),CONCATENATE("R",'Mapa final'!#REF!),"") -> #REF! | R21: =IF(AND('Mapa final'!#REF!="Alta",'Mapa final'!#REF!="Menor"),CONCATENATE("R",'Mapa final'!#REF!),"") -> #REF! | T21: =IF(AND('Mapa final'!#REF!="Alta",'Mapa final'!#REF!="Menor"),CONCATENATE("R",'Mapa final'!#REF!),"") -> #REF! | V21: =IF(AND('Mapa final'!#REF!="Alta",'Mapa final'!#REF!="Menor"),CONCATENATE("R",'Mapa final'!#REF!),"") -> #REF! | X21: =IF(AND('Mapa final'!#REF!="Alta",'Mapa final'!#REF!="Moderado"),CONCATENATE("R",'Mapa final'!#REF!),"") -> #REF! | Z21: =IF(AND('Mapa final'!#REF!="Alta",'Mapa final'!#REF!="Moderado"),CONCATENATE("R",'Mapa final'!#REF!),"") -> #REF! | AB21: =IF(AND('Mapa final'!#REF!="Alta",'Mapa final'!#REF!="Moderado"),CONCATENATE("R",'Mapa final'!#REF!),"") -> #REF! | AD21: =IF(AND('Mapa final'!#REF!="Alta",'Mapa final'!#REF!="Mayor"),CONCATENATE("R",'Mapa final'!#REF!),"") -> #REF! | AF21: =IF(AND('Mapa final'!#REF!="Alta",'Mapa final'!#REF!="Mayor"),CONCATENATE("R",'Mapa final'!#REF!),"") -> #REF! | AH21: =IF(AND('Mapa final'!#REF!="Alta",'Mapa final'!#REF!="Mayor"),CONCATENATE("R",'Mapa final'!#REF!),"") -> #REF! | AJ21: =IF(AND('Mapa final'!#REF!="Alta",'Mapa final'!#REF!="Catastrófico"),CONCATENATE("R",'Mapa final'!#REF!),"") -> #REF! | AL21: =IF(AND('Mapa final'!#REF!="Alta",'Mapa final'!#REF!="Catastrófico"),CONCATENATE("R",'Mapa final'!#REF!),"") -> #REF! | AN21: =IF(AND('Mapa final'!#REF!="Alta",'Mapa final'!#REF!="Catastrófico"),CONCATENATE("R",'Mapa final'!#REF!),"") -> #REF!
L23: =IF(AND('Mapa final'!#REF!="Alta",'Mapa final'!#REF!="Leve"),CONCATENATE("R",'Mapa final'!#REF!),"") -> #REF! | N23: =IF(AND('Mapa final'!#REF!="Alta",'Mapa final'!#REF!="Leve"),CONCATENATE("R",'Mapa final'!#REF!),"") -> #REF! | P23: =IF(AND('Mapa final'!$K$22="Alta",'Mapa final'!$O$22="Leve"),CONCATENATE("R",'Mapa final'!$A$22),"") | R23: =IF(AND('Mapa final'!#REF!="Alta",'Mapa final'!#REF!="Menor"),CONCATENATE("R",'Mapa final'!#REF!),"") -> #REF! | T23: =IF(AND('Mapa final'!#REF!="Alta",'Mapa final'!#REF!="Menor"),CONCATENATE("R",'Mapa final'!#REF!),"") -> #REF! | V23: =IF(AND('Mapa final'!$P$22="Alta",'Mapa final'!$S$22="Menor"),CONCATENATE("R",'Mapa final'!$A$22),"") | X23: =IF(AND('Mapa final'!#REF!="Alta",'Mapa final'!#REF!="Moderado"),CONCATENATE("R",'Mapa final'!#REF!),"") -> #REF! | Z23: =IF(AND('Mapa final'!#REF!="Alta",'Mapa final'!#REF!="Moderado"),CONCATENATE("R",'Mapa final'!#REF!),"") -> #REF! | AB23: =IF(AND('Mapa final'!$P$22="Alta",'Mapa final'!$S$22="Moderado"),CONCATENATE("R",'Mapa final'!$A$22),"") | AD23: =IF(AND('Mapa final'!#REF!="Alta",'Mapa final'!#REF!="Mayor"),CONCATENATE("R",'Mapa final'!#REF!),"") -> #REF! | AF23: =IF(AND('Mapa final'!#REF!="Alta",'Mapa final'!#REF!="Mayor"),CONCATENATE("R",'Mapa final'!#REF!),"") -> #REF! | AH23: =IF(AND('Mapa final'!$P$22="Alta",'Mapa final'!$S$22="Mayor"),CONCATENATE("R",'Mapa final'!$A$22),"") | AJ23: =IF(AND('Mapa final'!#REF!="Alta",'Mapa final'!#REF!="Catastrófico"),CONCATENATE("R",'Mapa final'!#REF!),"") -> #REF! | AL23: =IF(AND('Mapa final'!#REF!="Alta",'Mapa final'!#REF!="Catastrófico"),CONCATENATE("R",'Mapa final'!#REF!),"") -> #REF! | AN23: =IF(AND('Mapa final'!$P$22="Alta",'Mapa final'!$S$22="Catastrófico"),CONCATENATE("R",'Mapa final'!$A$22),"")
L25: =IF(AND('Mapa final'!$P$23="Alta",'Mapa final'!$S$23="Leve"),CONCATENATE("R",'Mapa final'!$A$23),"") | N25: =IF(AND('Mapa final'!$K$24="Alta",'Mapa final'!$O$24="Leve"),CONCATENATE("R",'Mapa final'!$A$24),"") | P25: =IF(AND('Mapa final'!$K$25="Alta",'Mapa final'!$O$25="Leve"),CONCATENATE("R",'Mapa final'!$A$25),"") | R25: =IF(AND('Mapa final'!$P$23="Alta",'Mapa final'!$S$23="Menor"),CONCATENATE("R",'Mapa final'!$A$23),"") | T25: =IF(AND('Mapa final'!$P$24="Alta",'Mapa final'!$S$24="Menor"),CONCATENATE("R",'Mapa final'!$A$24),"") | V25: =IF(AND('Mapa final'!$P$25="Alta",'Mapa final'!$S$25="Menor"),CONCATENATE("R",'Mapa final'!$A$25),"") | X25: =IF(AND('Mapa final'!$P$23="Alta",'Mapa final'!$S$23="Moderado"),CONCATENATE("R",'Mapa final'!$A$23),"") | Z25: =IF(AND('Mapa final'!$P$24="Alta",'Mapa final'!$S$24="Moderado"),CONCATENATE("R",'Mapa final'!$A$24),"") | AB25: =IF(AND('Mapa final'!$P$25="Alta",'Mapa final'!$S$25="Moderado"),CONCATENATE("R",'Mapa final'!$A$25),"") | AD25: =IF(AND('Mapa final'!$P$23="Alta",'Mapa final'!$S$23="Mayor"),CONCATENATE("R",'Mapa final'!$A$23),"") | AF25: =IF(AND('Mapa final'!$P$24="Alta",'Mapa final'!$S$24="Mayor"),CONCATENATE("R",'Mapa final'!$A$24),"") | AH25: =IF(AND('Mapa final'!$P$25="Alta",'Mapa final'!$S$25="Mayor"),CONCATENATE("R",'Mapa final'!$A$25),"") | AJ25: =IF(AND('Mapa final'!$P$23="Alta",'Mapa final'!$S$23="Catastrófico"),CONCATENATE("R",'Mapa final'!$A$23),"") | AL25: =IF(AND('Mapa final'!$P$24="Alta",'Mapa final'!$S$24="Catastrófico"),CONCATENATE("R",'Mapa final'!$A$24),"") | AN25: =IF(AND('Mapa final'!$P$25="Alta",'Mapa final'!$S$25="Catastrófico"),CONCATENATE("R",'Mapa final'!$A$25),"")
G27: Media 60% | N27: =IF(AND('Mapa final'!$K$15="Media",'Mapa final'!$O$15="Leve"),CONCATENATE("R",'Mapa final'!#REF!),"") | P27: =IF(AND('Mapa final'!#REF!="Media",'Mapa final'!#REF!="Leve"),CONCATENATE("R",'Mapa final'!#REF!),"") -> #REF! | T27: =IF(AND('Mapa final'!$P$15="Media",'Mapa final'!$S$15="Menor"),CONCATENATE("R",'Mapa final'!#REF!),"") | V27: =IF(AND('Mapa final'!#REF!="Media",'Mapa final'!#REF!="Menor"),CONCATENATE("R",'Mapa final'!#REF!),"") -> #REF! | Z27: =IF(AND('Mapa final'!P$15="Media",'Mapa final'!$S$15="Moderado"),CONCATENATE("R",'Mapa final'!#REF!),"") -> #REF! | AB27: =IF(AND('Mapa final'!#REF!="Media",'Mapa final'!#REF!="Moderado"),CONCATENATE("R",'Mapa final'!#REF!),"") -> #REF! | AF27: =IF(AND('Mapa final'!$P$15="Media",'Mapa final'!$S$15="Mayor"),CONCATENATE("R",'Mapa final'!#REF!),"") | AH27: =IF(AND('Mapa final'!#REF!="Media",'Mapa final'!#REF!="Mayor"),CONCATENATE("R",'Mapa final'!#REF!),"") -> #REF! | AL27: =IF(AND('Mapa final'!$P$15="Media",'Mapa final'!$S$15="Catastrófico"),CONCATENATE("R",'Mapa final'!#REF!),"") | AN27: =IF(AND('Mapa final'!#REF!="Media",'Mapa final'!#REF!="Catastrófico"),CONCATENATE("R",'Mapa final'!#REF!),"") -> #REF! | AQ27: Moderado
L29: =IF(AND('Mapa final'!#REF!="Media",'Mapa final'!#REF!="Leve"),CONCATENATE("R",'Mapa final'!#REF!),"") -> #REF! | N29: =IF(AND('Mapa final'!#REF!="Media",'Mapa final'!#REF!="Leve"),CONCATENATE("R",'Mapa final'!#REF!),"") -> #REF! | P29: =IF(AND('Mapa final'!#REF!="Media",'Mapa final'!#REF!="Leve"),CONCATENATE("R",'Mapa final'!#REF!),"") -> #REF! | R29: =IF(AND('Mapa final'!#REF!="Media",'Mapa final'!#REF!="Menor"),CONCATENATE("R",'Mapa final'!#REF!),"") -> #REF! | T29: =IF(AND('Mapa final'!#REF!="Media",'Mapa final'!#REF!="Menor"),CONCATENATE("R",'Mapa final'!#REF!),"") -> #REF! | V29: =IF(AND('Mapa final'!#REF!="Media",'Mapa final'!#REF!="Menor"),CONCATENATE("R",'Mapa final'!#REF!),"") -> #REF! | X29: =IF(AND('Mapa final'!#REF!="Media",'Mapa final'!#REF!="Moderado"),CONCATENATE("R",'Mapa final'!#REF!),"") -> #REF! | Z29: =IF(AND('Mapa final'!#REF!="Media",'Mapa final'!#REF!="Moderado"),CONCATENATE("R",'Mapa final'!#REF!),"") -> #REF! | AB29: =IF(AND('Mapa final'!#REF!="Media",'Mapa final'!#REF!="Moderado"),CONCATENATE("R",'Mapa final'!#REF!),"") -> #REF! | AD29: =IF(AND('Mapa final'!#REF!="Media",'Mapa final'!#REF!="Mayor"),CONCATENATE("R",'Mapa final'!#REF!),"") -> #REF! | AF29: =IF(AND('Mapa final'!#REF!="Media",'Mapa final'!#REF!="Mayor"),CONCATENATE("R",'Mapa final'!#REF!),"") -> #REF! | AH29: =IF(AND('Mapa final'!#REF!="Media",'Mapa final'!#REF!="Mayor"),CONCATENATE("R",'Mapa final'!#REF!),"") -> #REF! | AJ29: =IF(AND('Mapa final'!#REF!="Media",'Mapa final'!#REF!="Catastrófico"),CONCATENATE("R",'Mapa final'!#REF!),"") -> #REF! | AL29: =IF(AND('Mapa final'!#REF!="Media",'Mapa final'!#REF!="Catastrófico"),CONCATENATE("R",'Mapa final'!#REF!),"") -> #REF! | AN29: =IF(AND('Mapa final'!#REF!="Media",'Mapa final'!#REF!="Catastrófico"),CONCATENATE("R",'Mapa final'!#REF!),"") -> #REF!
